BEGIN:VCALENDAR
VERSION:2.0
PRODID:-//Mental Health Association of Fayette County - Home of the Advocacy Network - ECPv6.15.16//NONSGML v1.0//EN
CALSCALE:GREGORIAN
METHOD:PUBLISH
X-WR-CALNAME:Mental Health Association of Fayette County - Home of the Advocacy Network
X-ORIGINAL-URL:https://www.mhafayette.org
X-WR-CALDESC:Events for Mental Health Association of Fayette County - Home of the Advocacy Network
REFRESH-INTERVAL;VALUE=DURATION:PT1H
X-Robots-Tag:noindex
X-PUBLISHED-TTL:PT1H
BEGIN:VTIMEZONE
TZID:UTC
BEGIN:STANDARD
TZOFFSETFROM:+0000
TZOFFSETTO:+0000
TZNAME:UTC
DTSTART:20200101T000000
END:STANDARD
END:VTIMEZONE
BEGIN:VEVENT
DTSTART;TZID=UTC:20210503T130000
DTEND;TZID=UTC:20210503T140000
DTSTAMP:20260424T185828
CREATED:20210423T143442Z
LAST-MODIFIED:20210423T143442Z
UID:2377-1620046800-1620050400@www.mhafayette.org
SUMMARY:Motivational In May Series: Reframing Adversity
DESCRIPTION:Oleg is a national motivational speaker who has traveled throughout the US sharing his story and ways to overcome adversity.\n\n\n\n\n\nAbout this Event\n\n\nOleg is a 27-year old adoptee who came to Ann Arbor\, MI from Russia when he was 12 years old. \nHe has been blessed with a great family and education. With this experience\, and his understanding of the psychological struggles of trauma\, he is paying it forward through his non-profit organization\, Overcoming Odds. \n“In my opinion\, considering the adverse or unfavorable times we’re experiencing\, this message of self-efficacy\, optimism\, resilience and hope is needed more than ever before.” -Oleg Lougheed \nFor the past two years\, he has been traveling across the United States\, speaking on Overcoming Adversity. He will be introducing you to practices/strategies that have helped him: \n• Learn How to Reframe Adversity Into Opportunity \n• Increase Self-Awareness \n• Expand/Develop Different Perspectives \n• Identify Purpose/Meaning \n 
URL:https://www.mhafayette.org/event/motivational-in-may-series-reframing-adversity/
LOCATION:Online
CATEGORIES:Community Events
END:VEVENT
END:VCALENDAR