BEGIN:VCALENDAR
VERSION:2.0
PRODID:-//Mental Health Association of Fayette County - Home of the Advocacy Network - ECPv6.15.16//NONSGML v1.0//EN
CALSCALE:GREGORIAN
METHOD:PUBLISH
X-ORIGINAL-URL:https://www.mhafayette.org
X-WR-CALDESC:Events for Mental Health Association of Fayette County - Home of the Advocacy Network
REFRESH-INTERVAL;VALUE=DURATION:PT1H
X-Robots-Tag:noindex
X-PUBLISHED-TTL:PT1H
BEGIN:VTIMEZONE
TZID:UTC
BEGIN:STANDARD
TZOFFSETFROM:+0000
TZOFFSETTO:+0000
TZNAME:UTC
DTSTART:20210101T000000
END:STANDARD
END:VTIMEZONE
BEGIN:VEVENT
DTSTART;VALUE=DATE:20220702
DTEND;VALUE=DATE:20220703
DTSTAMP:20260423T094609
CREATED:20220107T141825Z
LAST-MODIFIED:20220107T141825Z
UID:2557-1656720000-1656806399@www.mhafayette.org
SUMMARY:DROP-IN CLOSED: Independence Day Observance
DESCRIPTION:The Oak House Drop-In Center will be closed Saturday\, July 2nd\, 2022 in observance of Independence Day. Operations will resume on Tuesday\, July 5\, 2022 at 8:00 AM
URL:https://www.mhafayette.org/event/dic-independenceday2022/
CATEGORIES:MHA Events
END:VEVENT
END:VCALENDAR