BEGIN:VCALENDAR
VERSION:2.0
PRODID:-//Mental Health Association of Fayette County - Home of the Advocacy Network - ECPv6.15.16//NONSGML v1.0//EN
CALSCALE:GREGORIAN
METHOD:PUBLISH
X-ORIGINAL-URL:https://www.mhafayette.org
X-WR-CALDESC:Events for Mental Health Association of Fayette County - Home of the Advocacy Network
REFRESH-INTERVAL;VALUE=DURATION:PT1H
X-Robots-Tag:noindex
X-PUBLISHED-TTL:PT1H
BEGIN:VTIMEZONE
TZID:UTC
BEGIN:STANDARD
TZOFFSETFROM:+0000
TZOFFSETTO:+0000
TZNAME:UTC
DTSTART:20200101T000000
END:STANDARD
END:VTIMEZONE
BEGIN:VEVENT
DTSTART;VALUE=DATE:20211124
DTEND;VALUE=DATE:20211128
DTSTAMP:20260423T220807
CREATED:20210112T201332Z
LAST-MODIFIED:20210112T201332Z
UID:2245-1637712000-1638057599@www.mhafayette.org
SUMMARY:Oak House Drop-In Center CLOSED
DESCRIPTION:The Oak House Drop-In Center will be CLOSED from Wednesday\, November 24\, 2021 to Saturday\, November 27\, 2021 for the Observance of the Thanksgiving Holiday . Operations at Oak House will resume on Tuesday\, November 30th.
URL:https://www.mhafayette.org/event/closing-2021-thanksgiving-dic/
LOCATION:Oak House Drop-In Center\, 680 Cherry Tree Lane\, Uniontown\, PA\, 15401\, United States
CATEGORIES:MHA Events
END:VEVENT
END:VCALENDAR