BEGIN:VCALENDAR
VERSION:2.0
PRODID:-//Mental Health Association of Fayette County - Home of the Advocacy Network - ECPv6.15.16//NONSGML v1.0//EN
CALSCALE:GREGORIAN
METHOD:PUBLISH
X-WR-CALNAME:Mental Health Association of Fayette County - Home of the Advocacy Network
X-ORIGINAL-URL:https://www.mhafayette.org
X-WR-CALDESC:Events for Mental Health Association of Fayette County - Home of the Advocacy Network
REFRESH-INTERVAL;VALUE=DURATION:PT1H
X-Robots-Tag:noindex
X-PUBLISHED-TTL:PT1H
BEGIN:VTIMEZONE
TZID:UTC
BEGIN:STANDARD
TZOFFSETFROM:+0000
TZOFFSETTO:+0000
TZNAME:UTC
DTSTART:20210101T000000
END:STANDARD
END:VTIMEZONE
BEGIN:VEVENT
DTSTART;VALUE=DATE:20221222
DTEND;VALUE=DATE:20221225
DTSTAMP:20260423T021817
CREATED:20220107T144157Z
LAST-MODIFIED:20220926T134534Z
UID:2569-1671667200-1671926399@www.mhafayette.org
SUMMARY:OFFICE/DROP-IN CLOSED: Christmas
DESCRIPTION:The Mental Health Association and Oak House Drop-In Center will be closed from Thursday\, December 22nd to Tuesday\, December 27th in observance of Christmas.
URL:https://www.mhafayette.org/event/christmas-2022-1/
CATEGORIES:Advocacy Calendar,MHA Events
ORGANIZER;CN="Mental Health Association In Fayette County":MAILTO:info@mhafayette.org
END:VEVENT
BEGIN:VEVENT
DTSTART;VALUE=DATE:20221224
DTEND;VALUE=DATE:20221225
DTSTAMP:20260423T021817
CREATED:20220107T150325Z
LAST-MODIFIED:20220107T150325Z
UID:2576-1671840000-1671926399@www.mhafayette.org
SUMMARY:DROP-IN Closed: Christmas Eve
DESCRIPTION:The Mental Health Association and Oak House Drop-In Center will be closed from Thursday\, December 22nd to Tuesday\, December 27th in observance of Christmas. Operations will resume on Wednesday\, November 30th at 8:00 AM for the MHA Offices and the Oak House
URL:https://www.mhafayette.org/event/christmaseve2022/
CATEGORIES:MHA Events
END:VEVENT
BEGIN:VEVENT
DTSTART;VALUE=DATE:20221226
DTEND;VALUE=DATE:20221227
DTSTAMP:20260423T021817
CREATED:20220107T145853Z
LAST-MODIFIED:20220107T145940Z
UID:2571-1672012800-1672099199@www.mhafayette.org
SUMMARY:OFFICE CLOSED: Christmas
DESCRIPTION:The Mental Health Association and Oak House Drop-In Center will be closed from Thursday\, December 22nd to Tuesday\, December 27th in observance of Christmas. Operations will resume on Wednesday\, November 30th at 8:00 AM for the MHA Offices and the Oak House
URL:https://www.mhafayette.org/event/christmas-2022-2/
ORGANIZER;CN="Mental Health Association In Fayette County":MAILTO:info@mhafayette.org
END:VEVENT
BEGIN:VEVENT
DTSTART;VALUE=DATE:20221227
DTEND;VALUE=DATE:20221228
DTSTAMP:20260423T021817
CREATED:20220107T150128Z
LAST-MODIFIED:20220107T150128Z
UID:2574-1672099200-1672185599@www.mhafayette.org
SUMMARY:OFFICE/DROP-IN CLOSED: Christmas
DESCRIPTION:The Mental Health Association and Oak House Drop-In Center will be closed from Thursday\, December 22nd to Tuesday\, December 27th in observance of Christmas. Operations will resume on Wednesday\, November 30th at 8:00 AM for the MHA Offices and the Oak House
URL:https://www.mhafayette.org/event/christmas2022-3/
CATEGORIES:MHA Events
ORGANIZER;CN="Mental Health Association In Fayette County":MAILTO:info@mhafayette.org
END:VEVENT
BEGIN:VEVENT
DTSTART;VALUE=DATE:20221231
DTEND;VALUE=DATE:20230101
DTSTAMP:20260423T021817
CREATED:20220107T155112Z
LAST-MODIFIED:20220926T134611Z
UID:2578-1672444800-1672531199@www.mhafayette.org
SUMMARY:DROP-IN CLOSED: New Years Eve
DESCRIPTION:The Oak House Drop-In Center will be closed Saturday\, December 31st in observance of New Year’s Eve. Operations will resume on Monday\, January 2\, 2023 at 8:00 AM
URL:https://www.mhafayette.org/event/nye20222/
CATEGORIES:MHA Events
END:VEVENT
END:VCALENDAR