BEGIN:VCALENDAR
VERSION:2.0
PRODID:-//Mental Health Association of Fayette County - Home of the Advocacy Network - ECPv6.15.16//NONSGML v1.0//EN
CALSCALE:GREGORIAN
METHOD:PUBLISH
X-WR-CALNAME:Mental Health Association of Fayette County - Home of the Advocacy Network
X-ORIGINAL-URL:https://www.mhafayette.org
X-WR-CALDESC:Events for Mental Health Association of Fayette County - Home of the Advocacy Network
REFRESH-INTERVAL;VALUE=DURATION:PT1H
X-Robots-Tag:noindex
X-PUBLISHED-TTL:PT1H
BEGIN:VTIMEZONE
TZID:UTC
BEGIN:STANDARD
TZOFFSETFROM:+0000
TZOFFSETTO:+0000
TZNAME:UTC
DTSTART:20200101T000000
END:STANDARD
END:VTIMEZONE
BEGIN:VEVENT
DTSTART;VALUE=DATE:20210101
DTEND;VALUE=DATE:20210102
DTSTAMP:20260425T000153
CREATED:20210112T192321Z
LAST-MODIFIED:20210112T192321Z
UID:2225-1609459200-1609545599@www.mhafayette.org
SUMMARY:MHA Office / Oak House Drop-In Center CLOSED
DESCRIPTION:The MHA Office and Oak House Drop-In Center will be closed on Friday\, January 1\, 2021 for the New Year’s Day Holiday Operations at the MHA Office will resume on Monday\, January 4. 2021
URL:https://www.mhafayette.org/event/closing20210101/
LOCATION:Mental Health Association In Fayette County\, 680 Cherry Tree Lane\, Uniontown\, PA\, 15401\, United States
CATEGORIES:Advocacy Calendar,MHA Events
ORGANIZER;CN="Mental Health Association In Fayette County":MAILTO:info@mhafayette.org
END:VEVENT
END:VCALENDAR