BEGIN:VCALENDAR
VERSION:2.0
PRODID:-//Mental Health Association of Fayette County - Home of the Advocacy Network - ECPv6.15.16//NONSGML v1.0//EN
CALSCALE:GREGORIAN
METHOD:PUBLISH
X-ORIGINAL-URL:https://www.mhafayette.org
X-WR-CALDESC:Events for Mental Health Association of Fayette County - Home of the Advocacy Network
REFRESH-INTERVAL;VALUE=DURATION:PT1H
X-Robots-Tag:noindex
X-PUBLISHED-TTL:PT1H
BEGIN:VTIMEZONE
TZID:UTC
BEGIN:STANDARD
TZOFFSETFROM:+0000
TZOFFSETTO:+0000
TZNAME:UTC
DTSTART:20250101T000000
END:STANDARD
END:VTIMEZONE
BEGIN:VEVENT
DTSTART;TZID=UTC:20260420T110000
DTEND;TZID=UTC:20260420T120000
DTSTAMP:20260420T075953
CREATED:20251219T160535Z
LAST-MODIFIED:20251219T160535Z
UID:3724-1776682800-1776686400@www.mhafayette.org
SUMMARY:NAMI Connection
DESCRIPTION:
URL:https://www.mhafayette.org/event/nami20260420/
LOCATION:Mental Health Association In Fayette County\, 680 Cherry Tree Lane\, Uniontown\, PA\, 15401\, United States
CATEGORIES:Advocacy Calendar,MHA Events
ORGANIZER;CN="NAMI of Fayette County":MAILTO:rjm.utown@gmail.com
END:VEVENT
BEGIN:VEVENT
DTSTART;TZID=UTC:20260504T110000
DTEND;TZID=UTC:20260504T120000
DTSTAMP:20260420T075953
CREATED:20251219T160823Z
LAST-MODIFIED:20251219T160823Z
UID:3726-1777892400-1777896000@www.mhafayette.org
SUMMARY:NAMI Connection
DESCRIPTION:
URL:https://www.mhafayette.org/event/nami20260504/
LOCATION:Mental Health Association In Fayette County\, 680 Cherry Tree Lane\, Uniontown\, PA\, 15401\, United States
CATEGORIES:Advocacy Calendar,MHA Events
ORGANIZER;CN="NAMI of Fayette County":MAILTO:rjm.utown@gmail.com
END:VEVENT
BEGIN:VEVENT
DTSTART;TZID=UTC:20260518T110000
DTEND;TZID=UTC:20260518T120000
DTSTAMP:20260420T075953
CREATED:20251219T161146Z
LAST-MODIFIED:20251219T161146Z
UID:3728-1779102000-1779105600@www.mhafayette.org
SUMMARY:NAMI Connection
DESCRIPTION:
URL:https://www.mhafayette.org/event/nami20260518/
LOCATION:Mental Health Association In Fayette County\, 680 Cherry Tree Lane\, Uniontown\, PA\, 15401\, United States
CATEGORIES:Advocacy Calendar,MHA Events
ORGANIZER;CN="NAMI of Fayette County":MAILTO:rjm.utown@gmail.com
END:VEVENT
BEGIN:VEVENT
DTSTART;TZID=UTC:20260601T110000
DTEND;TZID=UTC:20260601T120000
DTSTAMP:20260420T075953
CREATED:20251219T161346Z
LAST-MODIFIED:20251219T161346Z
UID:3730-1780311600-1780315200@www.mhafayette.org
SUMMARY:NAMI Connetion
DESCRIPTION:
URL:https://www.mhafayette.org/event/nami20260601/
LOCATION:Mental Health Association In Fayette County\, 680 Cherry Tree Lane\, Uniontown\, PA\, 15401\, United States
CATEGORIES:Advocacy Calendar,MHA Events
ORGANIZER;CN="NAMI of Fayette County":MAILTO:rjm.utown@gmail.com
END:VEVENT
BEGIN:VEVENT
DTSTART;TZID=UTC:20260615T110000
DTEND;TZID=UTC:20260615T120000
DTSTAMP:20260420T075953
CREATED:20251219T161537Z
LAST-MODIFIED:20251219T161537Z
UID:3732-1781521200-1781524800@www.mhafayette.org
SUMMARY:NAMI Connection
DESCRIPTION:
URL:https://www.mhafayette.org/event/nami20260615/
LOCATION:Mental Health Association In Fayette County\, 680 Cherry Tree Lane\, Uniontown\, PA\, 15401\, United States
CATEGORIES:Advocacy Calendar,MHA Events
ORGANIZER;CN="NAMI of Fayette County":MAILTO:rjm.utown@gmail.com
END:VEVENT
BEGIN:VEVENT
DTSTART;TZID=UTC:20260706T110000
DTEND;TZID=UTC:20260706T120000
DTSTAMP:20260420T075953
CREATED:20251219T161728Z
LAST-MODIFIED:20251219T161728Z
UID:3734-1783335600-1783339200@www.mhafayette.org
SUMMARY:NAMI Connection
DESCRIPTION:
URL:https://www.mhafayette.org/event/nami20260706/
LOCATION:Mental Health Association In Fayette County\, 680 Cherry Tree Lane\, Uniontown\, PA\, 15401\, United States
CATEGORIES:Advocacy Calendar,MHA Events
ORGANIZER;CN="NAMI of Fayette County":MAILTO:rjm.utown@gmail.com
END:VEVENT
BEGIN:VEVENT
DTSTART;TZID=UTC:20260720T110000
DTEND;TZID=UTC:20260720T120000
DTSTAMP:20260420T075953
CREATED:20251219T162008Z
LAST-MODIFIED:20251219T162008Z
UID:3736-1784545200-1784548800@www.mhafayette.org
SUMMARY:NAMI Connection
DESCRIPTION:
URL:https://www.mhafayette.org/event/nami20260720/
LOCATION:Mental Health Association In Fayette County\, 680 Cherry Tree Lane\, Uniontown\, PA\, 15401\, United States
CATEGORIES:Advocacy Calendar,MHA Events
ORGANIZER;CN="NAMI of Fayette County":MAILTO:rjm.utown@gmail.com
END:VEVENT
BEGIN:VEVENT
DTSTART;TZID=UTC:20260803T110000
DTEND;TZID=UTC:20260803T120000
DTSTAMP:20260420T075953
CREATED:20251219T162233Z
LAST-MODIFIED:20251219T162233Z
UID:3738-1785754800-1785758400@www.mhafayette.org
SUMMARY:NAMI Connection
DESCRIPTION:
URL:https://www.mhafayette.org/event/nami20260803/
LOCATION:Mental Health Association In Fayette County\, 680 Cherry Tree Lane\, Uniontown\, PA\, 15401\, United States
CATEGORIES:Advocacy Calendar,MHA Events
ORGANIZER;CN="NAMI of Fayette County":MAILTO:rjm.utown@gmail.com
END:VEVENT
BEGIN:VEVENT
DTSTART;TZID=UTC:20260817T110000
DTEND;TZID=UTC:20260817T120000
DTSTAMP:20260420T075953
CREATED:20251219T162442Z
LAST-MODIFIED:20251219T162442Z
UID:3740-1786964400-1786968000@www.mhafayette.org
SUMMARY:NAMI Connection
DESCRIPTION:
URL:https://www.mhafayette.org/event/nami20260817/
LOCATION:Mental Health Association In Fayette County\, 680 Cherry Tree Lane\, Uniontown\, PA\, 15401\, United States
CATEGORIES:Advocacy Calendar,MHA Events
ORGANIZER;CN="NAMI of Fayette County":MAILTO:rjm.utown@gmail.com
END:VEVENT
BEGIN:VEVENT
DTSTART;TZID=UTC:20260921T110000
DTEND;TZID=UTC:20260921T120000
DTSTAMP:20260420T075953
CREATED:20251219T162710Z
LAST-MODIFIED:20251219T162710Z
UID:3742-1789988400-1789992000@www.mhafayette.org
SUMMARY:NAMI Connection
DESCRIPTION:
URL:https://www.mhafayette.org/event/nami20260921/
LOCATION:Mental Health Association In Fayette County\, 680 Cherry Tree Lane\, Uniontown\, PA\, 15401\, United States
CATEGORIES:Advocacy Calendar,MHA Events
ORGANIZER;CN="NAMI of Fayette County":MAILTO:rjm.utown@gmail.com
END:VEVENT
BEGIN:VEVENT
DTSTART;TZID=UTC:20261005T110000
DTEND;TZID=UTC:20261005T120000
DTSTAMP:20260420T075953
CREATED:20251219T162925Z
LAST-MODIFIED:20251219T162925Z
UID:3744-1791198000-1791201600@www.mhafayette.org
SUMMARY:NAMI Connection
DESCRIPTION:
URL:https://www.mhafayette.org/event/nami20261005/
LOCATION:Mental Health Association In Fayette County\, 680 Cherry Tree Lane\, Uniontown\, PA\, 15401\, United States
CATEGORIES:Advocacy Calendar,MHA Events
ORGANIZER;CN="NAMI of Fayette County":MAILTO:rjm.utown@gmail.com
END:VEVENT
BEGIN:VEVENT
DTSTART;TZID=UTC:20261019T110000
DTEND;TZID=UTC:20261019T120000
DTSTAMP:20260420T075953
CREATED:20251219T163229Z
LAST-MODIFIED:20251219T163229Z
UID:3746-1792407600-1792411200@www.mhafayette.org
SUMMARY:NAMI Connection
DESCRIPTION:
URL:https://www.mhafayette.org/event/nami20261019/
LOCATION:Mental Health Association In Fayette County\, 680 Cherry Tree Lane\, Uniontown\, PA\, 15401\, United States
CATEGORIES:Advocacy Calendar,MHA Events
ORGANIZER;CN="NAMI of Fayette County":MAILTO:rjm.utown@gmail.com
END:VEVENT
BEGIN:VEVENT
DTSTART;TZID=UTC:20261102T110000
DTEND;TZID=UTC:20261102T120000
DTSTAMP:20260420T075953
CREATED:20251219T163438Z
LAST-MODIFIED:20251219T163438Z
UID:3748-1793617200-1793620800@www.mhafayette.org
SUMMARY:NAMI Connection
DESCRIPTION:
URL:https://www.mhafayette.org/event/nami20261102/
LOCATION:Mental Health Association In Fayette County\, 680 Cherry Tree Lane\, Uniontown\, PA\, 15401\, United States
CATEGORIES:Advocacy Calendar,MHA Events
ORGANIZER;CN="NAMI of Fayette County":MAILTO:rjm.utown@gmail.com
END:VEVENT
BEGIN:VEVENT
DTSTART;TZID=UTC:20261207T110000
DTEND;TZID=UTC:20261207T120000
DTSTAMP:20260420T075953
CREATED:20251219T164108Z
LAST-MODIFIED:20251219T164108Z
UID:3754-1796641200-1796644800@www.mhafayette.org
SUMMARY:NAMI Connection
DESCRIPTION:
URL:https://www.mhafayette.org/event/nami20261207/
LOCATION:Mental Health Association In Fayette County\, 680 Cherry Tree Lane\, Uniontown\, PA\, 15401\, United States
CATEGORIES:Advocacy Calendar,MHA Events
ORGANIZER;CN="NAMI of Fayette County":MAILTO:rjm.utown@gmail.com
END:VEVENT
END:VCALENDAR