BEGIN:VCALENDAR
VERSION:2.0
PRODID:-//Mental Health Association of Fayette County - Home of the Advocacy Network - ECPv6.15.16//NONSGML v1.0//EN
CALSCALE:GREGORIAN
METHOD:PUBLISH
X-WR-CALNAME:Mental Health Association of Fayette County - Home of the Advocacy Network
X-ORIGINAL-URL:https://www.mhafayette.org
X-WR-CALDESC:Events for Mental Health Association of Fayette County - Home of the Advocacy Network
REFRESH-INTERVAL;VALUE=DURATION:PT1H
X-Robots-Tag:noindex
X-PUBLISHED-TTL:PT1H
BEGIN:VTIMEZONE
TZID:UTC
BEGIN:STANDARD
TZOFFSETFROM:+0000
TZOFFSETTO:+0000
TZNAME:UTC
DTSTART:20210101T000000
END:STANDARD
END:VTIMEZONE
BEGIN:VEVENT
DTSTART;TZID=UTC:20220507T100000
DTEND;TZID=UTC:20220507T160000
DTSTAMP:20260423T223048
CREATED:20220506T131914Z
LAST-MODIFIED:20220506T131914Z
UID:2775-1651917600-1651939200@www.mhafayette.org
SUMMARY:Live 4 Tomorrow “Burn Out The Stigma” Car Show
DESCRIPTION:May is Mental Health Awareness Month. We want to “Burn out the Stigma” surrounding mental health and substance use disorders. Live 4 Tomorrow (also in the process of becoming a 501c3 organization) will use this time to bring stories of hope together to advocate for mental health. Stories of hope and recovery make others feel less afraid. Help us “Burn out the Stigma” through awareness and support.\n\nTo help “Burn out the Stigma” about mental health and substance use disorders\, we are excited to announce the 1st annual Live 4 Tomorrow “Burn out the Stigma” car show. This will take place on Saturday May 7\, 2022 at the Dawson Grange Community Fairgrounds in Dawson\, PA. This car show is a family-friendly event that is sure to attract and satisfy individuals of all ages. This is not your ordinary car show as there will be much more than just cars to be seen! Our event will include bands\, speakers of hope\, booths filled with educational and resource information\, 50/50\, basket raffle\, food and more!
URL:https://www.mhafayette.org/event/live-4-tomorrow-burn-out-the-stigma-car-show/
LOCATION:Dawson Grange Fairgrounds\, 110 Chaintown Road\, Dawson\, PA\, 15428\, United States
CATEGORIES:Advocacy Calendar,Community Events
END:VEVENT
END:VCALENDAR