BEGIN:VCALENDAR
VERSION:2.0
PRODID:-//Mental Health Association of Fayette County - Home of the Advocacy Network - ECPv6.15.16//NONSGML v1.0//EN
CALSCALE:GREGORIAN
METHOD:PUBLISH
X-WR-CALNAME:Mental Health Association of Fayette County - Home of the Advocacy Network
X-ORIGINAL-URL:https://www.mhafayette.org
X-WR-CALDESC:Events for Mental Health Association of Fayette County - Home of the Advocacy Network
REFRESH-INTERVAL;VALUE=DURATION:PT1H
X-Robots-Tag:noindex
X-PUBLISHED-TTL:PT1H
BEGIN:VTIMEZONE
TZID:UTC
BEGIN:STANDARD
TZOFFSETFROM:+0000
TZOFFSETTO:+0000
TZNAME:UTC
DTSTART:20230101T000000
END:STANDARD
END:VTIMEZONE
BEGIN:VEVENT
DTSTART;TZID=UTC:20240718T090000
DTEND;TZID=UTC:20240718T150000
DTSTAMP:20260424T223428
CREATED:20240716T141405Z
LAST-MODIFIED:20240716T141443Z
UID:3133-1721293200-1721314800@www.mhafayette.org
SUMMARY:Crafts For a Cause: Christmas in July Sale
DESCRIPTION:
URL:https://www.mhafayette.org/event/xmasinjuly20240718/
LOCATION:Mental Health Association In Fayette County\, 680 Cherry Tree Lane\, Uniontown\, PA\, 15401\, United States
CATEGORIES:MHA Events
ORGANIZER;CN="MHA's Crafty Crew":MAILTO:info@mhafayette.org
END:VEVENT
END:VCALENDAR