BEGIN:VCALENDAR
VERSION:2.0
PRODID:-//Mental Health Association of Fayette County - Home of the Advocacy Network - ECPv6.15.16//NONSGML v1.0//EN
CALSCALE:GREGORIAN
METHOD:PUBLISH
X-ORIGINAL-URL:https://www.mhafayette.org
X-WR-CALDESC:Events for Mental Health Association of Fayette County - Home of the Advocacy Network
REFRESH-INTERVAL;VALUE=DURATION:PT1H
X-Robots-Tag:noindex
X-PUBLISHED-TTL:PT1H
BEGIN:VTIMEZONE
TZID:UTC
BEGIN:STANDARD
TZOFFSETFROM:+0000
TZOFFSETTO:+0000
TZNAME:UTC
DTSTART:20210101T000000
END:STANDARD
END:VTIMEZONE
BEGIN:VEVENT
DTSTART;TZID=UTC:20220802T170000
DTEND;TZID=UTC:20220802T200000
DTSTAMP:20260423T101900
CREATED:20220722T161240Z
LAST-MODIFIED:20220722T161358Z
UID:2845-1659459600-1659470400@www.mhafayette.org
SUMMARY:Uniontown Hoops and Scoops National Night Out 2022
DESCRIPTION:
URL:https://www.mhafayette.org/event/hnsnno-2022/
LOCATION:Grant Street Park\, 151 S Grant Street\, Uniontown\, PA\, 15401\, United States
CATEGORIES:Advocacy Calendar,Community Events
END:VEVENT
END:VCALENDAR