BEGIN:VCALENDAR
VERSION:2.0
PRODID:-//Mental Health Association of Fayette County - Home of the Advocacy Network - ECPv6.15.16//NONSGML v1.0//EN
CALSCALE:GREGORIAN
METHOD:PUBLISH
X-ORIGINAL-URL:https://www.mhafayette.org
X-WR-CALDESC:Events for Mental Health Association of Fayette County - Home of the Advocacy Network
REFRESH-INTERVAL;VALUE=DURATION:PT1H
X-Robots-Tag:noindex
X-PUBLISHED-TTL:PT1H
BEGIN:VTIMEZONE
TZID:UTC
BEGIN:STANDARD
TZOFFSETFROM:+0000
TZOFFSETTO:+0000
TZNAME:UTC
DTSTART:20240101T000000
END:STANDARD
END:VTIMEZONE
BEGIN:VEVENT
DTSTART;TZID=UTC:20250513T170000
DTEND;TZID=UTC:20250513T180000
DTSTAMP:20260419T224900
CREATED:20250429T152920Z
LAST-MODIFIED:20250429T152920Z
UID:3479-1747155600-1747159200@www.mhafayette.org
SUMMARY:Fayette County Family Council Meeting
DESCRIPTION:Join our Zoom meeting every 2nd Tuesday of the month for information and sharing to empower families. Learn about services and education available for your family. Join Zoom Meeting\nMeeting ID: 834 5108 5047 Passcode: 062145.
URL:https://www.mhafayette.org/event/fcfc202505/
LOCATION:Zoom (Family Council)
CATEGORIES:Advocacy Calendar
END:VEVENT
END:VCALENDAR