BEGIN:VCALENDAR
VERSION:2.0
PRODID:-//Mental Health Association of Fayette County - Home of the Advocacy Network - ECPv6.15.16//NONSGML v1.0//EN
CALSCALE:GREGORIAN
METHOD:PUBLISH
X-WR-CALNAME:Mental Health Association of Fayette County - Home of the Advocacy Network
X-ORIGINAL-URL:https://www.mhafayette.org
X-WR-CALDESC:Events for Mental Health Association of Fayette County - Home of the Advocacy Network
REFRESH-INTERVAL;VALUE=DURATION:PT1H
X-Robots-Tag:noindex
X-PUBLISHED-TTL:PT1H
BEGIN:VTIMEZONE
TZID:UTC
BEGIN:STANDARD
TZOFFSETFROM:+0000
TZOFFSETTO:+0000
TZNAME:UTC
DTSTART:20210101T000000
END:STANDARD
END:VTIMEZONE
BEGIN:VEVENT
DTSTART;TZID=UTC:20220311T123000
DTEND;TZID=UTC:20220311T133000
DTSTAMP:20260423T110048
CREATED:20220304T174421Z
LAST-MODIFIED:20220304T174421Z
UID:2630-1647001800-1647005400@www.mhafayette.org
SUMMARY:Fayette County Family Council
DESCRIPTION:
URL:https://www.mhafayette.org/event/fcfc-2022-03-11/
CATEGORIES:Advocacy Calendar
END:VEVENT
BEGIN:VEVENT
DTSTART;TZID=UTC:20220325T123000
DTEND;TZID=UTC:20220325T133000
DTSTAMP:20260423T110048
CREATED:20220304T174709Z
LAST-MODIFIED:20220304T174718Z
UID:2633-1648211400-1648215000@www.mhafayette.org
SUMMARY:Fayette County Family Council
DESCRIPTION:
URL:https://www.mhafayette.org/event/fcfc-2022-03-25/
CATEGORIES:Advocacy Calendar
END:VEVENT
END:VCALENDAR