BEGIN:VCALENDAR
VERSION:2.0
PRODID:-//Mental Health Association of Fayette County - Home of the Advocacy Network - ECPv6.15.16//NONSGML v1.0//EN
CALSCALE:GREGORIAN
METHOD:PUBLISH
X-ORIGINAL-URL:https://www.mhafayette.org
X-WR-CALDESC:Events for Mental Health Association of Fayette County - Home of the Advocacy Network
REFRESH-INTERVAL;VALUE=DURATION:PT1H
X-Robots-Tag:noindex
X-PUBLISHED-TTL:PT1H
BEGIN:VTIMEZONE
TZID:UTC
BEGIN:STANDARD
TZOFFSETFROM:+0000
TZOFFSETTO:+0000
TZNAME:UTC
DTSTART:20190101T000000
END:STANDARD
END:VTIMEZONE
BEGIN:VEVENT
DTSTART;TZID=UTC:20200814T130000
DTEND;TZID=UTC:20200814T140000
DTSTAMP:20260424T110420
CREATED:20200728T000902Z
LAST-MODIFIED:20200728T000902Z
UID:2124-1597410000-1597413600@www.mhafayette.org
SUMMARY:Beacon Health Options Virtual Training: Safely Stepping Back into Our Community
DESCRIPTION:August 14\, 2020 Beacon Member Training on Stepping Safely Back into the Community
URL:https://www.mhafayette.org/event/beaconvts-2020-08-14-sau1/
CATEGORIES:Community Events
END:VEVENT
END:VCALENDAR