BEGIN:VCALENDAR
VERSION:2.0
PRODID:-//Mental Health Association of Fayette County - Home of the Advocacy Network - ECPv6.15.16//NONSGML v1.0//EN
CALSCALE:GREGORIAN
METHOD:PUBLISH
X-WR-CALNAME:Mental Health Association of Fayette County - Home of the Advocacy Network
X-ORIGINAL-URL:https://www.mhafayette.org
X-WR-CALDESC:Events for Mental Health Association of Fayette County - Home of the Advocacy Network
REFRESH-INTERVAL;VALUE=DURATION:PT1H
X-Robots-Tag:noindex
X-PUBLISHED-TTL:PT1H
BEGIN:VTIMEZONE
TZID:UTC
BEGIN:STANDARD
TZOFFSETFROM:+0000
TZOFFSETTO:+0000
TZNAME:UTC
DTSTART:20200101T000000
END:STANDARD
END:VTIMEZONE
BEGIN:VEVENT
DTSTART;TZID=UTC:20210929T180000
DTEND;TZID=UTC:20210929T190000
DTSTAMP:20260424T063614
CREATED:20210913T163530Z
LAST-MODIFIED:20210913T163530Z
UID:2474-1632938400-1632942000@www.mhafayette.org
SUMMARY:Candelight Vigil
DESCRIPTION:
URL:https://www.mhafayette.org/event/candelight-vigil-2021/
LOCATION:Fayette County Courthouse\, 61 East Main Street\, Uniontown\, PA\, 15401\, United States
CATEGORIES:Advocacy Calendar,Community Events
END:VEVENT
END:VCALENDAR