BEGIN:VCALENDAR
VERSION:2.0
PRODID:-//Mental Health Association of Fayette County - Home of the Advocacy Network - ECPv6.15.16//NONSGML v1.0//EN
CALSCALE:GREGORIAN
METHOD:PUBLISH
X-WR-CALNAME:Mental Health Association of Fayette County - Home of the Advocacy Network
X-ORIGINAL-URL:https://www.mhafayette.org
X-WR-CALDESC:Events for Mental Health Association of Fayette County - Home of the Advocacy Network
REFRESH-INTERVAL;VALUE=DURATION:PT1H
X-Robots-Tag:noindex
X-PUBLISHED-TTL:PT1H
BEGIN:VTIMEZONE
TZID:UTC
BEGIN:STANDARD
TZOFFSETFROM:+0000
TZOFFSETTO:+0000
TZNAME:UTC
DTSTART:20200101T000000
END:STANDARD
END:VTIMEZONE
BEGIN:VEVENT
DTSTART;TZID=UTC:20210423T130000
DTEND;TZID=UTC:20210423T140000
DTSTAMP:20260424T050523
CREATED:20210416T135806Z
LAST-MODIFIED:20210416T135806Z
UID:2363-1619182800-1619186400@www.mhafayette.org
SUMMARY:Uncomfortable  Conversations about Stigma\, Race and Bias ; Let’s  Talk Micro Aggressions
DESCRIPTION:Please join Beacon Health Options as their panel of guests have conversations that can be uncomfortable\, yet need to happen so that we can move towards creating communities that are diverse and inclusive. \nRegistration Link
URL:https://www.mhafayette.org/event/beacon-20210423/
CATEGORIES:Community Events
END:VEVENT
END:VCALENDAR