BEGIN:VCALENDAR
VERSION:2.0
PRODID:-//Mental Health Association of Fayette County - Home of the Advocacy Network - ECPv6.15.16//NONSGML v1.0//EN
CALSCALE:GREGORIAN
METHOD:PUBLISH
X-ORIGINAL-URL:https://www.mhafayette.org
X-WR-CALDESC:Events for Mental Health Association of Fayette County - Home of the Advocacy Network
REFRESH-INTERVAL;VALUE=DURATION:PT1H
X-Robots-Tag:noindex
X-PUBLISHED-TTL:PT1H
BEGIN:VTIMEZONE
TZID:UTC
BEGIN:STANDARD
TZOFFSETFROM:+0000
TZOFFSETTO:+0000
TZNAME:UTC
DTSTART:20200101T000000
END:STANDARD
END:VTIMEZONE
BEGIN:VEVENT
DTSTART;TZID=UTC:20210420T140000
DTEND;TZID=UTC:20210420T153000
DTSTAMP:20260424T002630
CREATED:20210310T224528Z
LAST-MODIFIED:20210313T230940Z
UID:2323-1618927200-1618932600@www.mhafayette.org
SUMMARY:Beacon Family Training: Intensive Behavioral Health Services (IBHS) and Services for Children\, Youth and Young Adults
DESCRIPTION:Join Beacon Health Options\, the Behavioral Health Managed Care Organization in Fayette and eleven other western Pennsylvania Counties as they host a training for Health Choices Members in: \nIntensive Behavioral Health Services (IBHS) and Services for Children\, Youth and Young Adults \nRegistration \n1-646-876-9923\nMeeting ID: 938 8997 9540\nPassword: 846319 \n 
URL:https://www.mhafayette.org/event/20210413-ibhs/
CATEGORIES:Community Events
END:VEVENT
END:VCALENDAR