BEGIN:VCALENDAR
VERSION:2.0
PRODID:-//Mental Health Association of Fayette County - Home of the Advocacy Network - ECPv6.15.16//NONSGML v1.0//EN
CALSCALE:GREGORIAN
METHOD:PUBLISH
X-ORIGINAL-URL:https://www.mhafayette.org
X-WR-CALDESC:Events for Mental Health Association of Fayette County - Home of the Advocacy Network
REFRESH-INTERVAL;VALUE=DURATION:PT1H
X-Robots-Tag:noindex
X-PUBLISHED-TTL:PT1H
BEGIN:VTIMEZONE
TZID:UTC
BEGIN:STANDARD
TZOFFSETFROM:+0000
TZOFFSETTO:+0000
TZNAME:UTC
DTSTART:20200101T000000
END:STANDARD
END:VTIMEZONE
BEGIN:VEVENT
DTSTART;TZID=UTC:20210406T140000
DTEND;TZID=UTC:20210406T153000
DTSTAMP:20260424T002631
CREATED:20210310T225057Z
LAST-MODIFIED:20210313T230833Z
UID:2325-1617717600-1617723000@www.mhafayette.org
SUMMARY:Beacon Member Series: COVID-19 Ask the Doctor
DESCRIPTION:Join Beacon Health Options\, the Behavioral Health Managed Care Organization in Fayette and eleven other western Pennsylvania Counties as they host a training for Health Choices Members in: \nCOVID-19 Ask the Doctor with Dr. Mike Usman\, \nRegistration  \n1-646-876-9923\nMeeting ID: 970 9581 0682 \nPassword: 883184
URL:https://www.mhafayette.org/event/20210406-askthedoctor/
CATEGORIES:Community Events
END:VEVENT
END:VCALENDAR