BEGIN:VCALENDAR
VERSION:2.0
PRODID:-//Mental Health Association of Fayette County - Home of the Advocacy Network - ECPv6.15.16//NONSGML v1.0//EN
CALSCALE:GREGORIAN
METHOD:PUBLISH
X-ORIGINAL-URL:https://www.mhafayette.org
X-WR-CALDESC:Events for Mental Health Association of Fayette County - Home of the Advocacy Network
REFRESH-INTERVAL;VALUE=DURATION:PT1H
X-Robots-Tag:noindex
X-PUBLISHED-TTL:PT1H
BEGIN:VTIMEZONE
TZID:UTC
BEGIN:STANDARD
TZOFFSETFROM:+0000
TZOFFSETTO:+0000
TZNAME:UTC
DTSTART:20210101T000000
END:STANDARD
END:VTIMEZONE
BEGIN:VEVENT
DTSTART;TZID=UTC:20220725T103000
DTEND;TZID=UTC:20220725T113000
DTSTAMP:20260422T154507
CREATED:20220722T160458Z
LAST-MODIFIED:20220722T160458Z
UID:2843-1658745000-1658748600@www.mhafayette.org
SUMMARY:Fayette County Partners For Recovery
DESCRIPTION:The Fayette County Partners for Recovery Meeting will be held on Monday\, July 25\, 2022\, at 10:30 AM with a hybrid option. The Braddock Room in the Basement of the Fayette County Health Center (100 New Salem Road\, Uniontown\, PA 15401) is available to us should it be needed\,\nPartners is a community support program to help improve services\, systems of care\, and supports for those being treated for substance use and mental health issues. Meetings are open to anyone with an interest in mental health issues and advancing the quality of life for members and people with mental health conditions.
URL:https://www.mhafayette.org/event/partners-2022-07-25/
LOCATION:Fayette County Health Center – Braddock Room\, 100 New Salem Road (Basement)\, Uniontown\, PA\, 15401\, United States
CATEGORIES:Advocacy Calendar
ORGANIZER;CN="Partners For Recovery":MAILTO:dmurray@mhafayette.org
END:VEVENT
END:VCALENDAR