BEGIN:VCALENDAR
VERSION:2.0
PRODID:-//Mental Health Association of Fayette County - Home of the Advocacy Network - ECPv6.15.16//NONSGML v1.0//EN
CALSCALE:GREGORIAN
METHOD:PUBLISH
X-ORIGINAL-URL:https://www.mhafayette.org
X-WR-CALDESC:Events for Mental Health Association of Fayette County - Home of the Advocacy Network
REFRESH-INTERVAL;VALUE=DURATION:PT1H
X-Robots-Tag:noindex
X-PUBLISHED-TTL:PT1H
BEGIN:VTIMEZONE
TZID:UTC
BEGIN:STANDARD
TZOFFSETFROM:+0000
TZOFFSETTO:+0000
TZNAME:UTC
DTSTART:20210101T000000
END:STANDARD
END:VTIMEZONE
BEGIN:VEVENT
DTSTART;TZID=UTC:20220520T083000
DTEND;TZID=UTC:20220520T103000
DTSTAMP:20260423T014623
CREATED:20220506T133703Z
LAST-MODIFIED:20220506T133703Z
UID:2781-1653035400-1653042600@www.mhafayette.org
SUMMARY:Fayette County Suicide Prevention Taskforce (In-Person)
DESCRIPTION:All are welcome to join us for our Suicide Prevention Meeting in-person (at the IHOP\, Uniontown) or virtually via ZOOM from 8:30 a.m.- 10:30 a.m. Come share ideas\, stories\, and breakfast. Check our Facebook page to find Zoom information under Fayette County Suicide Prevention Taskforce or contact: Gina Donkers by phone: (724) 430-1370 or email: GinaDonkers@fcbha.org
URL:https://www.mhafayette.org/event/fcsptf-2022-05p/
LOCATION:iHOP\, 702 Walmart Drive\, Uniontown\, PA\, 15401\, United States
END:VEVENT
END:VCALENDAR