BEGIN:VCALENDAR
VERSION:2.0
PRODID:-//Mental Health Association of Fayette County - Home of the Advocacy Network - ECPv6.15.16//NONSGML v1.0//EN
CALSCALE:GREGORIAN
METHOD:PUBLISH
X-ORIGINAL-URL:https://www.mhafayette.org
X-WR-CALDESC:Events for Mental Health Association of Fayette County - Home of the Advocacy Network
REFRESH-INTERVAL;VALUE=DURATION:PT1H
X-Robots-Tag:noindex
X-PUBLISHED-TTL:PT1H
BEGIN:VTIMEZONE
TZID:UTC
BEGIN:STANDARD
TZOFFSETFROM:+0000
TZOFFSETTO:+0000
TZNAME:UTC
DTSTART:20210101T000000
END:STANDARD
END:VTIMEZONE
BEGIN:VEVENT
DTSTART;TZID=UTC:20220519T183000
DTEND;TZID=UTC:20220519T193000
DTSTAMP:20260422T182228
CREATED:20220506T133015Z
LAST-MODIFIED:20220506T133015Z
UID:2778-1652985000-1652988600@www.mhafayette.org
SUMMARY:Fayette County Suicide Prevention Taskforce (Zoom)
DESCRIPTION:Join us from 6:00 p.m.—7:30 p.m. for ideas on how to get information out to those who need to know there is help and hope. Check our Facebook page to find Zoom information under Fayette County Suicide Prevention Taskforce or contact: Gina Donkers by phone: (724) 430-1370 or email: GinaDonkers@fcbha.org
URL:https://www.mhafayette.org/event/fcsptf-2022-05z/
LOCATION:Zoom (FCSPTF)
CATEGORIES:Advocacy Calendar
END:VEVENT
END:VCALENDAR