BEGIN:VCALENDAR
VERSION:2.0
PRODID:-//Mental Health Association of Fayette County - Home of the Advocacy Network - ECPv6.15.16//NONSGML v1.0//EN
CALSCALE:GREGORIAN
METHOD:PUBLISH
X-ORIGINAL-URL:https://www.mhafayette.org
X-WR-CALDESC:Events for Mental Health Association of Fayette County - Home of the Advocacy Network
REFRESH-INTERVAL;VALUE=DURATION:PT1H
X-Robots-Tag:noindex
X-PUBLISHED-TTL:PT1H
BEGIN:VTIMEZONE
TZID:UTC
BEGIN:STANDARD
TZOFFSETFROM:+0000
TZOFFSETTO:+0000
TZNAME:UTC
DTSTART:20210101T000000
END:STANDARD
END:VTIMEZONE
BEGIN:VEVENT
DTSTART;TZID=UTC:20220408T123000
DTEND;TZID=UTC:20220408T133000
DTSTAMP:20260422T225329
CREATED:20220325T172608Z
LAST-MODIFIED:20220325T172608Z
UID:2693-1649421000-1649424600@www.mhafayette.org
SUMMARY:Fayette County Family Council
DESCRIPTION:
URL:https://www.mhafayette.org/event/fcfc-2022-04-08/
LOCATION:PA
CATEGORIES:Advocacy Calendar
END:VEVENT
END:VCALENDAR