BEGIN:VCALENDAR
VERSION:2.0
PRODID:-//Mental Health Association of Fayette County - Home of the Advocacy Network - ECPv6.15.16//NONSGML v1.0//EN
CALSCALE:GREGORIAN
METHOD:PUBLISH
X-ORIGINAL-URL:https://www.mhafayette.org
X-WR-CALDESC:Events for Mental Health Association of Fayette County - Home of the Advocacy Network
REFRESH-INTERVAL;VALUE=DURATION:PT1H
X-Robots-Tag:noindex
X-PUBLISHED-TTL:PT1H
BEGIN:VTIMEZONE
TZID:UTC
BEGIN:STANDARD
TZOFFSETFROM:+0000
TZOFFSETTO:+0000
TZNAME:UTC
DTSTART:20200101T000000
END:STANDARD
END:VTIMEZONE
BEGIN:VEVENT
DTSTART;TZID=UTC:20210927T103000
DTEND;TZID=UTC:20210927T110000
DTSTAMP:20260423T110834
CREATED:20210825T123812Z
LAST-MODIFIED:20210825T123837Z
UID:2455-1632738600-1632740400@www.mhafayette.org
SUMMARY:Fayette County Partners For Recovery Meeting
DESCRIPTION:What Is Partners For Recovery?\n\n\n\nPartners is a community support program to help improve services\, systems of care\, and supports for those being treated for substance use and mental health issues. Meetings are open to anyone with an interest in mental health issues and advancing the quality of life for members and people with mental illness. \nSome points about PARTNERS FOR RECOVERY: \n\nAt Partners for Recovery Meetings\, you can have fellowship with others in a place where everyone can share their stories and experiences in recovery.\nAs a member of this group\, you can have a voice in how money for mental health services is spent and how services can serve people better.\nYou can help the group make a difference in the community and alleviate the stigma of mental illness in society.\nWe welcome visitors who would like to take part in meetings and help us see more clearly what is working and what is not working in the local Mental Health Community.\n\nWe believe that “By promoting the principles of recovery and making relationships in the community\, the Fayette County Partners for Recovery is educating and providing public awareness of mental health”. \n\nTopic: Fayette County Partners for Recovery Meeting\nJoin Zoom Meeting\nhttps://zoom.us/j/99389156617?pwd=Z3JjNWs3QXpKaHdaRXdFWG5XV2dVQT09 \nMeeting ID: 993 8915 6617\nPasscode: 0EK2w2 \n 
URL:https://www.mhafayette.org/event/partners-2021-09/
LOCATION:PA
CATEGORIES:Advocacy Calendar
ORGANIZER;CN="Partners For Recovery":MAILTO:dmurray@mhafayette.org
END:VEVENT
BEGIN:VEVENT
DTSTART;TZID=UTC:20210927T103000
DTEND;TZID=UTC:20210927T123000
DTSTAMP:20260423T110834
CREATED:20210913T163905Z
LAST-MODIFIED:20210913T163905Z
UID:2477-1632738600-1632745800@www.mhafayette.org
SUMMARY:Fayette County Partners For Recovery
DESCRIPTION:What Is Partners For Recovery?\n\n\n\nPartners is a community support program to help improve services\, systems of care\, and supports for those being treated for substance use and mental health issues. Meetings are open to anyone with an interest in mental health issues and advancing the quality of life for members and people with mental illness. \nSome points about PARTNERS FOR RECOVERY: \n\nAt Partners for Recovery Meetings\, you can have fellowship with others in a place where everyone can share their stories and experiences in recovery.\nAs a member of this group\, you can have a voice in how money for mental health services is spent and how services can serve people better.\nYou can help the group make a difference in the community and alleviate the stigma of mental illness in society.\nWe welcome visitors who would like to take part in meetings and help us see more clearly what is working and what is not working in the local Mental Health Community.\n\nWe believe that “By promoting the principles of recovery and making relationships in the community\, the Fayette County Partners for Recovery is educating and providing public awareness of mental health”. \nPartners for Recovery meet the fourth Monday of every month from 10:30 AM until around noon. Meetings are held at MHA Fayette located at the Fayette County Health Center at 100 New Salem Road in Uniontown\, Pennsylvania. This is conveniently located right along the FACT bus line. \nFor More Information about our Group\, please call (724) 438-6738 and ask for the PARTNERS facilitator. \n\n\n\n\n\n\n\n\n\n\nCSP Wheel\n\n\nCSP in Pennsylvania\n\n\n\nThe Community Support Program (CSP) of Pennsylvania is a coalition of mental health consumers\, family members and professionals working to help adults with serious mental illnesses and co-occurring disorders live successfully in the community. This statewide coalition links CSP nationally with regional and local CSPs throughout the State.
URL:https://www.mhafayette.org/event/partners-0921/
LOCATION:Oak House Drop-In Center\, 680 Cherry Tree Lane\, Uniontown\, PA\, 15401\, United States
CATEGORIES:Advocacy Calendar
ORGANIZER;CN="Partners For Recovery":MAILTO:dmurray@mhafayette.org
END:VEVENT
END:VCALENDAR