BEGIN:VCALENDAR
VERSION:2.0
PRODID:-//Mental Health Association of Fayette County - Home of the Advocacy Network - ECPv6.15.16//NONSGML v1.0//EN
CALSCALE:GREGORIAN
METHOD:PUBLISH
X-ORIGINAL-URL:https://www.mhafayette.org
X-WR-CALDESC:Events for Mental Health Association of Fayette County - Home of the Advocacy Network
REFRESH-INTERVAL;VALUE=DURATION:PT1H
X-Robots-Tag:noindex
X-PUBLISHED-TTL:PT1H
BEGIN:VTIMEZONE
TZID:UTC
BEGIN:STANDARD
TZOFFSETFROM:+0000
TZOFFSETTO:+0000
TZNAME:UTC
DTSTART:20200101T000000
END:STANDARD
END:VTIMEZONE
BEGIN:VEVENT
DTSTART;TZID=UTC:20210924T170000
DTEND;TZID=UTC:20210924T173000
DTSTAMP:20260423T094641
CREATED:20210913T170439Z
LAST-MODIFIED:20210913T170439Z
UID:2480-1632502800-1632504600@www.mhafayette.org
SUMMARY:Fayette County Family Council
DESCRIPTION:Family Council Meeting Notice Updated 9-2021
URL:https://www.mhafayette.org/event/fcfc-2021-09-02/
LOCATION:PA
CATEGORIES:Advocacy Calendar
END:VEVENT
END:VCALENDAR