BEGIN:VCALENDAR
VERSION:2.0
PRODID:-//Mental Health Association of Fayette County - Home of the Advocacy Network - ECPv6.15.16//NONSGML v1.0//EN
CALSCALE:GREGORIAN
METHOD:PUBLISH
X-ORIGINAL-URL:https://www.mhafayette.org
X-WR-CALDESC:Events for Mental Health Association of Fayette County - Home of the Advocacy Network
REFRESH-INTERVAL;VALUE=DURATION:PT1H
X-Robots-Tag:noindex
X-PUBLISHED-TTL:PT1H
BEGIN:VTIMEZONE
TZID:UTC
BEGIN:STANDARD
TZOFFSETFROM:+0000
TZOFFSETTO:+0000
TZNAME:UTC
DTSTART:20210101T000000
END:STANDARD
END:VTIMEZONE
BEGIN:VEVENT
DTSTART;TZID=UTC:20221013T120000
DTEND;TZID=UTC:20221013T130000
DTSTAMP:20260422T082905
CREATED:20220423T231432Z
LAST-MODIFIED:20220423T231432Z
UID:2746-1665662400-1665666000@www.mhafayette.org
SUMMARY:NAMI Family Support Group
DESCRIPTION:NAMI Family Support Group Flyer
URL:https://www.mhafayette.org/event/nami-2022-10-13/
LOCATION:Fayette County Health Center – Braddock Room\, 100 New Salem Road (Basement)\, Uniontown\, PA\, 15401\, United States
CATEGORIES:Advocacy Calendar
ORGANIZER;CN="Fayette County NAMI (Family)":MAILTO:pbailor@mhafayette.org
END:VEVENT
BEGIN:VEVENT
DTSTART;TZID=UTC:20221027T170000
DTEND;TZID=UTC:20221027T180000
DTSTAMP:20260422T082905
CREATED:20220423T233402Z
LAST-MODIFIED:20220423T233438Z
UID:2762-1666890000-1666893600@www.mhafayette.org
SUMMARY:NAMI Family Support Group
DESCRIPTION:NAMI Family Support Group Flyer
URL:https://www.mhafayette.org/event/nami-2022-10-27/
LOCATION:Fayette County Health Center – Braddock Room\, 100 New Salem Road (Basement)\, Uniontown\, PA\, 15401\, United States
CATEGORIES:Advocacy Calendar
ORGANIZER;CN="Fayette County NAMI (Family)":MAILTO:pbailor@mhafayette.org
END:VEVENT
BEGIN:VEVENT
DTSTART;TZID=UTC:20221031T103000
DTEND;TZID=UTC:20221031T113000
DTSTAMP:20260422T082905
CREATED:20220314T125130Z
LAST-MODIFIED:20220325T170220Z
UID:2672-1667212200-1667215800@www.mhafayette.org
SUMMARY:Fayette County Partners For Recovery
DESCRIPTION:What Is Partners For Recovery?\n\n\n\nPartners is a community support program to help improve services\, systems of care\, and supports for those being treated for substance use and mental health issues. Meetings are open to anyone with an interest in mental health issues and advancing the quality of life for members and people with mental health. \nSome points about PARTNERS FOR RECOVERY: \n\nAt Partners for Recovery Meetings\, you can have fellowship with others in a place where everyone can share their stories and experiences in recovery.\nAs a member of this group\, you can have a voice in how money for mental health services is spent and how services can serve people better.\nYou can help the group make a difference in the community and alleviate the stigma of mental illness in society.\nWe welcome visitors who would like to take part in meetings and help us see more clearly what is working and what is not working in the local Mental Health Community.\n\nWe believe that “By promoting the principles of recovery and making relationships in the community\, the Fayette County Partners for Recovery is educating and providing public awareness of mental health”. \nPartners for Recovery meet the fourth Monday of every month from 10:30 AM until around noon. Meetings are held at MHA Fayette located at the Fayette County Health Center at 100 New Salem Road in Uniontown\, Pennsylvania. This is conveniently located right along the FACT bus line. \nFor More Information about our Group\, please call (724) 320-3165. \n\n\n\nCSP in Pennsylvania\n\n\n\nThe Community Support Program (CSP) of Pennsylvania is a coalition of mental health consumers\, family members and professionals working to help adults with serious mental illnesses and co-occurring disorders live successfully in the community. This statewide coalition links CSP nationally with regional and local CSPs throughout the State. \n\n\n\nMeeting Information\n\n\n\nWe meet the LAST Monday of the Month at 10:30 AM EXCEPT: \n\nMay – We meet the week BEFORE Memorial Day\nDecember – We do not generally meet in December\n\n\n\n\nMeeting Location\n\n\n\nFayette County Health Center \n100 New Salem Road\nUniiontown\, PA 15401
URL:https://www.mhafayette.org/event/csp-2022-10/
LOCATION:Fayette County Health Center – Braddock Room\, 100 New Salem Road (Basement)\, Uniontown\, PA\, 15401\, United States
CATEGORIES:Advocacy Calendar
ORGANIZER;CN="Partners For Recovery":MAILTO:dmurray@mhafayette.org
END:VEVENT
END:VCALENDAR