BEGIN:VCALENDAR
VERSION:2.0
PRODID:-//Mental Health Association of Fayette County - Home of the Advocacy Network - ECPv6.15.16//NONSGML v1.0//EN
CALSCALE:GREGORIAN
METHOD:PUBLISH
X-WR-CALNAME:Mental Health Association of Fayette County - Home of the Advocacy Network
X-ORIGINAL-URL:https://www.mhafayette.org
X-WR-CALDESC:Events for Mental Health Association of Fayette County - Home of the Advocacy Network
REFRESH-INTERVAL;VALUE=DURATION:PT1H
X-Robots-Tag:noindex
X-PUBLISHED-TTL:PT1H
BEGIN:VTIMEZONE
TZID:UTC
BEGIN:STANDARD
TZOFFSETFROM:+0000
TZOFFSETTO:+0000
TZNAME:UTC
DTSTART:20210101T000000
END:STANDARD
END:VTIMEZONE
BEGIN:VEVENT
DTSTART;TZID=UTC:20220512T120000
DTEND;TZID=UTC:20220512T130000
DTSTAMP:20260422T181644
CREATED:20220423T225658Z
LAST-MODIFIED:20220423T225658Z
UID:2734-1652356800-1652360400@www.mhafayette.org
SUMMARY:NAMI Family Support Group
DESCRIPTION:NAMI Family Support Group Flyer
URL:https://www.mhafayette.org/event/nami-2022-05-12/
LOCATION:Fayette County Health Center – Braddock Room\, 100 New Salem Road (Basement)\, Uniontown\, PA\, 15401\, United States
CATEGORIES:Advocacy Calendar
ORGANIZER;CN="Fayette County NAMI (Family)":MAILTO:pbailor@mhafayette.org
END:VEVENT
BEGIN:VEVENT
DTSTART;TZID=UTC:20220513T123000
DTEND;TZID=UTC:20220513T130000
DTSTAMP:20260422T181644
CREATED:20220419T150500Z
LAST-MODIFIED:20220419T150500Z
UID:2722-1652445000-1652446800@www.mhafayette.org
SUMMARY:Fayette County Family Council
DESCRIPTION:
URL:https://www.mhafayette.org/event/fcfc-2022-05-13/
LOCATION:PA
CATEGORIES:Advocacy Calendar
END:VEVENT
BEGIN:VEVENT
DTSTART;TZID=UTC:20220519T183000
DTEND;TZID=UTC:20220519T193000
DTSTAMP:20260422T181644
CREATED:20220506T133015Z
LAST-MODIFIED:20220506T133015Z
UID:2778-1652985000-1652988600@www.mhafayette.org
SUMMARY:Fayette County Suicide Prevention Taskforce (Zoom)
DESCRIPTION:Join us from 6:00 p.m.—7:30 p.m. for ideas on how to get information out to those who need to know there is help and hope. Check our Facebook page to find Zoom information under Fayette County Suicide Prevention Taskforce or contact: Gina Donkers by phone: (724) 430-1370 or email: GinaDonkers@fcbha.org
URL:https://www.mhafayette.org/event/fcsptf-2022-05z/
LOCATION:Zoom (FCSPTF)
CATEGORIES:Advocacy Calendar
END:VEVENT
BEGIN:VEVENT
DTSTART;TZID=UTC:20220520T083000
DTEND;TZID=UTC:20220520T103000
DTSTAMP:20260422T181644
CREATED:20220506T133703Z
LAST-MODIFIED:20220506T133703Z
UID:2781-1653035400-1653042600@www.mhafayette.org
SUMMARY:Fayette County Suicide Prevention Taskforce (In-Person)
DESCRIPTION:All are welcome to join us for our Suicide Prevention Meeting in-person (at the IHOP\, Uniontown) or virtually via ZOOM from 8:30 a.m.- 10:30 a.m. Come share ideas\, stories\, and breakfast. Check our Facebook page to find Zoom information under Fayette County Suicide Prevention Taskforce or contact: Gina Donkers by phone: (724) 430-1370 or email: GinaDonkers@fcbha.org
URL:https://www.mhafayette.org/event/fcsptf-2022-05p/
LOCATION:iHOP\, 702 Walmart Drive\, Uniontown\, PA\, 15401\, United States
END:VEVENT
BEGIN:VEVENT
DTSTART;TZID=UTC:20220523T103000
DTEND;TZID=UTC:20220523T113000
DTSTAMP:20260422T181644
CREATED:20220314T123834Z
LAST-MODIFIED:20220325T165852Z
UID:2662-1653301800-1653305400@www.mhafayette.org
SUMMARY:Fayette County Partners For Recovery
DESCRIPTION:What Is Partners For Recovery?\n\n\n\nPartners is a community support program to help improve services\, systems of care\, and supports for those being treated for substance use and mental health issues. Meetings are open to anyone with an interest in mental health issues and advancing the quality of life for members and people with mental health. \nSome points about PARTNERS FOR RECOVERY: \n\nAt Partners for Recovery Meetings\, you can have fellowship with others in a place where everyone can share their stories and experiences in recovery.\nAs a member of this group\, you can have a voice in how money for mental health services is spent and how services can serve people better.\nYou can help the group make a difference in the community and alleviate the stigma of mental illness in society.\nWe welcome visitors who would like to take part in meetings and help us see more clearly what is working and what is not working in the local Mental Health Community.\n\nWe believe that “By promoting the principles of recovery and making relationships in the community\, the Fayette County Partners for Recovery is educating and providing public awareness of mental health”. \nPartners for Recovery meet the fourth Monday of every month from 10:30 AM until around noon. Meetings are held at MHA Fayette located at the Fayette County Health Center at 100 New Salem Road in Uniontown\, Pennsylvania. This is conveniently located right along the FACT bus line. \nFor More Information about our Group\, please call (724) 320-3165. \n\n\n\nCSP in Pennsylvania\n\n\n\nThe Community Support Program (CSP) of Pennsylvania is a coalition of mental health consumers\, family members and professionals working to help adults with serious mental illnesses and co-occurring disorders live successfully in the community. This statewide coalition links CSP nationally with regional and local CSPs throughout the State. \n\n\n\nMeeting Information\n\n\n\nWe meet the LAST Monday of the Month at 10:30 AM EXCEPT: \n\nMay – We meet the week BEFORE Memorial Day\nDecember – We do not generally meet in December\n\n\n\n\nMeeting Location\n\n\n\nFayette County Health Center \n100 New Salem Road\nUniiontown\, PA 15401
URL:https://www.mhafayette.org/event/csp-2022-05/
LOCATION:Fayette County Health Center – Braddock Room\, 100 New Salem Road (Basement)\, Uniontown\, PA\, 15401\, United States
CATEGORIES:Advocacy Calendar
ORGANIZER;CN="Partners For Recovery":MAILTO:dmurray@mhafayette.org
END:VEVENT
BEGIN:VEVENT
DTSTART;TZID=UTC:20220526T170000
DTEND;TZID=UTC:20220526T180000
DTSTAMP:20260422T181644
CREATED:20220423T232245Z
LAST-MODIFIED:20220423T232245Z
UID:2752-1653584400-1653588000@www.mhafayette.org
SUMMARY:NAMI Family Support Group
DESCRIPTION:NAMI Family Support Group Flyer
URL:https://www.mhafayette.org/event/nami-2022-05-26/
LOCATION:Fayette County Health Center – Braddock Room\, 100 New Salem Road (Basement)\, Uniontown\, PA\, 15401\, United States
CATEGORIES:Advocacy Calendar
ORGANIZER;CN="Fayette County NAMI (Family)":MAILTO:pbailor@mhafayette.org
END:VEVENT
BEGIN:VEVENT
DTSTART;TZID=UTC:20220527T080000
DTEND;TZID=UTC:20220527T170000
DTSTAMP:20260422T181644
CREATED:20220419T150817Z
LAST-MODIFIED:20220419T150817Z
UID:2725-1653638400-1653670800@www.mhafayette.org
SUMMARY:Fayette County Family Council
DESCRIPTION:
URL:https://www.mhafayette.org/event/fcfc-2022-05-27/
LOCATION:PA
CATEGORIES:Advocacy Calendar
END:VEVENT
END:VCALENDAR