BEGIN:VCALENDAR
VERSION:2.0
PRODID:-//Mental Health Association of Fayette County - Home of the Advocacy Network - ECPv6.15.16//NONSGML v1.0//EN
CALSCALE:GREGORIAN
METHOD:PUBLISH
X-WR-CALNAME:Mental Health Association of Fayette County - Home of the Advocacy Network
X-ORIGINAL-URL:https://www.mhafayette.org
X-WR-CALDESC:Events for Mental Health Association of Fayette County - Home of the Advocacy Network
REFRESH-INTERVAL;VALUE=DURATION:PT1H
X-Robots-Tag:noindex
X-PUBLISHED-TTL:PT1H
BEGIN:VTIMEZONE
TZID:UTC
BEGIN:STANDARD
TZOFFSETFROM:+0000
TZOFFSETTO:+0000
TZNAME:UTC
DTSTART:20210101T000000
END:STANDARD
END:VTIMEZONE
BEGIN:VEVENT
DTSTART;TZID=UTC:20220211T130000
DTEND;TZID=UTC:20220211T140000
DTSTAMP:20260422T222524
CREATED:20220201T181235Z
LAST-MODIFIED:20220211T144944Z
UID:2597-1644584400-1644588000@www.mhafayette.org
SUMMARY:Fayette County Family Council
DESCRIPTION:
URL:https://www.mhafayette.org/event/fcfc-2022-02-11/
LOCATION:PA
CATEGORIES:Advocacy Calendar
END:VEVENT
BEGIN:VEVENT
DTSTART;TZID=UTC:20220225T170000
DTEND;TZID=UTC:20220225T173000
DTSTAMP:20260422T222524
CREATED:20220201T181605Z
LAST-MODIFIED:20220201T181605Z
UID:2600-1645808400-1645810200@www.mhafayette.org
SUMMARY:Fayette County Family Council
DESCRIPTION:
URL:https://www.mhafayette.org/event/fcfc-2022-02-25/
LOCATION:PA
CATEGORIES:Advocacy Calendar
END:VEVENT
END:VCALENDAR