BEGIN:VCALENDAR
VERSION:2.0
PRODID:-//Mental Health Association of Fayette County - Home of the Advocacy Network - ECPv6.15.16//NONSGML v1.0//EN
CALSCALE:GREGORIAN
METHOD:PUBLISH
X-ORIGINAL-URL:https://www.mhafayette.org
X-WR-CALDESC:Events for Mental Health Association of Fayette County - Home of the Advocacy Network
REFRESH-INTERVAL;VALUE=DURATION:PT1H
X-Robots-Tag:noindex
X-PUBLISHED-TTL:PT1H
BEGIN:VTIMEZONE
TZID:UTC
BEGIN:STANDARD
TZOFFSETFROM:+0000
TZOFFSETTO:+0000
TZNAME:UTC
DTSTART:20200101T000000
END:STANDARD
END:VTIMEZONE
BEGIN:VEVENT
DTSTART;TZID=UTC:20210514T130000
DTEND;TZID=UTC:20210514T140000
DTSTAMP:20260423T122605
CREATED:20210112T212812Z
LAST-MODIFIED:20210112T212812Z
UID:2274-1620997200-1621000800@www.mhafayette.org
SUMMARY:Fayette County Family Council
DESCRIPTION:
URL:https://www.mhafayette.org/event/fcfc-2021-05-14/
LOCATION:PA
CATEGORIES:Advocacy Calendar
END:VEVENT
BEGIN:VEVENT
DTSTART;TZID=UTC:20210524T103000
DTEND;TZID=UTC:20210524T120000
DTSTAMP:20260423T122605
CREATED:20210112T221326Z
LAST-MODIFIED:20210112T221326Z
UID:2293-1621852200-1621857600@www.mhafayette.org
SUMMARY:Fayette County Partners For Recovery
DESCRIPTION:
URL:https://www.mhafayette.org/event/partners-2021-05/
LOCATION:PA
CATEGORIES:Advocacy Calendar
ORGANIZER;CN="Partners For Recovery":MAILTO:dmurray@mhafayette.org
END:VEVENT
BEGIN:VEVENT
DTSTART;TZID=UTC:20210528T170000
DTEND;TZID=UTC:20210528T180000
DTSTAMP:20260423T122605
CREATED:20210112T213048Z
LAST-MODIFIED:20210112T213048Z
UID:2276-1622221200-1622224800@www.mhafayette.org
SUMMARY:Fayette County Family Council
DESCRIPTION:
URL:https://www.mhafayette.org/event/fcfc-2021-05-28/
LOCATION:PA
CATEGORIES:Advocacy Calendar
END:VEVENT
END:VCALENDAR