BEGIN:VCALENDAR
VERSION:2.0
PRODID:-//Mental Health Association of Fayette County - Home of the Advocacy Network - ECPv6.15.16//NONSGML v1.0//EN
CALSCALE:GREGORIAN
METHOD:PUBLISH
X-ORIGINAL-URL:https://www.mhafayette.org
X-WR-CALDESC:Events for Mental Health Association of Fayette County - Home of the Advocacy Network
REFRESH-INTERVAL;VALUE=DURATION:PT1H
X-Robots-Tag:noindex
X-PUBLISHED-TTL:PT1H
BEGIN:VTIMEZONE
TZID:UTC
BEGIN:STANDARD
TZOFFSETFROM:+0000
TZOFFSETTO:+0000
TZNAME:UTC
DTSTART:20200101T000000
END:STANDARD
END:VTIMEZONE
BEGIN:VEVENT
DTSTART;TZID=UTC:20210312T130000
DTEND;TZID=UTC:20210312T140000
DTSTAMP:20260423T151136
CREATED:20210112T211444Z
LAST-MODIFIED:20210112T211444Z
UID:2266-1615554000-1615557600@www.mhafayette.org
SUMMARY:Fayette County Family Council
DESCRIPTION:
URL:https://www.mhafayette.org/event/fcfc-2020-03-12/
LOCATION:PA
CATEGORIES:Advocacy Calendar
END:VEVENT
BEGIN:VEVENT
DTSTART;TZID=UTC:20210326T170000
DTEND;TZID=UTC:20210326T180000
DTSTAMP:20260423T151136
CREATED:20210112T211808Z
LAST-MODIFIED:20210112T211808Z
UID:2268-1616778000-1616781600@www.mhafayette.org
SUMMARY:Fayette County Family Council
DESCRIPTION:
URL:https://www.mhafayette.org/event/fcfc-2021-03-26/
LOCATION:PA
CATEGORIES:Advocacy Calendar
END:VEVENT
BEGIN:VEVENT
DTSTART;TZID=UTC:20210329T103000
DTEND;TZID=UTC:20210329T120000
DTSTAMP:20260423T151136
CREATED:20210112T220712Z
LAST-MODIFIED:20210112T220712Z
UID:2289-1617013800-1617019200@www.mhafayette.org
SUMMARY:Fayette County Partners For Recovery
DESCRIPTION:
URL:https://www.mhafayette.org/event/partners-2021-03/
LOCATION:PA
CATEGORIES:Advocacy Calendar
ORGANIZER;CN="Partners For Recovery":MAILTO:dmurray@mhafayette.org
END:VEVENT
END:VCALENDAR