BEGIN:VCALENDAR
VERSION:2.0
PRODID:-//Mental Health Association of Fayette County - Home of the Advocacy Network - ECPv6.15.16//NONSGML v1.0//EN
CALSCALE:GREGORIAN
METHOD:PUBLISH
X-ORIGINAL-URL:https://www.mhafayette.org
X-WR-CALDESC:Events for Mental Health Association of Fayette County - Home of the Advocacy Network
REFRESH-INTERVAL;VALUE=DURATION:PT1H
X-Robots-Tag:noindex
X-PUBLISHED-TTL:PT1H
BEGIN:VTIMEZONE
TZID:UTC
BEGIN:STANDARD
TZOFFSETFROM:+0000
TZOFFSETTO:+0000
TZNAME:UTC
DTSTART:20190101T000000
END:STANDARD
END:VTIMEZONE
BEGIN:VEVENT
DTSTART;TZID=UTC:20201110T130000
DTEND;TZID=UTC:20201110T140000
DTSTAMP:20260423T220444
CREATED:20200828T143848Z
LAST-MODIFIED:20200828T143848Z
UID:2167-1605013200-1605016800@www.mhafayette.org
SUMMARY:Fayette County Family Council
DESCRIPTION:Who We Are \nWe are a group of parents who have children that access services through one or more of the child-serving systems (Juvenile Probation\, Drug & Alcohol\, Mental Health\, Children & Youth\, Intellectual and Developmental Disabilities) \nWhat We Do \nWe work together to build collaboration between families and professionals to achieve positive outcomes \nHow We Do This \nSupport Each Other!\nShare our stories and experiences.\nParticipate in trainings and outreach events.\nUse our voice to make a difference! \n\nMeetings on Zoom \nPlease visit the Fayette County Family Council’s Facebook Group for Meeting Login Information. Meetings are generally held on the Second Tuesday of the month at 1:00 PM and the Fourth Tuesday of the Month at 5:00 PM
URL:https://www.mhafayette.org/event/fcfc-1120-1/
LOCATION:PA
CATEGORIES:Advocacy Calendar
END:VEVENT
BEGIN:VEVENT
DTSTART;TZID=UTC:20201124T170000
DTEND;TZID=UTC:20201124T180000
DTSTAMP:20260423T220444
CREATED:20200828T144240Z
LAST-MODIFIED:20200828T144240Z
UID:2169-1606237200-1606240800@www.mhafayette.org
SUMMARY:Fayette County Family Council
DESCRIPTION:Who We Are \nWe are a group of parents who have children that access services through one or more of the child-serving systems (Juvenile Probation\, Drug & Alcohol\, Mental Health\, Children & Youth\, Intellectual and Developmental Disabilities) \nWhat We Do \nWe work together to build collaboration between families and professionals to achieve positive outcomes \nHow We Do This \nSupport Each Other!\nShare our stories and experiences.\nParticipate in trainings and outreach events.\nUse our voice to make a difference! \n\nMeetings on Zoom \nPlease visit the Fayette County Family Council’s Facebook Group for Meeting Login Information. Meetings are generally held on the Second Tuesday of the month at 1:00 PM and the Fourth Tuesday of the Month at 5:00 PM
URL:https://www.mhafayette.org/event/fcfc-1120-2/
LOCATION:PA
CATEGORIES:Advocacy Calendar
END:VEVENT
BEGIN:VEVENT
DTSTART;TZID=UTC:20201130T103000
DTEND;TZID=UTC:20201130T113000
DTSTAMP:20260423T220444
CREATED:20200828T145424Z
LAST-MODIFIED:20201023T231725Z
UID:2176-1606732200-1606735800@www.mhafayette.org
SUMMARY:Fayette County Partners For Recovery
DESCRIPTION:What Is Partners For Recovery? \nPartners is a community support program to help improve services\, systems of care\, and supports for those being treated for substance use and mental health issues. Meetings are open to anyone with an interest in mental health issues and advancing the quality of life for members and people with mental illness. \nSome points about PARTNERS FOR RECOVERY: \n\nAt Partners for Recovery Meetings\, you can have fellowship with others in a place where everyone can share their stories and experiences in recovery.\nAs a member of this group\, you can have a voice in how money for mental health services is spent and how services can serve people better.\nYou can help the group make a difference in the community and alleviate the stigma of mental illness in society.\nWe welcome visitors who would like to take part in meetings and help us see more clearly what is working and what is not working in the local Mental Health Community.\n\nWe believe that “By promoting the principles of recovery and making relationships in the community\, the Fayette County Partners for Recovery is educating and providing public awareness of mental health”. \nPartners for Recovery meet the last Monday of every month from 10:30 AM until around noon. \nDue to the COVID-19 Pandemic\, Partners will be meeting via ZOOM until Further Notice. To be connected please follow their social media channels or register through EventBrite Here \n  \n  \n 
URL:https://www.mhafayette.org/event/fcp4r-1120/
LOCATION:PA
CATEGORIES:Advocacy Calendar
ORGANIZER;CN="Partners For Recovery":MAILTO:dmurray@mhafayette.org
END:VEVENT
END:VCALENDAR