BEGIN:VCALENDAR
VERSION:2.0
PRODID:-//Mental Health Association of Fayette County - Home of the Advocacy Network - ECPv6.15.16//NONSGML v1.0//EN
CALSCALE:GREGORIAN
METHOD:PUBLISH
X-WR-CALNAME:Mental Health Association of Fayette County - Home of the Advocacy Network
X-ORIGINAL-URL:https://www.mhafayette.org
X-WR-CALDESC:Events for Mental Health Association of Fayette County - Home of the Advocacy Network
REFRESH-INTERVAL;VALUE=DURATION:PT1H
X-Robots-Tag:noindex
X-PUBLISHED-TTL:PT1H
BEGIN:VTIMEZONE
TZID:UTC
BEGIN:STANDARD
TZOFFSETFROM:+0000
TZOFFSETTO:+0000
TZNAME:UTC
DTSTART:20180101T000000
END:STANDARD
END:VTIMEZONE
BEGIN:VEVENT
DTSTART;TZID=UTC:20190516T110000
DTEND;TZID=UTC:20190516T120000
DTSTAMP:20260424T195357
CREATED:20181017T144532Z
LAST-MODIFIED:20181017T144532Z
UID:1432-1558004400-1558008000@www.mhafayette.org
SUMMARY:Fayette County Family Council - Connellsville
DESCRIPTION:We are a group of families\, youth\, and community partners sharing our concerns\, thoughts and experiences with county services. Together we can build a better community with positive outcomes. Your voice can make a difference. \nWe meet every: \n3rd Thursday of every month at the Carnegie Free Library\, 299 S Pittsburgh St\, Connellsville PA 15425 at 11am-12pm
URL:https://www.mhafayette.org/event/fcfcc-may2019/
LOCATION:Carnegie Free Library\, 299 South Pittsburgh Street\, Connellsville\, PA\, 15425\, United States
CATEGORIES:Advocacy Calendar
END:VEVENT
BEGIN:VEVENT
DTSTART;TZID=UTC:20190514T080000
DTEND;TZID=UTC:20190514T170000
DTSTAMP:20260424T195357
CREATED:20181017T134856Z
LAST-MODIFIED:20181017T134856Z
UID:1406-1557820800-1557853200@www.mhafayette.org
SUMMARY:Fayette County Family Council - Uniontown
DESCRIPTION:We are a group of families\, youth\, and community partners sharing our concerns\, thoughts and experiences with county services. Together we can build a better community with positive outcomes. Your voice can make a difference. \nWe meet every: 2nd Tuesday of every month at the East End United Community Center\, 150 Coolspring St\, Uniontown Pa 15401 at 1:00pm-2:00pm
URL:https://www.mhafayette.org/event/fcfcu-may2019/
LOCATION:East End United Community Center\, 150 Coolspring Street\, Uniontown\, PA\, 15401\, United States
CATEGORIES:Advocacy Calendar
END:VEVENT
BEGIN:VEVENT
DTSTART;TZID=UTC:20190513T113000
DTEND;TZID=UTC:20190513T130000
DTSTAMP:20260424T195357
CREATED:20190507T162917Z
LAST-MODIFIED:20190507T162917Z
UID:1661-1557747000-1557752400@www.mhafayette.org
SUMMARY:FREE Community Lunch
DESCRIPTION:
URL:https://www.mhafayette.org/event/docc-05a-2019/
CATEGORIES:Community Events
END:VEVENT
BEGIN:VEVENT
DTSTART;TZID=UTC:20190511T080000
DTEND;TZID=UTC:20190511T140000
DTSTAMP:20260424T195357
CREATED:20190507T142933Z
LAST-MODIFIED:20190507T142933Z
UID:1632-1557561600-1557583200@www.mhafayette.org
SUMMARY:Hard to Recycle: Brownsville Drive In
DESCRIPTION:
URL:https://www.mhafayette.org/event/hard-to-recycle-brownsville-drive-in/
CATEGORIES:Community Events
END:VEVENT
BEGIN:VEVENT
DTSTART;TZID=UTC:20190509T190000
DTEND;TZID=UTC:20190509T203000
DTSTAMP:20260424T195357
CREATED:20190326T152047Z
LAST-MODIFIED:20190326T152808Z
UID:1612-1557428400-1557433800@www.mhafayette.org
SUMMARY:Mental Health Awareness Series: How to be an Advocate/Ally
DESCRIPTION:
URL:https://www.mhafayette.org/event/mhas19-advocate/
CATEGORIES:Community Events
END:VEVENT
BEGIN:VEVENT
DTSTART;TZID=UTC:20190507T080000
DTEND;TZID=UTC:20190507T170000
DTSTAMP:20260424T195357
CREATED:20190601T143143Z
LAST-MODIFIED:20190507T143527Z
UID:1637-1557216000-1557248400@www.mhafayette.org
SUMMARY:Hard-To Recycle: Uniontown City
DESCRIPTION:
URL:https://www.mhafayette.org/event/hard-to-recycle-uniontown-city/
CATEGORIES:Community Events
END:VEVENT
BEGIN:VEVENT
DTSTART;TZID=UTC:20190502T190000
DTEND;TZID=UTC:20190502T203000
DTSTAMP:20260424T195357
CREATED:20190326T151808Z
LAST-MODIFIED:20190326T152311Z
UID:1607-1556823600-1556829000@www.mhafayette.org
SUMMARY:Mental Health Awareness Series: Fact or Fiction
DESCRIPTION::
URL:https://www.mhafayette.org/event/mhas19-fof/
CATEGORIES:Community Events
END:VEVENT
BEGIN:VEVENT
DTSTART;TZID=UTC:20190429T103000
DTEND;TZID=UTC:20190429T120000
DTSTAMP:20260424T195357
CREATED:20181017T130715Z
LAST-MODIFIED:20181017T130715Z
UID:1381-1556533800-1556539200@www.mhafayette.org
SUMMARY:Partners for Recovery
DESCRIPTION:Partners is a community support program to help improve services\, systems of care\, and supports for those being treated for substance use and mental health issues. Meetings are open to anyone with an interest in mental health issues and advancing the quality of life for members and people with mental illness. \nSome points about PARTNERS FOR RECOVERY:\n• At Partners for Recovery Meetings\, you can have fellowship with others in a place where everyone can share their stories and experiences in recovery.\n• As a member of this group\, you can have a voice in how money for mental health services is spent and how services can serve people better.\n• You can help the group make a difference in the community and alleviatethe stigma of mental illness in society.\n• We welcome visitors who would like to take part in meetings and help us see more clearly what is working and what is not working in the local Mental Health Community. \nWe believe that “By promoting the principles of recovery and making relationships in the community\, the Fayette County Partners for Recovery is educating and providing public awareness of mental health”. \nMeetings are held at MHA Fayette located at the Fayette County Health Center at 100 New Salem Road in Uniontown\, Pennsylvania. This is conveniently located right along the FACT bus line.\nThe group meets in the Oak House Drop in Center.\nFor More Information about our Group\, please call (724) 438-6738 and ask for the PARTNERS facilitator.
URL:https://www.mhafayette.org/event/partnersapr2019/
LOCATION:Oak House Drop-In Center\, 680 Cherry Tree Lane\, Uniontown\, PA\, 15401\, United States
CATEGORIES:Advocacy Calendar
ORGANIZER;CN="Partners For Recovery":MAILTO:dmurray@mhafayette.org
END:VEVENT
BEGIN:VEVENT
DTSTART;VALUE=DATE:20190420
DTEND;VALUE=DATE:20190421
DTSTAMP:20260424T195357
CREATED:20181217T182710Z
LAST-MODIFIED:20181217T185429Z
UID:1487-1555718400-1555804799@www.mhafayette.org
SUMMARY:Drop-In Center Closed
DESCRIPTION:The Oak House Drop-In Center will be Closed on Saturday\, April 20\, 2019 for the Observance of the Easter Holiday
URL:https://www.mhafayette.org/event/diclosure-es2019/
LOCATION:Oak House Drop-In Center\, 680 Cherry Tree Lane\, Uniontown\, PA\, 15401\, United States
CATEGORIES:Advocacy Calendar,MHA Events
END:VEVENT
BEGIN:VEVENT
DTSTART;VALUE=DATE:20190419
DTEND;VALUE=DATE:20190420
DTSTAMP:20260424T195357
CREATED:20181217T181858Z
LAST-MODIFIED:20181217T190245Z
UID:1485-1555632000-1555718399@www.mhafayette.org
SUMMARY:Office/Drop In Center Closed
DESCRIPTION:The Mental Health Association Offices\, Oak House Drop-In Center and Advocacy Network will be closed Friday\, April 19th\, 2019 for the observance of Good Friday
URL:https://www.mhafayette.org/event/closure-gf2019/
LOCATION:Mental Health Association In Fayette County\, 680 Cherry Tree Lane\, Uniontown\, PA\, 15401\, United States
CATEGORIES:Advocacy Calendar,MHA Events
ORGANIZER;CN="Mental Health Association In Fayette County":MAILTO:info@mhafayette.org
END:VEVENT
BEGIN:VEVENT
DTSTART;TZID=UTC:20190418T110000
DTEND;TZID=UTC:20190418T120000
DTSTAMP:20260424T195357
CREATED:20181017T144115Z
LAST-MODIFIED:20181017T144115Z
UID:1430-1555585200-1555588800@www.mhafayette.org
SUMMARY:Fayette County Family Council - Connellsville
DESCRIPTION:We are a group of families\, youth\, and community partners sharing our concerns\, thoughts and experiences with county services. Together we can build a better community with positive outcomes. Your voice can make a difference. \nWe meet every: \n3rd Thursday of every month at the Carnegie Free Library\, 299 S Pittsburgh St\, Connellsville PA 15425 at 11am-12pm
URL:https://www.mhafayette.org/event/fcfcc-apr2019/
LOCATION:Carnegie Free Library\, 299 South Pittsburgh Street\, Connellsville\, PA\, 15425\, United States
CATEGORIES:Advocacy Calendar
END:VEVENT
BEGIN:VEVENT
DTSTART;TZID=UTC:20190409T130000
DTEND;TZID=UTC:20190409T140000
DTSTAMP:20260424T195357
CREATED:20181017T134647Z
LAST-MODIFIED:20181017T134647Z
UID:1404-1554814800-1554818400@www.mhafayette.org
SUMMARY:Fayette County Family Council - Uniontown
DESCRIPTION:We are a group of families\, youth\, and community partners sharing our concerns\, thoughts and experiences with county services. Together we can build a better community with positive outcomes. Your voice can make a difference. \nWe meet every: 2nd Tuesday of every month at the East End United Community Center\, 150 Coolspring St\, Uniontown Pa 15401 at 1:00pm-2:00pm
URL:https://www.mhafayette.org/event/fcfcu-apr2019/
LOCATION:East End United Community Center\, 150 Coolspring Street\, Uniontown\, PA\, 15401\, United States
CATEGORIES:Advocacy Calendar
END:VEVENT
BEGIN:VEVENT
DTSTART;TZID=UTC:20190328T083000
DTEND;TZID=UTC:20190328T143000
DTSTAMP:20260424T195357
CREATED:20190109T143631Z
LAST-MODIFIED:20190123T141901Z
UID:1513-1553761800-1553783400@www.mhafayette.org
SUMMARY:2nd Annual Family Leadership Conference - "Celebrate The Family"
DESCRIPTION:
URL:https://www.mhafayette.org/event/celebratethefamily/
CATEGORIES:Advocacy Calendar,MHA Events
END:VEVENT
BEGIN:VEVENT
DTSTART;TZID=UTC:20190325T103000
DTEND;TZID=UTC:20190325T120000
DTSTAMP:20260424T195357
CREATED:20181017T130344Z
LAST-MODIFIED:20181017T130344Z
UID:1378-1553509800-1553515200@www.mhafayette.org
SUMMARY:Partners for Recovery
DESCRIPTION:Partners is a community support program to help improve services\, systems of care\, and supports for those being treated for substance use and mental health issues. Meetings are open to anyone with an interest in mental health issues and advancing the quality of life for members and people with mental illness. \nSome points about PARTNERS FOR RECOVERY:\n• At Partners for Recovery Meetings\, you can have fellowship with others in a place where everyone can share their stories and experiences in recovery.\n• As a member of this group\, you can have a voice in how money for mental health services is spent and how services can serve people better.\n• You can help the group make a difference in the community and alleviatethe stigma of mental illness in society.\n• We welcome visitors who would like to take part in meetings and help us see more clearly what is working and what is not working in the local Mental Health Community. \nWe believe that “By promoting the principles of recovery and making relationships in the community\, the Fayette County Partners for Recovery is educating and providing public awareness of mental health”. \nMeetings are held at MHA Fayette located at the Fayette County Health Center at 100 New Salem Road in Uniontown\, Pennsylvania. This is conveniently located right along the FACT bus line.\nThe group meets in the Oak House Drop in Center.\nFor More Information about our Group\, please call (724) 438-6738 and ask for the PARTNERS facilitator.
URL:https://www.mhafayette.org/event/partnersmar2019/
LOCATION:Oak House Drop-In Center\, 680 Cherry Tree Lane\, Uniontown\, PA\, 15401\, United States
CATEGORIES:Advocacy Calendar
ORGANIZER;CN="Partners For Recovery":MAILTO:dmurray@mhafayette.org
END:VEVENT
BEGIN:VEVENT
DTSTART;TZID=UTC:20190321T110000
DTEND;TZID=UTC:20190321T120000
DTSTAMP:20260424T195357
CREATED:20181017T143825Z
LAST-MODIFIED:20181017T143825Z
UID:1428-1553166000-1553169600@www.mhafayette.org
SUMMARY:Fayette County Family Council - Connellsville
DESCRIPTION:We are a group of families\, youth\, and community partners sharing our concerns\, thoughts and experiences with county services. Together we can build a better community with positive outcomes. Your voice can make a difference. \nWe meet every: \n3rd Thursday of every month at the Carnegie Free Library\, 299 S Pittsburgh St\, Connellsville PA 15425 at 11am-12pm
URL:https://www.mhafayette.org/event/fcfcc-mar2019/
LOCATION:East End United Community Center\, 150 Coolspring Street\, Uniontown\, PA\, 15401\, United States
CATEGORIES:Advocacy Calendar
END:VEVENT
BEGIN:VEVENT
DTSTART;TZID=UTC:20190312T130000
DTEND;TZID=UTC:20190312T140000
DTSTAMP:20260424T195357
CREATED:20181017T133924Z
LAST-MODIFIED:20181017T133924Z
UID:1402-1552395600-1552399200@www.mhafayette.org
SUMMARY:Fayette County Family Council - Uniontown
DESCRIPTION:We are a group of families\, youth\, and community partners sharing our concerns\, thoughts and experiences with county services. Together we can build a better community with positive outcomes. Your voice can make a difference. \nWe meet every: 2nd Tuesday of every month at the East End United Community Center\, 150 Coolspring St\, Uniontown Pa 15401 at 1:00pm-2:00pm
URL:https://www.mhafayette.org/event/fcfcu-mar2019/
LOCATION:East End United Community Center\, 150 Coolspring Street\, Uniontown\, PA\, 15401\, United States
CATEGORIES:Advocacy Calendar
END:VEVENT
BEGIN:VEVENT
DTSTART;TZID=UTC:20190225T103000
DTEND;TZID=UTC:20190225T120000
DTSTAMP:20260424T195357
CREATED:20181017T125731Z
LAST-MODIFIED:20181017T125731Z
UID:1375-1551090600-1551096000@www.mhafayette.org
SUMMARY:Partners for Recovery
DESCRIPTION:Partners is a community support program to help improve services\, systems of care\, and supports for those being treated for substance use and mental health issues. Meetings are open to anyone with an interest in mental health issues and advancing the quality of life for members and people with mental illness. \nSome points about PARTNERS FOR RECOVERY:\n• At Partners for Recovery Meetings\, you can have fellowship with others in a place where everyone can share their stories and experiences in recovery.\n• As a member of this group\, you can have a voice in how money for mental health services is spent and how services can serve people better.\n• You can help the group make a difference in the community and alleviatethe stigma of mental illness in society.\n• We welcome visitors who would like to take part in meetings and help us see more clearly what is working and what is not working in the local Mental Health Community. \nWe believe that “By promoting the principles of recovery and making relationships in the community\, the Fayette County Partners for Recovery is educating and providing public awareness of mental health”. \nMeetings are held at MHA Fayette located at the Fayette County Health Center at 100 New Salem Road in Uniontown\, Pennsylvania. This is conveniently located right along the FACT bus line.\nThe group meets in the Oak House Drop in Center.\nFor More Information about our Group\, please call (724) 438-6738 and ask for the PARTNERS facilitator.
URL:https://www.mhafayette.org/event/partnersfeb2018/
LOCATION:Oak House Drop-In Center\, 680 Cherry Tree Lane\, Uniontown\, PA\, 15401\, United States
CATEGORIES:Advocacy Calendar
ORGANIZER;CN="Partners For Recovery":MAILTO:dmurray@mhafayette.org
END:VEVENT
BEGIN:VEVENT
DTSTART;TZID=UTC:20190221T110000
DTEND;TZID=UTC:20190221T120000
DTSTAMP:20260424T195357
CREATED:20181017T143512Z
LAST-MODIFIED:20181017T143537Z
UID:1425-1550746800-1550750400@www.mhafayette.org
SUMMARY:Fayette County Family Council - Connellsville
DESCRIPTION:We are a group of families\, youth\, and community partners sharing our concerns\, thoughts and experiences with county services. Together we can build a better community with positive outcomes. Your voice can make a difference. \nWe meet every: \n3rd Thursday of every month at the Carnegie Free Library\, 299 S Pittsburgh St\, Connellsville PA 15425 at 11am-12pm
URL:https://www.mhafayette.org/event/fcfcc-feb2019/
LOCATION:Carnegie Free Library\, 299 South Pittsburgh Street\, Connellsville\, PA\, 15425\, United States
CATEGORIES:Advocacy Calendar
END:VEVENT
BEGIN:VEVENT
DTSTART;TZID=UTC:20190218T080000
DTEND;TZID=UTC:20190218T170000
DTSTAMP:20260424T195357
CREATED:20181217T181352Z
LAST-MODIFIED:20181217T185742Z
UID:1483-1550476800-1550509200@www.mhafayette.org
SUMMARY:Offfice Closed
DESCRIPTION:The Mental Health Association Offices and Advocacy Network will be closed Monday\, February 18\, 2019 in Observance of the President’s Day Holiday.
URL:https://www.mhafayette.org/event/closure-presday19/
CATEGORIES:Advocacy Calendar,MHA Events
END:VEVENT
BEGIN:VEVENT
DTSTART;TZID=UTC:20190212T130000
DTEND;TZID=UTC:20190212T140000
DTSTAMP:20260424T195357
CREATED:20181017T133521Z
LAST-MODIFIED:20181017T133521Z
UID:1400-1549976400-1549980000@www.mhafayette.org
SUMMARY:Fayette County Family Council - Uniontown
DESCRIPTION:We are a group of families\, youth\, and community partners sharing our concerns\, thoughts and experiences with county services. Together we can build a better community with positive outcomes. Your voice can make a difference. \nWe meet every: 2nd Tuesday of every month at the East End United Community Center\, 150 Coolspring St\, Uniontown Pa 15401 at 1:00pm-2:00pm
URL:https://www.mhafayette.org/event/fcfcu-feb2019/
LOCATION:East End United Community Center\, 150 Coolspring Street\, Uniontown\, PA\, 15401\, United States
CATEGORIES:Advocacy Calendar
END:VEVENT
BEGIN:VEVENT
DTSTART;TZID=UTC:20190212T100000
DTEND;TZID=UTC:20190212T130000
DTSTAMP:20260424T195357
CREATED:20190115T160310Z
LAST-MODIFIED:20190115T160310Z
UID:1586-1549965600-1549976400@www.mhafayette.org
SUMMARY:Family Road Map (Workshop 2)
DESCRIPTION:
URL:https://www.mhafayette.org/event/frmfeb19-2/
LOCATION:Uniontown Mall\, 1368 Mall Run Road\, Uniontown\, PA\, 15401\, United States
CATEGORIES:Advocacy Calendar
END:VEVENT
BEGIN:VEVENT
DTSTART;TZID=UTC:20190211T100000
DTEND;TZID=UTC:20190211T130000
DTSTAMP:20260424T195357
CREATED:20190115T155932Z
LAST-MODIFIED:20190115T160002Z
UID:1584-1549879200-1549890000@www.mhafayette.org
SUMMARY:Family Road Map (Workshop 1)
DESCRIPTION:
URL:https://www.mhafayette.org/event/frmfeb19-1/
LOCATION:Uniontown Mall\, 1368 Mall Run Road\, Uniontown\, PA\, 15401\, United States
CATEGORIES:Advocacy Calendar
END:VEVENT
BEGIN:VEVENT
DTSTART;TZID=UTC:20190130T130000
DTEND;TZID=UTC:20190130T153000
DTSTAMP:20260424T195357
CREATED:20190123T142714Z
LAST-MODIFIED:20190123T142714Z
UID:1592-1548853200-1548862200@www.mhafayette.org
SUMMARY:Making Life Choices Workshop
DESCRIPTION:
URL:https://www.mhafayette.org/event/makinglifechoices/
LOCATION:Fayette County Careerlink\, 112 Commonwealth Dr.\, Lemont Furnace\, PA\, 15456\, United States
CATEGORIES:Community Events
END:VEVENT
BEGIN:VEVENT
DTSTART;TZID=UTC:20190129T103000
DTEND;TZID=UTC:20190129T120000
DTSTAMP:20260424T195357
CREATED:20181017T125104Z
LAST-MODIFIED:20181017T125854Z
UID:1371-1548757800-1548763200@www.mhafayette.org
SUMMARY:Partners for Recovery
DESCRIPTION:Partners is a community support program to help improve services\, systems of care\, and supports for those being treated for substance use and mental health issues. Meetings are open to anyone with an interest in mental health issues and advancing the quality of life for members and people with mental illness. \nSome points about PARTNERS FOR RECOVERY:\n• At Partners for Recovery Meetings\, you can have fellowship with others in a place where everyone can share their stories and experiences in recovery.\n• As a member of this group\, you can have a voice in how money for mental health services is spent and how services can serve people better.\n• You can help the group make a difference in the community and alleviatethe stigma of mental illness in society.\n• We welcome visitors who would like to take part in meetings and help us see more clearly what is working and what is not working in the local Mental Health Community. \nWe believe that “By promoting the principles of recovery and making relationships in the community\, the Fayette County Partners for Recovery is educating and providing public awareness of mental health”. \nMeetings are held at MHA Fayette located at the Fayette County Health Center at 100 New Salem Road in Uniontown\, Pennsylvania. This is conveniently located right along the FACT bus line.\nThe group meets in the Oak House Drop in Center.\nFor More Information about our Group\, please call (724) 438-6738 and ask for the PARTNERS facilitator.
URL:https://www.mhafayette.org/event/partnersjan19/
LOCATION:Oak House Drop-In Center\, 680 Cherry Tree Lane\, Uniontown\, PA\, 15401\, United States
CATEGORIES:Advocacy Calendar
ORGANIZER;CN="Partners For Recovery":MAILTO:dmurray@mhafayette.org
END:VEVENT
BEGIN:VEVENT
DTSTART;TZID=UTC:20190124T160000
DTEND;TZID=UTC:20190124T180000
DTSTAMP:20260424T195357
CREATED:20181204T133443Z
LAST-MODIFIED:20181204T133507Z
UID:1474-1548345600-1548352800@www.mhafayette.org
SUMMARY:Family Road Map (Workshop III-PM)
DESCRIPTION:Family Road Map (Workshop I-AM)
URL:https://www.mhafayette.org/event/frm118pm3/
LOCATION:Carnegie Free Library\, 299 South Pittsburgh Street\, Connellsville\, PA\, 15425\, United States
CATEGORIES:Advocacy Calendar
END:VEVENT
BEGIN:VEVENT
DTSTART;TZID=UTC:20190122T080000
DTEND;TZID=UTC:20190122T170000
DTSTAMP:20260424T195357
CREATED:20181204T133133Z
LAST-MODIFIED:20181204T133133Z
UID:1472-1548144000-1548176400@www.mhafayette.org
SUMMARY:Family Road Map (Workshop III-AM)
DESCRIPTION:
URL:https://www.mhafayette.org/event/frm118am3/
LOCATION:Carnegie Free Library\, 299 South Pittsburgh Street\, Connellsville\, PA\, 15425\, United States
CATEGORIES:Advocacy Calendar
END:VEVENT
BEGIN:VEVENT
DTSTART;TZID=UTC:20190121T173000
DTEND;TZID=UTC:20190121T190000
DTSTAMP:20260424T195357
CREATED:20190109T145508Z
LAST-MODIFIED:20190109T145508Z
UID:1520-1548091800-1548097200@www.mhafayette.org
SUMMARY:Servolution
DESCRIPTION:Uniontown Free Methodist invites you to join us for this month’s Community Meal.\n300 Evans Street\, Uniontown\, PA. Dinner is served 5:30 to 7:30.&UnUUU
URL:https://www.mhafayette.org/event/servolution-jan2019/
CATEGORIES:Community Events
END:VEVENT
BEGIN:VEVENT
DTSTART;TZID=UTC:20190121T080000
DTEND;TZID=UTC:20190121T120000
DTSTAMP:20260424T195357
CREATED:20190109T144744Z
LAST-MODIFIED:20190109T144744Z
UID:1517-1548057600-1548072000@www.mhafayette.org
SUMMARY:2019 Annual MLK Breakfast
DESCRIPTION:Mt
URL:https://www.mhafayette.org/event/mlkbreakfast2019/
CATEGORIES:Community Events
END:VEVENT
BEGIN:VEVENT
DTSTART;VALUE=DATE:20190121
DTEND;VALUE=DATE:20190122
DTSTAMP:20260424T195357
CREATED:20181217T181031Z
LAST-MODIFIED:20181217T185923Z
UID:1481-1548028800-1548115199@www.mhafayette.org
SUMMARY:Office Closed
DESCRIPTION:The Mental Health Association Offices and Advocacy Network will be closed Monday\, January 21st 2019 in Observance of the Martin Luther King Jr\, Holiday.
URL:https://www.mhafayette.org/event/closure-mlk19/
LOCATION:Mental Health Association In Fayette County\, 680 Cherry Tree Lane\, Uniontown\, PA\, 15401\, United States
CATEGORIES:Advocacy Calendar,MHA Events
ORGANIZER;CN="Mental Health Association In Fayette County":MAILTO:info@mhafayette.org
END:VEVENT
BEGIN:VEVENT
DTSTART;TZID=UTC:20190117T160000
DTEND;TZID=UTC:20190117T180000
DTSTAMP:20260424T195357
CREATED:20181204T132837Z
LAST-MODIFIED:20181204T132837Z
UID:1470-1547740800-1547748000@www.mhafayette.org
SUMMARY:Family Road Map (Workshop II-PM)
DESCRIPTION:
URL:https://www.mhafayette.org/event/frm118pm2/
LOCATION:Carnegie Free Library\, 299 South Pittsburgh Street\, Connellsville\, PA\, 15425\, United States
END:VEVENT
END:VCALENDAR