BEGIN:VCALENDAR
VERSION:2.0
PRODID:-//Mental Health Association of Fayette County - Home of the Advocacy Network - ECPv6.15.16//NONSGML v1.0//EN
CALSCALE:GREGORIAN
METHOD:PUBLISH
X-WR-CALNAME:Mental Health Association of Fayette County - Home of the Advocacy Network
X-ORIGINAL-URL:https://www.mhafayette.org
X-WR-CALDESC:Events for Mental Health Association of Fayette County - Home of the Advocacy Network
REFRESH-INTERVAL;VALUE=DURATION:PT1H
X-Robots-Tag:noindex
X-PUBLISHED-TTL:PT1H
BEGIN:VTIMEZONE
TZID:UTC
BEGIN:STANDARD
TZOFFSETFROM:+0000
TZOFFSETTO:+0000
TZNAME:UTC
DTSTART:20180101T000000
END:STANDARD
END:VTIMEZONE
BEGIN:VEVENT
DTSTART;TZID=UTC:20200416T180000
DTEND;TZID=UTC:20200416T193000
DTSTAMP:20260422T085137
CREATED:20200121T133230Z
LAST-MODIFIED:20200121T133230Z
UID:2010-1587060000-1587065400@www.mhafayette.org
SUMMARY:NAMI Family (Evening)
DESCRIPTION:
URL:https://www.mhafayette.org/event/namifam0420p/
LOCATION:Oak House Drop-In Center\, 680 Cherry Tree Lane\, Uniontown\, PA\, 15401\, United States
CATEGORIES:Advocacy Calendar
ORGANIZER;CN="Fayette County NAMI (Family)":MAILTO:pbailor@mhafayette.org
END:VEVENT
BEGIN:VEVENT
DTSTART;VALUE=DATE:20200411
DTEND;VALUE=DATE:20200412
DTSTAMP:20260422T085137
CREATED:20200106T135404Z
LAST-MODIFIED:20200106T135404Z
UID:1963-1586563200-1586649599@www.mhafayette.org
SUMMARY:Drop-In Center CLOSED
DESCRIPTION:The  Oak House Drop-In Center \nWill be CLOSED \nOn \nSaturday\, April 11\, 2020 \nIn observance of the EASTER HOLIDAY
URL:https://www.mhafayette.org/event/20200411-closure/
LOCATION:Oak House Drop-In Center\, 680 Cherry Tree Lane\, Uniontown\, PA\, 15401\, United States
CATEGORIES:Advocacy Calendar,MHA Events
END:VEVENT
BEGIN:VEVENT
DTSTART;VALUE=DATE:20200410
DTEND;VALUE=DATE:20200411
DTSTAMP:20260422T085137
CREATED:20200106T135034Z
LAST-MODIFIED:20200106T135034Z
UID:1961-1586476800-1586563199@www.mhafayette.org
SUMMARY:Office / Advocacy Center / Drop-In Center CLOSED
DESCRIPTION:The Mental Health Association\nAnd\nOak House Drop-In Center \nWill be CLOSED \nOn \nFriday\, April 10\, 2020 \nIn observance of GOOD FRIDAY
URL:https://www.mhafayette.org/event/20200410-closure/
LOCATION:Mental Health Association In Fayette County\, 680 Cherry Tree Lane\, Uniontown\, PA\, 15401\, United States
CATEGORIES:Advocacy Calendar,MHA Events
ORGANIZER;CN="Mental Health Association In Fayette County":MAILTO:info@mhafayette.org
END:VEVENT
BEGIN:VEVENT
DTSTART;TZID=UTC:20200409T110000
DTEND;TZID=UTC:20200409T123000
DTSTAMP:20260422T085137
CREATED:20200121T132811Z
LAST-MODIFIED:20200121T132811Z
UID:2008-1586430000-1586435400@www.mhafayette.org
SUMMARY:NAMI Family (Day)
DESCRIPTION:
URL:https://www.mhafayette.org/event/namifam0420a/
LOCATION:Fayette County Health Center – Braddock Room\, 100 New Salem Road (Basement)\, Uniontown\, PA\, 15401\, United States
CATEGORIES:Advocacy Calendar
ORGANIZER;CN="Fayette County NAMI (Family)":MAILTO:pbailor@mhafayette.org
END:VEVENT
BEGIN:VEVENT
DTSTART;TZID=UTC:20200330T103000
DTEND;TZID=UTC:20200330T123000
DTSTAMP:20260422T085137
CREATED:20191126T182759Z
LAST-MODIFIED:20191126T182759Z
UID:1951-1585564200-1585571400@www.mhafayette.org
SUMMARY:Partners For Recovery
DESCRIPTION:Partners is a community support program to help improve services\, systems of care\, and supports for those being treated for substance use and mental health issues. Meetings are open to anyone with an interest in mental health issues and advancing the quality of life for members and people with mental illness. \nSome points about PARTNERS FOR RECOVERY:\n• At Partners for Recovery Meetings\, you can have fellowship with others in a place where everyone can share their stories and experiences in recovery.\n• As a member of this group\, you can have a voice in how money for mental health services is spent and how services can serve people better.\n• You can help the group make a difference in the community and alleviatethe stigma of mental illness in society.\n• We welcome visitors who would like to take part in meetings and help us see more clearly what is working and what is not working in the local Mental Health Community. \nWe believe that “By promoting the principles of recovery and making relationships in the community\, the Fayette County Partners for Recovery is educating and providing public awareness of mental health”. \nMeetings are held at MHA Fayette located at the Fayette County Health Center at 100 New Salem Road in Uniontown\, Pennsylvania. This is conveniently located right along the FACT bus line.\nThe group meets in the Oak House Drop in Center.\nFor More Information about our Group\, please call (724) 438-6738 and ask for the PARTNERS facilitator.
URL:https://www.mhafayette.org/event/partners0320/
LOCATION:Oak House Drop-In Center\, 680 Cherry Tree Lane\, Uniontown\, PA\, 15401\, United States
CATEGORIES:Advocacy Calendar
ORGANIZER;CN="Partners For Recovery":MAILTO:dmurray@mhafayette.org
END:VEVENT
BEGIN:VEVENT
DTSTART;TZID=UTC:20200319T180000
DTEND;TZID=UTC:20200319T193000
DTSTAMP:20260422T085137
CREATED:20200121T131937Z
LAST-MODIFIED:20200121T131937Z
UID:2006-1584640800-1584646200@www.mhafayette.org
SUMMARY:NAMI Family (Evening)
DESCRIPTION:
URL:https://www.mhafayette.org/event/namifam0320p/
LOCATION:Oak House Drop-In Center\, 680 Cherry Tree Lane\, Uniontown\, PA\, 15401\, United States
CATEGORIES:Advocacy Calendar
ORGANIZER;CN="Fayette County NAMI (Family)":MAILTO:pbailor@mhafayette.org
END:VEVENT
BEGIN:VEVENT
DTSTART;TZID=UTC:20200312T110000
DTEND;TZID=UTC:20200312T123000
DTSTAMP:20260422T085137
CREATED:20200121T131703Z
LAST-MODIFIED:20200121T131703Z
UID:2004-1584010800-1584016200@www.mhafayette.org
SUMMARY:NAMI Family (Day)
DESCRIPTION:
URL:https://www.mhafayette.org/event/namifam0320a/
LOCATION:Fayette County Health Center – Braddock Room\, 100 New Salem Road (Basement)\, Uniontown\, PA\, 15401\, United States
CATEGORIES:Advocacy Calendar
ORGANIZER;CN="Fayette County NAMI (Family)":MAILTO:pbailor@mhafayette.org
END:VEVENT
BEGIN:VEVENT
DTSTART;TZID=UTC:20200224T103000
DTEND;TZID=UTC:20200224T120000
DTSTAMP:20260422T085137
CREATED:20191126T182437Z
LAST-MODIFIED:20191126T182437Z
UID:1949-1582540200-1582545600@www.mhafayette.org
SUMMARY:Partners For Recovery
DESCRIPTION:Partners is a community support program to help improve services\, systems of care\, and supports for those being treated for substance use and mental health issues. Meetings are open to anyone with an interest in mental health issues and advancing the quality of life for members and people with mental illness. \nSome points about PARTNERS FOR RECOVERY:\n• At Partners for Recovery Meetings\, you can have fellowship with others in a place where everyone can share their stories and experiences in recovery.\n• As a member of this group\, you can have a voice in how money for mental health services is spent and how services can serve people better.\n• You can help the group make a difference in the community and alleviatethe stigma of mental illness in society.\n• We welcome visitors who would like to take part in meetings and help us see more clearly what is working and what is not working in the local Mental Health Community. \nWe believe that “By promoting the principles of recovery and making relationships in the community\, the Fayette County Partners for Recovery is educating and providing public awareness of mental health”. \nMeetings are held at MHA Fayette located at the Fayette County Health Center at 100 New Salem Road in Uniontown\, Pennsylvania. This is conveniently located right along the FACT bus line.\nThe group meets in the Oak House Drop in Center.\nFor More Information about our Group\, please call (724) 438-6738 and ask for the PARTNERS facilitator. \n 
URL:https://www.mhafayette.org/event/partners0220/
LOCATION:Oak House Drop-In Center\, 680 Cherry Tree Lane\, Uniontown\, PA\, 15401\, United States
CATEGORIES:Advocacy Calendar
ORGANIZER;CN="Partners For Recovery":MAILTO:dmurray@mhafayette.org
END:VEVENT
BEGIN:VEVENT
DTSTART;TZID=UTC:20200220T180000
DTEND;TZID=UTC:20200220T193000
DTSTAMP:20260422T085137
CREATED:20200121T131417Z
LAST-MODIFIED:20200121T131417Z
UID:2002-1582221600-1582227000@www.mhafayette.org
SUMMARY:NAMI Family (Evening)
DESCRIPTION:Fa
URL:https://www.mhafayette.org/event/namifam0220p/
LOCATION:Oak House Drop-In Center\, 680 Cherry Tree Lane\, Uniontown\, PA\, 15401\, United States
CATEGORIES:Advocacy Calendar
ORGANIZER;CN="Fayette County NAMI (Family)":MAILTO:pbailor@mhafayette.org
END:VEVENT
BEGIN:VEVENT
DTSTART;VALUE=DATE:20200217
DTEND;VALUE=DATE:20200218
DTSTAMP:20260422T085137
CREATED:20200106T134108Z
LAST-MODIFIED:20200106T134202Z
UID:1959-1581897600-1581983999@www.mhafayette.org
SUMMARY:Office / Advocacy Center CLOSED
DESCRIPTION:The Mental Health Association \nWill be CLOSED \nOn \nMonday\, February 17\, 2020 \nIn observance of PRESIDENT’S DAY HOLIDAY
URL:https://www.mhafayette.org/event/20200217-closure/
LOCATION:Mental Health Association In Fayette County\, 680 Cherry Tree Lane\, Uniontown\, PA\, 15401\, United States
CATEGORIES:Advocacy Calendar,MHA Events
ORGANIZER;CN="Mental Health Association In Fayette County":MAILTO:info@mhafayette.org
END:VEVENT
BEGIN:VEVENT
DTSTART;TZID=UTC:20200213T110000
DTEND;TZID=UTC:20200213T123000
DTSTAMP:20260422T085137
CREATED:20200121T131141Z
LAST-MODIFIED:20200121T131141Z
UID:1999-1581591600-1581597000@www.mhafayette.org
SUMMARY:NAMI Family (Day)
DESCRIPTION:
URL:https://www.mhafayette.org/event/namifam0220a/
LOCATION:Fayette County Health Center – Braddock Room\, 100 New Salem Road (Basement)\, Uniontown\, PA\, 15401\, United States
CATEGORIES:Advocacy Calendar
ORGANIZER;CN="Fayette County NAMI (Family)":MAILTO:pbailor@mhafayette.org
END:VEVENT
BEGIN:VEVENT
DTSTART;TZID=UTC:20200127T103000
DTEND;TZID=UTC:20200127T120000
DTSTAMP:20260422T085137
CREATED:20191126T182200Z
LAST-MODIFIED:20191126T182200Z
UID:1947-1580121000-1580126400@www.mhafayette.org
SUMMARY:Partners For Recovery
DESCRIPTION:Partners is a community support program to help improve services\, systems of care\, and supports for those being treated for substance use and mental health issues. Meetings are open to anyone with an interest in mental health issues and advancing the quality of life for members and people with mental illness. \nSome points about PARTNERS FOR RECOVERY:\n• At Partners for Recovery Meetings\, you can have fellowship with others in a place where everyone can share their stories and experiences in recovery.\n• As a member of this group\, you can have a voice in how money for mental health services is spent and how services can serve people better.\n• You can help the group make a difference in the community and alleviatethe stigma of mental illness in society.\n• We welcome visitors who would like to take part in meetings and help us see more clearly what is working and what is not working in the local Mental Health Community. \nWe believe that “By promoting the principles of recovery and making relationships in the community\, the Fayette County Partners for Recovery is educating and providing public awareness of mental health”. \nMeetings are held at MHA Fayette located at the Fayette County Health Center at 100 New Salem Road in Uniontown\, Pennsylvania. This is conveniently located right along the FACT bus line. \nThe group meets in the Oak House Drop in Center.\nFor More Information about our Group\, please call (724) 438-6738 and ask for the PARTNERS facilitator. \n 
URL:https://www.mhafayette.org/event/partners0120/
LOCATION:Oak House Drop-In Center\, 680 Cherry Tree Lane\, Uniontown\, PA\, 15401\, United States
CATEGORIES:Advocacy Calendar
ORGANIZER;CN="Partners For Recovery":MAILTO:dmurray@mhafayette.org
END:VEVENT
BEGIN:VEVENT
DTSTART;VALUE=DATE:20200120
DTEND;VALUE=DATE:20200121
DTSTAMP:20260422T085137
CREATED:20200106T133801Z
LAST-MODIFIED:20200106T133801Z
UID:1957-1579478400-1579564799@www.mhafayette.org
SUMMARY:Office / Advocacy Center CLOSED
DESCRIPTION:The Mental Health Association \nWill be CLOSED \nOn \nMonday\, January 20\, 2019 \nIn observance of MARTIN LUTHER KING JR. HOLIDAY
URL:https://www.mhafayette.org/event/20200120-closure/
LOCATION:Mental Health Association In Fayette County\, 680 Cherry Tree Lane\, Uniontown\, PA\, 15401\, United States
CATEGORIES:Advocacy Calendar,MHA Events
ORGANIZER;CN="Mental Health Association In Fayette County":MAILTO:info@mhafayette.org
END:VEVENT
BEGIN:VEVENT
DTSTART;VALUE=DATE:20200101
DTEND;VALUE=DATE:20200102
DTSTAMP:20260422T085137
CREATED:20200106T133324Z
LAST-MODIFIED:20200106T133324Z
UID:1955-1577836800-1577923199@www.mhafayette.org
SUMMARY:Office / Drop-In Center Closed
DESCRIPTION:The Mental Health Association \nAnd \nOak House Drop-In Center \nWill be CLOSED \nOn \nWednesday\, January 1\, 2020 \nIn observance of NEW YEAR’S DAY
URL:https://www.mhafayette.org/event/20200101-closure/
LOCATION:Mental Health Association In Fayette County\, 680 Cherry Tree Lane\, Uniontown\, PA\, 15401\, United States
CATEGORIES:Advocacy Calendar,MHA Events
ORGANIZER;CN="Mental Health Association In Fayette County":MAILTO:info@mhafayette.org
END:VEVENT
BEGIN:VEVENT
DTSTART;VALUE=DATE:20191224
DTEND;VALUE=DATE:20191227
DTSTAMP:20260422T085137
CREATED:20181217T185122Z
LAST-MODIFIED:20181217T185122Z
UID:1501-1577145600-1577404799@www.mhafayette.org
SUMMARY:Office/Drop-In Center Closed
DESCRIPTION:The Mental Health Association Offices\, Oak House Drop-In Center and Advocacy Network will be closed from Tuesday\, December 24\, 2019 to Thursday\, December 26\, 2019 for the Observance of the Christmas Holiday.
URL:https://www.mhafayette.org/event/closure-xmas19/
LOCATION:Mental Health Association In Fayette County\, 680 Cherry Tree Lane\, Uniontown\, PA\, 15401\, United States
CATEGORIES:Advocacy Calendar,MHA Events
ORGANIZER;CN="Mental Health Association In Fayette County":MAILTO:info@mhafayette.org
END:VEVENT
BEGIN:VEVENT
DTSTART;TZID=UTC:20191218T180000
DTEND;TZID=UTC:20191218T193000
DTSTAMP:20260422T085137
CREATED:20191008T151616Z
LAST-MODIFIED:20191008T151616Z
UID:1861-1576692000-1576697400@www.mhafayette.org
SUMMARY:NAMI Family (Evening)
DESCRIPTION:
URL:https://www.mhafayette.org/event/namifameve1219/
LOCATION:Oak House Drop-In Center\, 680 Cherry Tree Lane\, Uniontown\, PA\, 15401\, United States
CATEGORIES:Advocacy Calendar
ORGANIZER;CN="Fayette County NAMI (Family)":MAILTO:pbailor@mhafayette.org
END:VEVENT
BEGIN:VEVENT
DTSTART;TZID=UTC:20191216T103000
DTEND;TZID=UTC:20191216T120000
DTSTAMP:20260422T085137
CREATED:20191126T181914Z
LAST-MODIFIED:20191126T181914Z
UID:1945-1576492200-1576497600@www.mhafayette.org
SUMMARY:Partners For Recovery
DESCRIPTION:Partners is a community support program to help improve services\, systems of care\, and supports for those being treated for substance use and mental health issues. Meetings are open to anyone with an interest in mental health issues and advancing the quality of life for members and people with mental illness. \nSome points about PARTNERS FOR RECOVERY:\n• At Partners for Recovery Meetings\, you can have fellowship with others in a place where everyone can share their stories and experiences in recovery.\n• As a member of this group\, you can have a voice in how money for mental health services is spent and how services can serve people better.\n• You can help the group make a difference in the community and alleviatethe stigma of mental illness in society.\n• We welcome visitors who would like to take part in meetings and help us see more clearly what is working and what is not working in the local Mental Health Community. \nWe believe that “By promoting the principles of recovery and making relationships in the community\, the Fayette County Partners for Recovery is educating and providing public awareness of mental health”. \nMeetings are held at MHA Fayette located at the Fayette County Health Center at 100 New Salem Road in Uniontown\, Pennsylvania. This is conveniently located right along the FACT bus line. \nThe group meets in the Oak House Drop in Center.\nFor More Information about our Group\, please call (724) 438-6738 and ask for the PARTNERS facilitator.
URL:https://www.mhafayette.org/event/partners-1219/
LOCATION:Oak House Drop-In Center\, 680 Cherry Tree Lane\, Uniontown\, PA\, 15401\, United States
CATEGORIES:Advocacy Calendar
ORGANIZER;CN="Partners For Recovery":MAILTO:dmurray@mhafayette.org
END:VEVENT
BEGIN:VEVENT
DTSTART;TZID=UTC:20191211T110000
DTEND;TZID=UTC:20191211T123000
DTSTAMP:20260422T085137
CREATED:20191008T151253Z
LAST-MODIFIED:20191008T151253Z
UID:1859-1576062000-1576067400@www.mhafayette.org
SUMMARY:NAMI Family (Day)
DESCRIPTION:
URL:https://www.mhafayette.org/event/namifamday1219/
LOCATION:Fayette County Health Center – Braddock Room\, 100 New Salem Road (Basement)\, Uniontown\, PA\, 15401\, United States
CATEGORIES:Advocacy Calendar
ORGANIZER;CN="Fayette County NAMI (Family)":MAILTO:pbailor@mhafayette.org
END:VEVENT
BEGIN:VEVENT
DTSTART;TZID=UTC:20191210T130000
DTEND;TZID=UTC:20191210T140000
DTSTAMP:20260422T085137
CREATED:20181017T142457Z
LAST-MODIFIED:20191008T152241Z
UID:1421-1575982800-1575986400@www.mhafayette.org
SUMMARY:Fayette County Family Council
DESCRIPTION:
URL:https://www.mhafayette.org/event/fcfc-dec2019/
LOCATION:Uniontown Public Library\, 24 Jefferson Street \, Uniontown\, PA\, 15401\, United States
CATEGORIES:Advocacy Calendar
END:VEVENT
BEGIN:VEVENT
DTSTART;VALUE=DATE:20191130
DTEND;VALUE=DATE:20191201
DTSTAMP:20260422T085137
CREATED:20181217T184810Z
LAST-MODIFIED:20181217T184810Z
UID:1499-1575072000-1575158399@www.mhafayette.org
SUMMARY:Drop-In Center Closed
DESCRIPTION:The Oak House Drop-In Center will be closed on Saturday\, November 30\, 2019 in observance of the Thanksgiving Holiday.
URL:https://www.mhafayette.org/event/diclosure-thanksgiving19/
LOCATION:Oak House Drop-In Center\, 680 Cherry Tree Lane\, Uniontown\, PA\, 15401\, United States
CATEGORIES:MHA Events
END:VEVENT
BEGIN:VEVENT
DTSTART;TZID=UTC:20191128T110000
DTEND;TZID=UTC:20191128T130000
DTSTAMP:20260422T085137
CREATED:20191106T180555Z
LAST-MODIFIED:20191106T180555Z
UID:1927-1574938800-1574946000@www.mhafayette.org
SUMMARY:Connellsville Thanksgiving Day Dinner
DESCRIPTION:
URL:https://www.mhafayette.org/event/connellsville-thanksgiving-day-dinner/
LOCATION:PA
CATEGORIES:Community Events
END:VEVENT
BEGIN:VEVENT
DTSTART;VALUE=DATE:20191128
DTEND;VALUE=DATE:20191130
DTSTAMP:20260422T085137
CREATED:20181217T184531Z
LAST-MODIFIED:20181217T185206Z
UID:1497-1574899200-1575071999@www.mhafayette.org
SUMMARY:Office/Drop-In Center Closed
DESCRIPTION:The Mental Health Association Offices\, Oak House Drop-In Center and Advocacy Network will be closed Thursday\, November 28\, 2019 and Friday\, November 29\, 2019 for the observance of the Thanksgiving Holiday.
URL:https://www.mhafayette.org/event/closure-thanksgiving19/
LOCATION:Mental Health Association In Fayette County\, 680 Cherry Tree Lane\, Uniontown\, PA\, 15401\, United States
CATEGORIES:Advocacy Calendar,MHA Events
ORGANIZER;CN="Mental Health Association In Fayette County":MAILTO:info@mhafayette.org
END:VEVENT
BEGIN:VEVENT
DTSTART;TZID=UTC:20191126T160000
DTEND;TZID=UTC:20191126T180000
DTSTAMP:20260422T085137
CREATED:20191106T181144Z
LAST-MODIFIED:20191106T181144Z
UID:1932-1574784000-1574791200@www.mhafayette.org
SUMMARY:Masontown Community Kitchen Dinner
DESCRIPTION:This site offers a community meal every other Tuesday\, 4–6 pm
URL:https://www.mhafayette.org/event/20191126-mcc/
LOCATION:PA
CATEGORIES:Community Events
END:VEVENT
BEGIN:VEVENT
DTSTART;TZID=UTC:20191120T180000
DTEND;TZID=UTC:20191120T193000
DTSTAMP:20260422T085137
CREATED:20191008T144502Z
LAST-MODIFIED:20191008T144533Z
UID:1853-1574272800-1574278200@www.mhafayette.org
SUMMARY:NAMI Family (Evening)
DESCRIPTION:
URL:https://www.mhafayette.org/event/namifampm-1119/
LOCATION:Oak House Drop-In Center\, 680 Cherry Tree Lane\, Uniontown\, PA\, 15401\, United States
CATEGORIES:Advocacy Calendar
ORGANIZER;CN="Fayette County NAMI (Family)":MAILTO:pbailor@mhafayette.org
END:VEVENT
BEGIN:VEVENT
DTSTART;TZID=UTC:20191116T130000
DTEND;TZID=UTC:20191116T160000
DTSTAMP:20260422T085137
CREATED:20191105T155609Z
LAST-MODIFIED:20191105T155609Z
UID:1923-1573909200-1573920000@www.mhafayette.org
SUMMARY:Connellsville Community Thanksgiving Dinner
DESCRIPTION:
URL:https://www.mhafayette.org/event/connellsville-community-thanksgiving-dinner-2019/
LOCATION:PA
CATEGORIES:Community Events
END:VEVENT
BEGIN:VEVENT
DTSTART;TZID=UTC:20191113T180000
DTEND;TZID=UTC:20191113T193000
DTSTAMP:20260422T085137
CREATED:20191010T173425Z
LAST-MODIFIED:20191010T173425Z
UID:1887-1573668000-1573673400@www.mhafayette.org
SUMMARY:2nd Annual Feed Fayette
DESCRIPTION:Join the Fayette County GSA & Fayette Outreach by collecting non perishable food items for Fayette County’s homeless. \nYou never know what someones story is & how they got to where they are today.\nIt’s a must we support anyone that’s hurting or in need. \nA lot of local homeless have told us “We didnt dream about this when we were little… One of us wanted to be a teacher\, another a flower shop owner.” \nLet’s work together & build a united community!♥️ \nHow can I help?\n**Start a collection at your\n-school -work -organization -sports team\n(options are endless) \n**Ask for non perishable food items. \n**Utilize a container with a sign.\n“2nd Annual Feed Fayette” \n**Collection date is Wed Nov 13\, 19. \nWe reserved a room in kind of Fayette County Behavioral Health. Volunteers will be there to assist with your donation drop off.\nIf you need a pick up or any questions please call\, email or message us.\nJeremiah & Brandie\nP: (724) 430-4893\nC: (724) 970-4477\nfayettecountygsa@gmail.com\npafayetteoutreach@gmail.com
URL:https://www.mhafayette.org/event/feedfayette2/
LOCATION:Fayette County Behavioral Health Administration\, 215 Jacob Murphy Lane\, Uniontown\, PA\, 15401\, United States
CATEGORIES:Advocacy Calendar
ORGANIZER;CN="Fayette County GSA":MAILTO:fayettecountygsa@gmail.com
END:VEVENT
BEGIN:VEVENT
DTSTART;TZID=UTC:20191113T110000
DTEND;TZID=UTC:20191113T123000
DTSTAMP:20260422T085137
CREATED:20191008T144112Z
LAST-MODIFIED:20191008T150255Z
UID:1848-1573642800-1573648200@www.mhafayette.org
SUMMARY:NAMI Family (Day)
DESCRIPTION:
URL:https://www.mhafayette.org/event/namfam-am-1119/
LOCATION:Fayette County Health Center – Braddock Room\, 100 New Salem Road (Basement)\, Uniontown\, PA\, 15401\, United States
CATEGORIES:Advocacy Calendar
ORGANIZER;CN="Fayette County NAMI (Family)":MAILTO:pbailor@mhafayette.org
END:VEVENT
BEGIN:VEVENT
DTSTART;TZID=UTC:20191109T130000
DTEND;TZID=UTC:20191109T150000
DTSTAMP:20260422T085137
CREATED:20190820T161209Z
LAST-MODIFIED:20190820T161232Z
UID:1821-1573304400-1573311600@www.mhafayette.org
SUMMARY:Advocacy Network Fall Unity Concert
DESCRIPTION:
URL:https://www.mhafayette.org/event/adnetfallunityconcert19/
LOCATION:State Theater Center For the Arts\, 37 East Main Street\, Uniontown\, PA\, 15401\, United States
CATEGORIES:Advocacy Calendar,MHA Events
END:VEVENT
BEGIN:VEVENT
DTSTART;TZID=UTC:20191106T173000
DTEND;TZID=UTC:20191106T193000
DTSTAMP:20260422T085137
CREATED:20191017T235044Z
LAST-MODIFIED:20191017T235044Z
UID:1892-1573061400-1573068600@www.mhafayette.org
SUMMARY:Suicide: The Ripple Effect
DESCRIPTION:
URL:https://www.mhafayette.org/event/suicide-the-ripple-effect-2019-11/
LOCATION:Penn State Fayette – Williams Building\, 2201 University Drive\, Lemont Furnace\, PA\, 15456\, United States
CATEGORIES:Community Events
END:VEVENT
BEGIN:VEVENT
DTSTART;TZID=UTC:20191105T130000
DTEND;TZID=UTC:20191105T140000
DTSTAMP:20260422T085137
CREATED:20191008T152752Z
LAST-MODIFIED:20191008T152752Z
UID:1866-1572958800-1572962400@www.mhafayette.org
SUMMARY:Fayette Family Council
DESCRIPTION:
URL:https://www.mhafayette.org/event/ffc-1119/
LOCATION:Uniontown Public Library\, 24 Jefferson Street \, Uniontown\, PA\, 15401\, United States
CATEGORIES:Advocacy Calendar
END:VEVENT
END:VCALENDAR