BEGIN:VCALENDAR
VERSION:2.0
PRODID:-//Mental Health Association of Fayette County - Home of the Advocacy Network - ECPv6.15.16//NONSGML v1.0//EN
CALSCALE:GREGORIAN
METHOD:PUBLISH
X-WR-CALNAME:Mental Health Association of Fayette County - Home of the Advocacy Network
X-ORIGINAL-URL:https://www.mhafayette.org
X-WR-CALDESC:Events for Mental Health Association of Fayette County - Home of the Advocacy Network
REFRESH-INTERVAL;VALUE=DURATION:PT1H
X-Robots-Tag:noindex
X-PUBLISHED-TTL:PT1H
BEGIN:VTIMEZONE
TZID:UTC
BEGIN:STANDARD
TZOFFSETFROM:+0000
TZOFFSETTO:+0000
TZNAME:UTC
DTSTART:20190101T000000
END:STANDARD
END:VTIMEZONE
BEGIN:VEVENT
DTSTART;TZID=UTC:20200831T103000
DTEND;TZID=UTC:20200831T113000
DTSTAMP:20260419T161836
CREATED:20200817T151650Z
LAST-MODIFIED:20200817T151650Z
UID:2151-1598869800-1598873400@www.mhafayette.org
SUMMARY:Fayette County Partners For Recovery
DESCRIPTION:Partners is a community support program to help improve services\, systems of care\, and supports for those being treated for substance use and mental health issues. Meetings are open to anyone with an interest in mental health issues and advancing the quality of life for members and people with mental illness. \nSome points about PARTNERS FOR RECOVERY:\n• At Partners for Recovery Meetings\, you can have fellowship with others in a place where everyone can share their stories and experiences in recovery.\n• As a member of this group\, you can have a voice in how money for mental health services is spent and how services can serve people better.\n• You can help the group make a difference in the community and alleviatethe stigma of mental illness in society.\n• We welcome visitors who would like to take part in meetings and help us see more clearly what is working and what is not working in the local Mental Health Community. \nWe believe that “By promoting the principles of recovery and making relationships in the community\, the Fayette County Partners for Recovery is educating and providing public awareness of mental health”.
URL:https://www.mhafayette.org/event/partners-202008/
LOCATION:PA
CATEGORIES:Advocacy Calendar
ORGANIZER;CN="Partners For Recovery":MAILTO:dmurray@mhafayette.org
END:VEVENT
BEGIN:VEVENT
DTSTART;TZID=UTC:20200828T130000
DTEND;TZID=UTC:20200828T140000
DTSTAMP:20260419T161836
CREATED:20200817T134846Z
LAST-MODIFIED:20200817T134846Z
UID:2129-1598619600-1598623200@www.mhafayette.org
SUMMARY:Beacon Health Options Presents: Peer Panel - Previous Leadership In Recovery
DESCRIPTION:
URL:https://www.mhafayette.org/event/beacon-20200828/
LOCATION:PA
CATEGORIES:Community Events
END:VEVENT
BEGIN:VEVENT
DTSTART;TZID=UTC:20200827T160000
DTEND;TZID=UTC:20200827T180000
DTSTAMP:20260419T161836
CREATED:20200817T150209Z
LAST-MODIFIED:20200817T150629Z
UID:2144-1598544000-1598551200@www.mhafayette.org
SUMMARY:Community Naloxone (Narcan) & Deterra Distribution Drive-Thru
DESCRIPTION:
URL:https://www.mhafayette.org/event/naloxone-20200827/
LOCATION:PA
CATEGORIES:Community Events
END:VEVENT
BEGIN:VEVENT
DTSTART;TZID=UTC:20200814T130000
DTEND;TZID=UTC:20200814T140000
DTSTAMP:20260419T161836
CREATED:20200728T000902Z
LAST-MODIFIED:20200728T000902Z
UID:2124-1597410000-1597413600@www.mhafayette.org
SUMMARY:Beacon Health Options Virtual Training: Safely Stepping Back into Our Community
DESCRIPTION:August 14\, 2020 Beacon Member Training on Stepping Safely Back into the Community
URL:https://www.mhafayette.org/event/beaconvts-2020-08-14-sau1/
LOCATION:PA
CATEGORIES:Community Events
END:VEVENT
BEGIN:VEVENT
DTSTART;TZID=UTC:20200813T110000
DTEND;TZID=UTC:20200813T123000
DTSTAMP:20260419T161836
CREATED:20200121T135635Z
LAST-MODIFIED:20200121T135635Z
UID:2024-1597316400-1597321800@www.mhafayette.org
SUMMARY:NAMI Family (Day)
DESCRIPTION:
URL:https://www.mhafayette.org/event/namifam0820a/
LOCATION:Fayette County Health Center – Braddock Room\, 100 New Salem Road (Basement)\, Uniontown\, PA\, 15401\, United States
CATEGORIES:Advocacy Calendar
ORGANIZER;CN="Fayette County NAMI (Family)":MAILTO:pbailor@mhafayette.org
END:VEVENT
BEGIN:VEVENT
DTSTART;TZID=UTC:20200729T180000
DTEND;TZID=UTC:20200729T193000
DTSTAMP:20260419T161836
CREATED:20200727T235358Z
LAST-MODIFIED:20200727T235358Z
UID:2121-1596045600-1596051000@www.mhafayette.org
SUMMARY:Fayette County GSA Virtual Support Meeting
DESCRIPTION:
URL:https://www.mhafayette.org/event/fcgsa-2020-07-2/
LOCATION:PA
CATEGORIES:Advocacy Calendar
ORGANIZER;CN="Fayette County GSA":MAILTO:fayettecountygsa@gmail.com
END:VEVENT
BEGIN:VEVENT
DTSTART;TZID=UTC:20200728T170000
DTEND;TZID=UTC:20200728T180000
DTSTAMP:20260419T161836
CREATED:20200721T010209Z
LAST-MODIFIED:20200721T010209Z
UID:2100-1595955600-1595959200@www.mhafayette.org
SUMMARY:Fayette County Family Council
DESCRIPTION:We are a group of families\, youth\, and community partners sharing our concerns\, thoughts and experiences with county services. Together we can build a better community with positive outcomes. Your voice can make a difference. Our next Zoom meeting will be on July 28 at 5:00pm. We hope to see you there.
URL:https://www.mhafayette.org/event/fcfc-0720-2/
LOCATION:PA
CATEGORIES:Advocacy Calendar
END:VEVENT
BEGIN:VEVENT
DTSTART;TZID=UTC:20200727T103000
DTEND;TZID=UTC:20200727T120000
DTSTAMP:20260419T161836
CREATED:20200106T154720Z
LAST-MODIFIED:20200721T005022Z
UID:1985-1595845800-1595851200@www.mhafayette.org
SUMMARY:Partners For Recovery
DESCRIPTION:Partners is a community support program to help improve services\, systems of care\, and supports for those being treated for substance use and mental health issues. Meetings are open to anyone with an interest in mental health issues and advancing the quality of life for members and people with mental illness. \nSome points about PARTNERS FOR RECOVERY: \n\nAt Partners for Recovery Meetings\, you can have fellowship with others in a place where everyone can share their stories and experiences in recovery.\nAs a member of this group\, you can have a voice in how money for mental health services is spent and how services can serve people better.\nYou can help the group make a difference in the community and alleviate the stigma of mental illness in society.\nWe welcome visitors who would like to take part in meetings and help us see more clearly what is working and what is not working in the local Mental Health Community.\n\nWe believe that “By promoting the principles of recovery and making relationships in the community\, the Fayette County Partners for Recovery is educating and providing public awareness of mental health”. \nPartners for Recovery meet the fourth Monday of every month from 10:30 AM until around noon. Meetings are held at MHA Fayette located at the Fayette County Health Center at 100 New Salem Road in Uniontown\, Pennsylvania. This is conveniently located right along the FACT bus line. \nFor More Information about our Group\, please call (724) 438-6738 and ask for the PARTNERS facilitator. \n\nUPDATE: Due to the COVID-19 National Emergency\, we will be transitioning our meetings for the time being to ZOOM. To register click the link in this event listing. If you do not have Internet capability\, please contact the MHA Office and ask the operator to be directed to the PARTNERS facilitator or their mailbox. \n 
URL:https://www.mhafayette.org/event/partners0720/
LOCATION:Oak House Drop-In Center\, 680 Cherry Tree Lane\, Uniontown\, PA\, 15401\, United States
CATEGORIES:Advocacy Calendar,MHA Events
ORGANIZER;CN="Partners For Recovery":MAILTO:dmurray@mhafayette.org
END:VEVENT
BEGIN:VEVENT
DTSTART;TZID=UTC:20200716T180000
DTEND;TZID=UTC:20200716T193000
DTSTAMP:20260419T161836
CREATED:20200121T135310Z
LAST-MODIFIED:20200121T135310Z
UID:2022-1594922400-1594927800@www.mhafayette.org
SUMMARY:NAMI Family (Evening)
DESCRIPTION:
URL:https://www.mhafayette.org/event/nami-family-evening/
LOCATION:Oak House Drop-In Center\, 680 Cherry Tree Lane\, Uniontown\, PA\, 15401\, United States
CATEGORIES:Advocacy Calendar
ORGANIZER;CN="Fayette County NAMI (Family)":MAILTO:pbailor@mhafayette.org
END:VEVENT
BEGIN:VEVENT
DTSTART;TZID=UTC:20200709T110000
DTEND;TZID=UTC:20200709T123000
DTSTAMP:20260419T161836
CREATED:20200121T134958Z
LAST-MODIFIED:20200121T134958Z
UID:2020-1594292400-1594297800@www.mhafayette.org
SUMMARY:NAMI Family (Day)
DESCRIPTION:
URL:https://www.mhafayette.org/event/namifam0720a/
LOCATION:Fayette County Health Center – Braddock Room\, 100 New Salem Road (Basement)\, Uniontown\, PA\, 15401\, United States
CATEGORIES:Advocacy Calendar
ORGANIZER;CN="NAMI of Fayette County":MAILTO:rjm.utown@gmail.com
END:VEVENT
BEGIN:VEVENT
DTSTART;VALUE=DATE:20200704
DTEND;VALUE=DATE:20200705
DTSTAMP:20260419T161836
CREATED:20200106T143527Z
LAST-MODIFIED:20200106T143527Z
UID:1975-1593820800-1593907199@www.mhafayette.org
SUMMARY:Drop-In Center Closed
DESCRIPTION:Oak House Drop-In Center \nWill be CLOSED \nOn \nSaturday\, July 4\, 2020 \nIn observance of INDEPENDENCE DAY
URL:https://www.mhafayette.org/event/20200704-updates/
LOCATION:Mental Health Association In Fayette County\, 680 Cherry Tree Lane\, Uniontown\, PA\, 15401\, United States
CATEGORIES:Advocacy Calendar,MHA Events
ORGANIZER;CN="Mental Health Association In Fayette County":MAILTO:info@mhafayette.org
END:VEVENT
BEGIN:VEVENT
DTSTART;VALUE=DATE:20200703
DTEND;VALUE=DATE:20200704
DTSTAMP:20260419T161836
CREATED:20200106T140753Z
LAST-MODIFIED:20200106T140753Z
UID:1967-1593734400-1593820799@www.mhafayette.org
SUMMARY:Office / Advocacy Center / Drop-In Center CLOSED
DESCRIPTION:The Mental Health Association (Excluding Rep. Payee Program)\nAnd\nOak House Drop-In Center \nWill be CLOSED \nOn \nFriday\, July 3\, 2020 \nIn observance of INDEPENDENCE DAY
URL:https://www.mhafayette.org/event/20200703-closure/
LOCATION:PA
CATEGORIES:Advocacy Calendar,MHA Events
END:VEVENT
BEGIN:VEVENT
DTSTART;TZID=UTC:20200629T103000
DTEND;TZID=UTC:20200629T120000
DTSTAMP:20260419T161836
CREATED:20200106T153009Z
LAST-MODIFIED:20200106T153009Z
UID:1983-1593426600-1593432000@www.mhafayette.org
SUMMARY:Partners For Recovery
DESCRIPTION:Partners is a community support program to help improve services\, systems of care\, and supports for those being treated for substance use and mental health issues. Meetings are open to anyone with an interest in mental health issues and advancing the quality of life for members and people with mental illness. \nSome points about PARTNERS FOR RECOVERY: \n\nAt Partners for Recovery Meetings\, you can have fellowship with others in a place where everyone can share their stories and experiences in recovery.\nAs a member of this group\, you can have a voice in how money for mental health services is spent and how services can serve people better.\nYou can help the group make a difference in the community and alleviate the stigma of mental illness in society.\nWe welcome visitors who would like to take part in meetings and help us see more clearly what is working and what is not working in the local Mental Health Community.\n\nWe believe that “By promoting the principles of recovery and making relationships in the community\, the Fayette County Partners for Recovery is educating and providing public awareness of mental health”. \nPartners for Recovery meet the fourth Monday of every month from 10:30 AM until around noon. Meetings are held at MHA Fayette located at the Fayette County Health Center at 100 New Salem Road in Uniontown\, Pennsylvania. This is conveniently located right along the FACT bus line. \nFor More Information about our Group\, please call (724) 438-6738 and ask for the PARTNERS facilitator.
URL:https://www.mhafayette.org/event/partners0620/
LOCATION:Oak House Drop-In Center\, 680 Cherry Tree Lane\, Uniontown\, PA\, 15401\, United States
CATEGORIES:Advocacy Calendar,MHA Events
ORGANIZER;CN="Partners For Recovery":MAILTO:dmurray@mhafayette.org
END:VEVENT
BEGIN:VEVENT
DTSTART;TZID=UTC:20200618T180000
DTEND;TZID=UTC:20200618T193000
DTSTAMP:20260419T161836
CREATED:20200121T134701Z
LAST-MODIFIED:20200121T134701Z
UID:2018-1592503200-1592508600@www.mhafayette.org
SUMMARY:NAMI Family (Evening)
DESCRIPTION:
URL:https://www.mhafayette.org/event/namifam0620p/
LOCATION:Oak House Drop-In Center\, 680 Cherry Tree Lane\, Uniontown\, PA\, 15401\, United States
CATEGORIES:Advocacy Calendar
ORGANIZER;CN="Fayette County NAMI (Family)":MAILTO:pbailor@mhafayette.org
END:VEVENT
BEGIN:VEVENT
DTSTART;TZID=UTC:20200611T110000
DTEND;TZID=UTC:20200611T123000
DTSTAMP:20260419T161836
CREATED:20200121T134407Z
LAST-MODIFIED:20200121T134407Z
UID:2016-1591873200-1591878600@www.mhafayette.org
SUMMARY:NAMI Family (Day)
DESCRIPTION:
URL:https://www.mhafayette.org/event/namifam0620a/
LOCATION:Fayette County Health Center – Braddock Room\, 100 New Salem Road (Basement)\, Uniontown\, PA\, 15401\, United States
CATEGORIES:Advocacy Calendar
ORGANIZER;CN="Fayette County NAMI (Family)":MAILTO:pbailor@mhafayette.org
END:VEVENT
BEGIN:VEVENT
DTSTART;VALUE=DATE:20200525
DTEND;VALUE=DATE:20200526
DTSTAMP:20260419T161836
CREATED:20200106T140156Z
LAST-MODIFIED:20200106T140156Z
UID:1965-1590364800-1590451199@www.mhafayette.org
SUMMARY:Office / Advocacy Center CLOSED
DESCRIPTION:The Mental Health Association \nWill be CLOSED \nOn \nMonday\, May 25\, 2020 \nIn observance of MEMORIAL DAY
URL:https://www.mhafayette.org/event/20200525-closure/
LOCATION:Mental Health Association In Fayette County\, 680 Cherry Tree Lane\, Uniontown\, PA\, 15401\, United States
CATEGORIES:Advocacy Calendar,MHA Events
ORGANIZER;CN="Mental Health Association In Fayette County":MAILTO:info@mhafayette.org
END:VEVENT
BEGIN:VEVENT
DTSTART;TZID=UTC:20200521T180000
DTEND;TZID=UTC:20200521T193000
DTSTAMP:20260419T161836
CREATED:20200121T133943Z
LAST-MODIFIED:20200121T133943Z
UID:2014-1590084000-1590089400@www.mhafayette.org
SUMMARY:NAMI Family (Evening)
DESCRIPTION:
URL:https://www.mhafayette.org/event/namifam0520p/
LOCATION:Oak House Drop-In Center\, 680 Cherry Tree Lane\, Uniontown\, PA\, 15401\, United States
CATEGORIES:Advocacy Calendar
ORGANIZER;CN="Fayette County NAMI (Family)":MAILTO:pbailor@mhafayette.org
END:VEVENT
BEGIN:VEVENT
DTSTART;TZID=UTC:20200518T103000
DTEND;TZID=UTC:20200518T120000
DTSTAMP:20260419T161836
CREATED:20200106T150348Z
LAST-MODIFIED:20200106T150348Z
UID:1981-1589797800-1589803200@www.mhafayette.org
SUMMARY:Partners For Recovery
DESCRIPTION:Partners is a community support program to help improve services\, systems of care\, and supports for those being treated for substance use and mental health issues. Meetings are open to anyone with an interest in mental health issues and advancing the quality of life for members and people with mental illness. \nSome points about PARTNERS FOR RECOVERY: \n\nAt Partners for Recovery Meetings\, you can have fellowship with others in a place where everyone can share their stories and experiences in recovery.\nAs a member of this group\, you can have a voice in how money for mental health services is spent and how services can serve people better.\nYou can help the group make a difference in the community and alleviate the stigma of mental illness in society.\nWe welcome visitors who would like to take part in meetings and help us see more clearly what is working and what is not working in the local Mental Health Community.\n\nWe believe that “By promoting the principles of recovery and making relationships in the community\, the Fayette County Partners for Recovery is educating and providing public awareness of mental health”. \nPartners for Recovery meet the fourth Monday of every month from 10:30 AM until around noon. Meetings are held at MHA Fayette located at the Fayette County Health Center at 100 New Salem Road in Uniontown\, Pennsylvania. This is conveniently located right along the FACT bus line. \nFor More Information about our Group\, please call (724) 438-6738 and ask for the PARTNERS facilitator.
URL:https://www.mhafayette.org/event/partners0520/
LOCATION:Oak House Drop-In Center\, 680 Cherry Tree Lane\, Uniontown\, PA\, 15401\, United States
CATEGORIES:Advocacy Calendar,MHA Events
ORGANIZER;CN="Partners For Recovery":MAILTO:dmurray@mhafayette.org
END:VEVENT
BEGIN:VEVENT
DTSTART;TZID=UTC:20200514T110000
DTEND;TZID=UTC:20200514T123000
DTSTAMP:20260419T161836
CREATED:20200121T133637Z
LAST-MODIFIED:20200121T133637Z
UID:2012-1589454000-1589459400@www.mhafayette.org
SUMMARY:NAMI Family (Day)
DESCRIPTION:
URL:https://www.mhafayette.org/event/namifam0520a/
LOCATION:Fayette County Health Center – Braddock Room\, 100 New Salem Road (Basement)\, Uniontown\, PA\, 15401\, United States
CATEGORIES:Advocacy Calendar
ORGANIZER;CN="Fayette County NAMI (Family)":MAILTO:pbailor@mhafayette.org
END:VEVENT
BEGIN:VEVENT
DTSTART;TZID=UTC:20200427T103000
DTEND;TZID=UTC:20200427T120000
DTSTAMP:20260419T161836
CREATED:20200106T145859Z
LAST-MODIFIED:20200106T145859Z
UID:1979-1587983400-1587988800@www.mhafayette.org
SUMMARY:Partners For Recovery
DESCRIPTION:Partners is a community support program to help improve services\, systems of care\, and supports for those being treated for substance use and mental health issues. Meetings are open to anyone with an interest in mental health issues and advancing the quality of life for members and people with mental illness. \nSome points about PARTNERS FOR RECOVERY: \n\nAt Partners for Recovery Meetings\, you can have fellowship with others in a place where everyone can share their stories and experiences in recovery.\nAs a member of this group\, you can have a voice in how money for mental health services is spent and how services can serve people better.\nYou can help the group make a difference in the community and alleviate the stigma of mental illness in society.\nWe welcome visitors who would like to take part in meetings and help us see more clearly what is working and what is not working in the local Mental Health Community.\n\nWe believe that “By promoting the principles of recovery and making relationships in the community\, the Fayette County Partners for Recovery is educating and providing public awareness of mental health”. \nPartners for Recovery meet the fourth Monday of every month from 10:30 AM until around noon. Meetings are held at MHA Fayette located at the Fayette County Health Center at 100 New Salem Road in Uniontown\, Pennsylvania. This is conveniently located right along the FACT bus line. \nFor More Information about our Group\, please call (724) 438-6738 and ask for the PARTNERS facilitator.
URL:https://www.mhafayette.org/event/partners0420/
LOCATION:Oak House Drop-In Center\, 680 Cherry Tree Lane\, Uniontown\, PA\, 15401\, United States
CATEGORIES:Advocacy Calendar,MHA Events
ORGANIZER;CN="Partners For Recovery":MAILTO:dmurray@mhafayette.org
END:VEVENT
BEGIN:VEVENT
DTSTART;TZID=UTC:20200416T180000
DTEND;TZID=UTC:20200416T193000
DTSTAMP:20260419T161836
CREATED:20200121T133230Z
LAST-MODIFIED:20200121T133230Z
UID:2010-1587060000-1587065400@www.mhafayette.org
SUMMARY:NAMI Family (Evening)
DESCRIPTION:
URL:https://www.mhafayette.org/event/namifam0420p/
LOCATION:Oak House Drop-In Center\, 680 Cherry Tree Lane\, Uniontown\, PA\, 15401\, United States
CATEGORIES:Advocacy Calendar
ORGANIZER;CN="Fayette County NAMI (Family)":MAILTO:pbailor@mhafayette.org
END:VEVENT
BEGIN:VEVENT
DTSTART;VALUE=DATE:20200411
DTEND;VALUE=DATE:20200412
DTSTAMP:20260419T161836
CREATED:20200106T135404Z
LAST-MODIFIED:20200106T135404Z
UID:1963-1586563200-1586649599@www.mhafayette.org
SUMMARY:Drop-In Center CLOSED
DESCRIPTION:The  Oak House Drop-In Center \nWill be CLOSED \nOn \nSaturday\, April 11\, 2020 \nIn observance of the EASTER HOLIDAY
URL:https://www.mhafayette.org/event/20200411-closure/
LOCATION:Oak House Drop-In Center\, 680 Cherry Tree Lane\, Uniontown\, PA\, 15401\, United States
CATEGORIES:Advocacy Calendar,MHA Events
END:VEVENT
BEGIN:VEVENT
DTSTART;VALUE=DATE:20200410
DTEND;VALUE=DATE:20200411
DTSTAMP:20260419T161836
CREATED:20200106T135034Z
LAST-MODIFIED:20200106T135034Z
UID:1961-1586476800-1586563199@www.mhafayette.org
SUMMARY:Office / Advocacy Center / Drop-In Center CLOSED
DESCRIPTION:The Mental Health Association\nAnd\nOak House Drop-In Center \nWill be CLOSED \nOn \nFriday\, April 10\, 2020 \nIn observance of GOOD FRIDAY
URL:https://www.mhafayette.org/event/20200410-closure/
LOCATION:Mental Health Association In Fayette County\, 680 Cherry Tree Lane\, Uniontown\, PA\, 15401\, United States
CATEGORIES:Advocacy Calendar,MHA Events
ORGANIZER;CN="Mental Health Association In Fayette County":MAILTO:info@mhafayette.org
END:VEVENT
BEGIN:VEVENT
DTSTART;TZID=UTC:20200409T110000
DTEND;TZID=UTC:20200409T123000
DTSTAMP:20260419T161836
CREATED:20200121T132811Z
LAST-MODIFIED:20200121T132811Z
UID:2008-1586430000-1586435400@www.mhafayette.org
SUMMARY:NAMI Family (Day)
DESCRIPTION:
URL:https://www.mhafayette.org/event/namifam0420a/
LOCATION:Fayette County Health Center – Braddock Room\, 100 New Salem Road (Basement)\, Uniontown\, PA\, 15401\, United States
CATEGORIES:Advocacy Calendar
ORGANIZER;CN="Fayette County NAMI (Family)":MAILTO:pbailor@mhafayette.org
END:VEVENT
BEGIN:VEVENT
DTSTART;TZID=UTC:20200330T103000
DTEND;TZID=UTC:20200330T123000
DTSTAMP:20260419T161836
CREATED:20191126T182759Z
LAST-MODIFIED:20191126T182759Z
UID:1951-1585564200-1585571400@www.mhafayette.org
SUMMARY:Partners For Recovery
DESCRIPTION:Partners is a community support program to help improve services\, systems of care\, and supports for those being treated for substance use and mental health issues. Meetings are open to anyone with an interest in mental health issues and advancing the quality of life for members and people with mental illness. \nSome points about PARTNERS FOR RECOVERY:\n• At Partners for Recovery Meetings\, you can have fellowship with others in a place where everyone can share their stories and experiences in recovery.\n• As a member of this group\, you can have a voice in how money for mental health services is spent and how services can serve people better.\n• You can help the group make a difference in the community and alleviatethe stigma of mental illness in society.\n• We welcome visitors who would like to take part in meetings and help us see more clearly what is working and what is not working in the local Mental Health Community. \nWe believe that “By promoting the principles of recovery and making relationships in the community\, the Fayette County Partners for Recovery is educating and providing public awareness of mental health”. \nMeetings are held at MHA Fayette located at the Fayette County Health Center at 100 New Salem Road in Uniontown\, Pennsylvania. This is conveniently located right along the FACT bus line.\nThe group meets in the Oak House Drop in Center.\nFor More Information about our Group\, please call (724) 438-6738 and ask for the PARTNERS facilitator.
URL:https://www.mhafayette.org/event/partners0320/
LOCATION:Oak House Drop-In Center\, 680 Cherry Tree Lane\, Uniontown\, PA\, 15401\, United States
CATEGORIES:Advocacy Calendar
ORGANIZER;CN="Partners For Recovery":MAILTO:dmurray@mhafayette.org
END:VEVENT
BEGIN:VEVENT
DTSTART;TZID=UTC:20200319T180000
DTEND;TZID=UTC:20200319T193000
DTSTAMP:20260419T161836
CREATED:20200121T131937Z
LAST-MODIFIED:20200121T131937Z
UID:2006-1584640800-1584646200@www.mhafayette.org
SUMMARY:NAMI Family (Evening)
DESCRIPTION:
URL:https://www.mhafayette.org/event/namifam0320p/
LOCATION:Oak House Drop-In Center\, 680 Cherry Tree Lane\, Uniontown\, PA\, 15401\, United States
CATEGORIES:Advocacy Calendar
ORGANIZER;CN="Fayette County NAMI (Family)":MAILTO:pbailor@mhafayette.org
END:VEVENT
BEGIN:VEVENT
DTSTART;TZID=UTC:20200312T110000
DTEND;TZID=UTC:20200312T123000
DTSTAMP:20260419T161836
CREATED:20200121T131703Z
LAST-MODIFIED:20200121T131703Z
UID:2004-1584010800-1584016200@www.mhafayette.org
SUMMARY:NAMI Family (Day)
DESCRIPTION:
URL:https://www.mhafayette.org/event/namifam0320a/
LOCATION:Fayette County Health Center – Braddock Room\, 100 New Salem Road (Basement)\, Uniontown\, PA\, 15401\, United States
CATEGORIES:Advocacy Calendar
ORGANIZER;CN="Fayette County NAMI (Family)":MAILTO:pbailor@mhafayette.org
END:VEVENT
BEGIN:VEVENT
DTSTART;TZID=UTC:20200224T103000
DTEND;TZID=UTC:20200224T120000
DTSTAMP:20260419T161836
CREATED:20191126T182437Z
LAST-MODIFIED:20191126T182437Z
UID:1949-1582540200-1582545600@www.mhafayette.org
SUMMARY:Partners For Recovery
DESCRIPTION:Partners is a community support program to help improve services\, systems of care\, and supports for those being treated for substance use and mental health issues. Meetings are open to anyone with an interest in mental health issues and advancing the quality of life for members and people with mental illness. \nSome points about PARTNERS FOR RECOVERY:\n• At Partners for Recovery Meetings\, you can have fellowship with others in a place where everyone can share their stories and experiences in recovery.\n• As a member of this group\, you can have a voice in how money for mental health services is spent and how services can serve people better.\n• You can help the group make a difference in the community and alleviatethe stigma of mental illness in society.\n• We welcome visitors who would like to take part in meetings and help us see more clearly what is working and what is not working in the local Mental Health Community. \nWe believe that “By promoting the principles of recovery and making relationships in the community\, the Fayette County Partners for Recovery is educating and providing public awareness of mental health”. \nMeetings are held at MHA Fayette located at the Fayette County Health Center at 100 New Salem Road in Uniontown\, Pennsylvania. This is conveniently located right along the FACT bus line.\nThe group meets in the Oak House Drop in Center.\nFor More Information about our Group\, please call (724) 438-6738 and ask for the PARTNERS facilitator. \n 
URL:https://www.mhafayette.org/event/partners0220/
LOCATION:Oak House Drop-In Center\, 680 Cherry Tree Lane\, Uniontown\, PA\, 15401\, United States
CATEGORIES:Advocacy Calendar
ORGANIZER;CN="Partners For Recovery":MAILTO:dmurray@mhafayette.org
END:VEVENT
BEGIN:VEVENT
DTSTART;TZID=UTC:20200220T180000
DTEND;TZID=UTC:20200220T193000
DTSTAMP:20260419T161836
CREATED:20200121T131417Z
LAST-MODIFIED:20200121T131417Z
UID:2002-1582221600-1582227000@www.mhafayette.org
SUMMARY:NAMI Family (Evening)
DESCRIPTION:Fa
URL:https://www.mhafayette.org/event/namifam0220p/
LOCATION:Oak House Drop-In Center\, 680 Cherry Tree Lane\, Uniontown\, PA\, 15401\, United States
CATEGORIES:Advocacy Calendar
ORGANIZER;CN="Fayette County NAMI (Family)":MAILTO:pbailor@mhafayette.org
END:VEVENT
BEGIN:VEVENT
DTSTART;VALUE=DATE:20200217
DTEND;VALUE=DATE:20200218
DTSTAMP:20260419T161836
CREATED:20200106T134108Z
LAST-MODIFIED:20200106T134202Z
UID:1959-1581897600-1581983999@www.mhafayette.org
SUMMARY:Office / Advocacy Center CLOSED
DESCRIPTION:The Mental Health Association \nWill be CLOSED \nOn \nMonday\, February 17\, 2020 \nIn observance of PRESIDENT’S DAY HOLIDAY
URL:https://www.mhafayette.org/event/20200217-closure/
LOCATION:Mental Health Association In Fayette County\, 680 Cherry Tree Lane\, Uniontown\, PA\, 15401\, United States
CATEGORIES:Advocacy Calendar,MHA Events
ORGANIZER;CN="Mental Health Association In Fayette County":MAILTO:info@mhafayette.org
END:VEVENT
END:VCALENDAR