BEGIN:VCALENDAR
VERSION:2.0
PRODID:-//Mental Health Association of Fayette County - Home of the Advocacy Network - ECPv6.15.16//NONSGML v1.0//EN
CALSCALE:GREGORIAN
METHOD:PUBLISH
X-WR-CALNAME:Mental Health Association of Fayette County - Home of the Advocacy Network
X-ORIGINAL-URL:https://www.mhafayette.org
X-WR-CALDESC:Events for Mental Health Association of Fayette County - Home of the Advocacy Network
REFRESH-INTERVAL;VALUE=DURATION:PT1H
X-Robots-Tag:noindex
X-PUBLISHED-TTL:PT1H
BEGIN:VTIMEZONE
TZID:UTC
BEGIN:STANDARD
TZOFFSETFROM:+0000
TZOFFSETTO:+0000
TZNAME:UTC
DTSTART:20190101T000000
END:STANDARD
END:VTIMEZONE
BEGIN:VTIMEZONE
TZID:Asia/Karachi
BEGIN:STANDARD
TZOFFSETFROM:+0500
TZOFFSETTO:+0500
TZNAME:PKT
DTSTART:20190101T000000
END:STANDARD
END:VTIMEZONE
BEGIN:VEVENT
DTSTART;TZID=UTC:20210329T103000
DTEND;TZID=UTC:20210329T120000
DTSTAMP:20260419T130958
CREATED:20210112T220712Z
LAST-MODIFIED:20210112T220712Z
UID:2289-1617013800-1617019200@www.mhafayette.org
SUMMARY:Fayette County Partners For Recovery
DESCRIPTION:
URL:https://www.mhafayette.org/event/partners-2021-03/
LOCATION:PA
CATEGORIES:Advocacy Calendar
ORGANIZER;CN="Partners For Recovery":MAILTO:dmurray@mhafayette.org
END:VEVENT
BEGIN:VEVENT
DTSTART;TZID=UTC:20210326T170000
DTEND;TZID=UTC:20210326T180000
DTSTAMP:20260419T130958
CREATED:20210112T211808Z
LAST-MODIFIED:20210112T211808Z
UID:2268-1616778000-1616781600@www.mhafayette.org
SUMMARY:Fayette County Family Council
DESCRIPTION:
URL:https://www.mhafayette.org/event/fcfc-2021-03-26/
LOCATION:PA
CATEGORIES:Advocacy Calendar
END:VEVENT
BEGIN:VEVENT
DTSTART;TZID=UTC:20210319T130000
DTEND;TZID=UTC:20210319T143000
DTSTAMP:20260419T130958
CREATED:20210310T223437Z
LAST-MODIFIED:20210313T230505Z
UID:2319-1616158800-1616164200@www.mhafayette.org
SUMMARY:Beacon Virtual Member Trainings - Uncomfortable Conversations
DESCRIPTION:Join Beacon Health Options\, the Behavioral Health Managed Care Organization in Fayette  and eleven other western Pennsylvania Counties as they host a training for Health Choices Members in: \nA panel discussion on Uncomfortable Conversations on Stigma and Implicit Bias \nRegistration \n1-646-876-923 \nMeeting ID: 968 1013 4551 \nPassword: 019754
URL:https://www.mhafayette.org/event/20210319-uncomfortableconversations/
LOCATION:PA
CATEGORIES:Community Events
END:VEVENT
BEGIN:VEVENT
DTSTART;TZID=UTC:20210316T140000
DTEND;TZID=UTC:20210316T150000
DTSTAMP:20260419T130958
CREATED:20210310T222912Z
LAST-MODIFIED:20210313T230332Z
UID:2317-1615903200-1615906800@www.mhafayette.org
SUMMARY:Beacon Health Options Member Series: Stop Drop and Lollipop – A Tobacco Cessation Presentation
DESCRIPTION:Join Beacon Health Options\, the Behavioral Health Managed Care Organization and eleven other western Pennsylvania Counties as they host a training for Health Choices Members in: \nStop Drop and Lollipop – A Tobacco Cessation Presentation\nPresented by Katie Hartman from Adagio Health \nRegistration \nCall In Information: \n1-646-876-9923\nMeeting ID: 942 5452 6929 \nPassword: 475356
URL:https://www.mhafayette.org/event/20210316-beacon/
LOCATION:PA
CATEGORIES:Community Events
END:VEVENT
BEGIN:VEVENT
DTSTART;TZID=UTC:20210312T130000
DTEND;TZID=UTC:20210312T140000
DTSTAMP:20260419T130958
CREATED:20210112T211444Z
LAST-MODIFIED:20210112T211444Z
UID:2266-1615554000-1615557600@www.mhafayette.org
SUMMARY:Fayette County Family Council
DESCRIPTION:
URL:https://www.mhafayette.org/event/fcfc-2020-03-12/
LOCATION:PA
CATEGORIES:Advocacy Calendar
END:VEVENT
BEGIN:VEVENT
DTSTART;TZID=UTC:20210226T170000
DTEND;TZID=UTC:20210226T180000
DTSTAMP:20260419T130958
CREATED:20210112T211147Z
LAST-MODIFIED:20210112T211147Z
UID:2264-1614358800-1614362400@www.mhafayette.org
SUMMARY:Fayette County Family Council
DESCRIPTION:
URL:https://www.mhafayette.org/event/fcfc-2021-02-26/
LOCATION:PA
CATEGORIES:Advocacy Calendar
END:VEVENT
BEGIN:VEVENT
DTSTART;TZID=UTC:20210222T103000
DTEND;TZID=UTC:20210222T120000
DTSTAMP:20260419T130958
CREATED:20210112T220437Z
LAST-MODIFIED:20210112T220437Z
UID:2287-1613989800-1613995200@www.mhafayette.org
SUMMARY:Fayette County Partners For Recovery
DESCRIPTION:
URL:https://www.mhafayette.org/event/partners-2021-02/
LOCATION:PA
CATEGORIES:Advocacy Calendar
ORGANIZER;CN="Partners For Recovery":MAILTO:dmurray@mhafayette.org
END:VEVENT
BEGIN:VEVENT
DTSTART;TZID=UTC:20210212T080000
DTEND;TZID=UTC:20210212T170000
DTSTAMP:20260419T130958
CREATED:20210112T210205Z
LAST-MODIFIED:20210112T210205Z
UID:2262-1613116800-1613149200@www.mhafayette.org
SUMMARY:Fayette County Family Council
DESCRIPTION:
URL:https://www.mhafayette.org/event/fcfc-2021-02-12/
LOCATION:PA
CATEGORIES:Advocacy Calendar
END:VEVENT
BEGIN:VEVENT
DTSTART;TZID=UTC:20210125T103000
DTEND;TZID=UTC:20210125T120000
DTSTAMP:20260419T130958
CREATED:20210112T220214Z
LAST-MODIFIED:20210112T220214Z
UID:2284-1611570600-1611576000@www.mhafayette.org
SUMMARY:Fayette County Partners For Recovery
DESCRIPTION:
URL:https://www.mhafayette.org/event/partners-2021-01/
LOCATION:PA
CATEGORIES:Advocacy Calendar
ORGANIZER;CN="Partners For Recovery":MAILTO:dmurray@mhafayette.org
END:VEVENT
BEGIN:VEVENT
DTSTART;TZID=UTC:20210123T170000
DTEND;TZID=UTC:20210123T180000
DTSTAMP:20260419T130958
CREATED:20210112T205847Z
LAST-MODIFIED:20210112T205847Z
UID:2259-1611421200-1611424800@www.mhafayette.org
SUMMARY:Fayette County Family Council
DESCRIPTION:
URL:https://www.mhafayette.org/event/fcfc-2021-01-4/
LOCATION:PA
CATEGORIES:Advocacy Calendar
END:VEVENT
BEGIN:VEVENT
DTSTART;VALUE=DATE:20210118
DTEND;VALUE=DATE:20210119
DTSTAMP:20260419T130958
CREATED:20210112T192655Z
LAST-MODIFIED:20210112T192655Z
UID:2227-1610928000-1611014399@www.mhafayette.org
SUMMARY:MHA Office / Advocacy Center Closed
DESCRIPTION:The MHA Office and Oak House Drop-In Center will be closed on Monday\, January 18\, 2021 for the Martin Luther King Jr. Holiday Operations at the MHA Office will resume on Tuesday\, January 19. 2021 at 8:00 AM
URL:https://www.mhafayette.org/event/closing20210118/
LOCATION:Mental Health Association In Fayette County\, 680 Cherry Tree Lane\, Uniontown\, PA\, 15401\, United States
CATEGORIES:Advocacy Calendar,MHA Events
ORGANIZER;CN="Mental Health Association In Fayette County":MAILTO:info@mhafayette.org
END:VEVENT
BEGIN:VEVENT
DTSTART;VALUE=DATE:20210101
DTEND;VALUE=DATE:20210102
DTSTAMP:20260419T130958
CREATED:20210112T192321Z
LAST-MODIFIED:20210112T192321Z
UID:2225-1609459200-1609545599@www.mhafayette.org
SUMMARY:MHA Office / Oak House Drop-In Center CLOSED
DESCRIPTION:The MHA Office and Oak House Drop-In Center will be closed on Friday\, January 1\, 2021 for the New Year’s Day Holiday Operations at the MHA Office will resume on Monday\, January 4. 2021
URL:https://www.mhafayette.org/event/closing20210101/
LOCATION:Mental Health Association In Fayette County\, 680 Cherry Tree Lane\, Uniontown\, PA\, 15401\, United States
CATEGORIES:Advocacy Calendar,MHA Events
ORGANIZER;CN="Mental Health Association In Fayette County":MAILTO:info@mhafayette.org
END:VEVENT
BEGIN:VEVENT
DTSTART;VALUE=DATE:20201223
DTEND;VALUE=DATE:20201227
DTSTAMP:20260419T130958
CREATED:20200106T144638Z
LAST-MODIFIED:20200106T144638Z
UID:1977-1608681600-1609027199@www.mhafayette.org
SUMMARY:Office / Advocacy Center / Drop-In Center CLOSED
DESCRIPTION:The Mental Health Association \nAnd \nOak House Drop-In Center \nWill be CLOSED \nOn \nWednesday\, December 23rd through Saturday\, December 26th In observance of the CHRISTMAS HOLIDAY
URL:https://www.mhafayette.org/event/2020christmas/
LOCATION:Mental Health Association In Fayette County\, 680 Cherry Tree Lane\, Uniontown\, PA\, 15401\, United States
CATEGORIES:Advocacy Calendar,MHA Events
ORGANIZER;CN="Mental Health Association In Fayette County":MAILTO:info@mhafayette.org
END:VEVENT
BEGIN:VEVENT
DTSTART;TZID=UTC:20201221T103000
DTEND;TZID=UTC:20201221T113000
DTSTAMP:20260419T130958
CREATED:20200828T145657Z
LAST-MODIFIED:20201023T224353Z
UID:2178-1608546600-1608550200@www.mhafayette.org
SUMMARY:Fayette County Partners For Recovery
DESCRIPTION:What Is Partners For Recovery? \nPartners is a community support program to help improve services\, systems of care\, and supports for those being treated for substance use and mental health issues. Meetings are open to anyone with an interest in mental health issues and advancing the quality of life for members and people with mental illness. \nSome points about PARTNERS FOR RECOVERY: \n\nAt Partners for Recovery Meetings\, you can have fellowship with others in a place where everyone can share their stories and experiences in recovery.\nAs a member of this group\, you can have a voice in how money for mental health services is spent and how services can serve people better.\nYou can help the group make a difference in the community and alleviate the stigma of mental illness in society.\nWe welcome visitors who would like to take part in meetings and help us see more clearly what is working and what is not working in the local Mental Health Community.\n\nWe believe that “By promoting the principles of recovery and making relationships in the community\, the Fayette County Partners for Recovery is educating and providing public awareness of mental health”. \nPartners for Recovery meet the last Monday of every month from 10:30 AM until around noon. \nDue to the COVID-19 Pandemic\, Partners will be meeting via ZOOM until Further Notice. To be connected please follow their social media channels or register through EventBrite Here \n 
URL:https://www.mhafayette.org/event/fcp4r-1220/
LOCATION:PA
CATEGORIES:Advocacy Calendar
ORGANIZER;CN="Partners For Recovery":MAILTO:dmurray@mhafayette.org
END:VEVENT
BEGIN:VEVENT
DTSTART;TZID=UTC:20201130T103000
DTEND;TZID=UTC:20201130T113000
DTSTAMP:20260419T130958
CREATED:20200828T145424Z
LAST-MODIFIED:20201023T231725Z
UID:2176-1606732200-1606735800@www.mhafayette.org
SUMMARY:Fayette County Partners For Recovery
DESCRIPTION:What Is Partners For Recovery? \nPartners is a community support program to help improve services\, systems of care\, and supports for those being treated for substance use and mental health issues. Meetings are open to anyone with an interest in mental health issues and advancing the quality of life for members and people with mental illness. \nSome points about PARTNERS FOR RECOVERY: \n\nAt Partners for Recovery Meetings\, you can have fellowship with others in a place where everyone can share their stories and experiences in recovery.\nAs a member of this group\, you can have a voice in how money for mental health services is spent and how services can serve people better.\nYou can help the group make a difference in the community and alleviate the stigma of mental illness in society.\nWe welcome visitors who would like to take part in meetings and help us see more clearly what is working and what is not working in the local Mental Health Community.\n\nWe believe that “By promoting the principles of recovery and making relationships in the community\, the Fayette County Partners for Recovery is educating and providing public awareness of mental health”. \nPartners for Recovery meet the last Monday of every month from 10:30 AM until around noon. \nDue to the COVID-19 Pandemic\, Partners will be meeting via ZOOM until Further Notice. To be connected please follow their social media channels or register through EventBrite Here \n  \n  \n 
URL:https://www.mhafayette.org/event/fcp4r-1120/
LOCATION:PA
CATEGORIES:Advocacy Calendar
ORGANIZER;CN="Partners For Recovery":MAILTO:dmurray@mhafayette.org
END:VEVENT
BEGIN:VEVENT
DTSTART;VALUE=DATE:20201128
DTEND;VALUE=DATE:20201129
DTSTAMP:20260419T130958
CREATED:20200721T011025Z
LAST-MODIFIED:20200721T011046Z
UID:2106-1606521600-1606607999@www.mhafayette.org
SUMMARY:Drop-In Center CLOSED
DESCRIPTION:The Oak House Drop-In Center will be CLOSED on Saturday\, November 29\, 2020 for the Thanksgiving Holiday and will reopen on Tuesday\, December 1\, 2020 at 8:00 AM
URL:https://www.mhafayette.org/event/dic-thanksgiving-saturday/
LOCATION:Oak House Drop-In Center\, 680 Cherry Tree Lane\, Uniontown\, PA\, 15401\, United States
CATEGORIES:MHA Events
END:VEVENT
BEGIN:VEVENT
DTSTART;VALUE=DATE:20201126
DTEND;VALUE=DATE:20201128
DTSTAMP:20260419T130958
CREATED:20200721T010736Z
LAST-MODIFIED:20200721T010806Z
UID:2104-1606348800-1606521599@www.mhafayette.org
SUMMARY:Office / Advocacy Center / Drop-In Center CLOSED
DESCRIPTION:The Mental Health Association\, Advocacy Office and Drop-In Center will be CLOSED on Thursday\, November 26 and Friday\, November 27 for the Thanksgiving Holiday. The Office will  reopen on Monday\, November 30th at 8:00 AM and the Drop-In will reopen Tuesday\, December 1 at 8:00 AM
URL:https://www.mhafayette.org/event/closing-thanksgiving-2020-week/
LOCATION:Mental Health Association In Fayette County\, 680 Cherry Tree Lane\, Uniontown\, PA\, 15401\, United States
ORGANIZER;CN="Mental Health Association In Fayette County":MAILTO:info@mhafayette.org
END:VEVENT
BEGIN:VEVENT
DTSTART;TZID=UTC:20201124T170000
DTEND;TZID=UTC:20201124T180000
DTSTAMP:20260419T130958
CREATED:20200828T144240Z
LAST-MODIFIED:20200828T144240Z
UID:2169-1606237200-1606240800@www.mhafayette.org
SUMMARY:Fayette County Family Council
DESCRIPTION:Who We Are \nWe are a group of parents who have children that access services through one or more of the child-serving systems (Juvenile Probation\, Drug & Alcohol\, Mental Health\, Children & Youth\, Intellectual and Developmental Disabilities) \nWhat We Do \nWe work together to build collaboration between families and professionals to achieve positive outcomes \nHow We Do This \nSupport Each Other!\nShare our stories and experiences.\nParticipate in trainings and outreach events.\nUse our voice to make a difference! \n\nMeetings on Zoom \nPlease visit the Fayette County Family Council’s Facebook Group for Meeting Login Information. Meetings are generally held on the Second Tuesday of the month at 1:00 PM and the Fourth Tuesday of the Month at 5:00 PM
URL:https://www.mhafayette.org/event/fcfc-1120-2/
LOCATION:PA
CATEGORIES:Advocacy Calendar
END:VEVENT
BEGIN:VEVENT
DTSTART;TZID=UTC:20201110T130000
DTEND;TZID=UTC:20201110T140000
DTSTAMP:20260419T130958
CREATED:20200828T143848Z
LAST-MODIFIED:20200828T143848Z
UID:2167-1605013200-1605016800@www.mhafayette.org
SUMMARY:Fayette County Family Council
DESCRIPTION:Who We Are \nWe are a group of parents who have children that access services through one or more of the child-serving systems (Juvenile Probation\, Drug & Alcohol\, Mental Health\, Children & Youth\, Intellectual and Developmental Disabilities) \nWhat We Do \nWe work together to build collaboration between families and professionals to achieve positive outcomes \nHow We Do This \nSupport Each Other!\nShare our stories and experiences.\nParticipate in trainings and outreach events.\nUse our voice to make a difference! \n\nMeetings on Zoom \nPlease visit the Fayette County Family Council’s Facebook Group for Meeting Login Information. Meetings are generally held on the Second Tuesday of the month at 1:00 PM and the Fourth Tuesday of the Month at 5:00 PM
URL:https://www.mhafayette.org/event/fcfc-1120-1/
LOCATION:PA
CATEGORIES:Advocacy Calendar
END:VEVENT
BEGIN:VEVENT
DTSTART;TZID=UTC:20201027T170000
DTEND;TZID=UTC:20201027T180000
DTSTAMP:20260419T130958
CREATED:20200828T143432Z
LAST-MODIFIED:20200828T143432Z
UID:2165-1603818000-1603821600@www.mhafayette.org
SUMMARY:Fayette County Family Council
DESCRIPTION:Who We Are \nWe are a group of parents who have children that access services through one or more of the child-serving systems (Juvenile Probation\, Drug & Alcohol\, Mental Health\, Children & Youth\, Intellectual and Developmental Disabilities) \nWhat We Do \nWe work together to build collaboration between families and professionals to achieve positive outcomes \nHow We Do This \nSupport Each Other!\nShare our stories and experiences.\nParticipate in trainings and outreach events.\nUse our voice to make a difference! \n\nMeetings on Zoom \nPlease visit the Fayette County Family Council’s Facebook Group for Meeting Login Information. Meetings are generally held on the Second Tuesday of the month at 1:00 PM and the Fourth Tuesday of the Month at 5:00 PM
URL:https://www.mhafayette.org/event/fcfc-1020-2/
LOCATION:PA
CATEGORIES:Advocacy Calendar
END:VEVENT
BEGIN:VEVENT
DTSTART;TZID=UTC:20201026T103000
DTEND;TZID=UTC:20201026T113000
DTSTAMP:20260419T130958
CREATED:20200828T145210Z
LAST-MODIFIED:20200828T145226Z
UID:2174-1603708200-1603711800@www.mhafayette.org
SUMMARY:Fayette County Partners For Recovery
DESCRIPTION:What Is Partners For Recovery? \nPartners is a community support program to help improve services\, systems of care\, and supports for those being treated for substance use and mental health issues. Meetings are open to anyone with an interest in mental health issues and advancing the quality of life for members and people with mental illness. \nSome points about PARTNERS FOR RECOVERY: \n\nAt Partners for Recovery Meetings\, you can have fellowship with others in a place where everyone can share their stories and experiences in recovery.\nAs a member of this group\, you can have a voice in how money for mental health services is spent and how services can serve people better.\nYou can help the group make a difference in the community and alleviate the stigma of mental illness in society.\nWe welcome visitors who would like to take part in meetings and help us see more clearly what is working and what is not working in the local Mental Health Community.\n\nWe believe that “By promoting the principles of recovery and making relationships in the community\, the Fayette County Partners for Recovery is educating and providing public awareness of mental health”. \nPartners for Recovery meet the last Monday of every month from 10:30 AM until around noon. \nDue to the COVID-19 Pandemic\, Partners will be meeting via ZOOM until Further Notice. To be connected please follow their social media channels \n  \n 
URL:https://www.mhafayette.org/event/fcp4r-1020/
LOCATION:PA
CATEGORIES:Advocacy Calendar
ORGANIZER;CN="Partners For Recovery":MAILTO:dmurray@mhafayette.org
END:VEVENT
BEGIN:VEVENT
DTSTART;TZID=UTC:20201013T130000
DTEND;TZID=UTC:20201013T140000
DTSTAMP:20260419T130958
CREATED:20200828T143133Z
LAST-MODIFIED:20200828T143133Z
UID:2163-1602594000-1602597600@www.mhafayette.org
SUMMARY:Fayette County Family Council
DESCRIPTION:Who We Are \nWe are a group of parents who have children that access services through one or more of the child-serving systems (Juvenile Probation\, Drug & Alcohol\, Mental Health\, Children & Youth\, Intellectual and Developmental Disabilities) \nWhat We Do \nWe work together to build collaboration between families and professionals to achieve positive outcomes \nHow We Do This \nSupport Each Other!\nShare our stories and experiences.\nParticipate in trainings and outreach events.\nUse our voice to make a difference! \n\nMeetings on Zoom \nPlease visit the Fayette County Family Council’s Facebook Group for Meeting Login Information. Meetings are generally held on the Second Tuesday of the month at 1:00 PM and the Fourth Tuesday of the Month at 5:00 PM
URL:https://www.mhafayette.org/event/fcfc-1020-1/
LOCATION:PA
CATEGORIES:Advocacy Calendar
END:VEVENT
BEGIN:VEVENT
DTSTART;VALUE=DATE:20201012
DTEND;VALUE=DATE:20201013
DTSTAMP:20260419T130958
CREATED:20200106T142322Z
LAST-MODIFIED:20200106T142322Z
UID:1971-1602460800-1602547199@www.mhafayette.org
SUMMARY:Office / Advocacy Center CLOSED
DESCRIPTION:The Mental Health Association ( \nWill be CLOSED \nOn \nMonday\, October 12\, 2020 \nIn observance of COLUMBUS DAY
URL:https://www.mhafayette.org/event/20201012-closure/
LOCATION:Mental Health Association In Fayette County\, 680 Cherry Tree Lane\, Uniontown\, PA\, 15401\, United States
CATEGORIES:Advocacy Calendar,MHA Events
ORGANIZER;CN="Mental Health Association In Fayette County":MAILTO:info@mhafayette.org
END:VEVENT
BEGIN:VEVENT
DTSTART;TZID=UTC:20200928T103000
DTEND;TZID=UTC:20200928T120000
DTSTAMP:20260419T130958
CREATED:20200828T145001Z
LAST-MODIFIED:20200828T145001Z
UID:2172-1601289000-1601294400@www.mhafayette.org
SUMMARY:Fayette County Partners For Recovery
DESCRIPTION:What Is Partners For Recovery? \nPartners is a community support program to help improve services\, systems of care\, and supports for those being treated for substance use and mental health issues. Meetings are open to anyone with an interest in mental health issues and advancing the quality of life for members and people with mental illness. \nSome points about PARTNERS FOR RECOVERY: \n\nAt Partners for Recovery Meetings\, you can have fellowship with others in a place where everyone can share their stories and experiences in recovery.\nAs a member of this group\, you can have a voice in how money for mental health services is spent and how services can serve people better.\nYou can help the group make a difference in the community and alleviate the stigma of mental illness in society.\nWe welcome visitors who would like to take part in meetings and help us see more clearly what is working and what is not working in the local Mental Health Community.\n\nWe believe that “By promoting the principles of recovery and making relationships in the community\, the Fayette County Partners for Recovery is educating and providing public awareness of mental health”. \nPartners for Recovery meet the last Monday of every month from 10:30 AM until around noon. \nDue to the COVID-19 Pandemic\, Partners will be meeting via ZOOM until Further Notice. To be connected please follow their social media channels \n  \n 
URL:https://www.mhafayette.org/event/fcp4r-0920/
LOCATION:PA
CATEGORIES:Advocacy Calendar
ORGANIZER;CN="Partners For Recovery":MAILTO:dmurray@mhafayette.org
END:VEVENT
BEGIN:VEVENT
DTSTART;TZID=UTC:20200925T130000
DTEND;TZID=UTC:20200925T140000
DTSTAMP:20260419T130958
CREATED:20200817T135855Z
LAST-MODIFIED:20200817T135855Z
UID:2140-1601038800-1601042400@www.mhafayette.org
SUMMARY:Beacon Health Options Presents: Suicide Prevention and Awareness
DESCRIPTION:2020-Member-Virtual-Trainings-Sept-25
URL:https://www.mhafayette.org/event/beacon-20200925/
LOCATION:PA
CATEGORIES:Community Events
END:VEVENT
BEGIN:VEVENT
DTSTART;TZID=UTC:20200922T170000
DTEND;TZID=UTC:20200922T180000
DTSTAMP:20260419T130958
CREATED:20200828T142808Z
LAST-MODIFIED:20200828T142808Z
UID:2161-1600794000-1600797600@www.mhafayette.org
SUMMARY:Fayette County Family Council
DESCRIPTION:Who We Are \nWe are a group of parents who have children that access services through one or more of the child-serving systems (Juvenile Probation\, Drug & Alcohol\, Mental Health\, Children & Youth\, Intellectual and Developmental Disabilities) \nWhat We Do \nWe work together to build collaboration between families and professionals to achieve positive outcomes \nHow We Do This \nSupport Each Other!\nShare our stories and experiences.\nParticipate in trainings and outreach events.\nUse our voice to make a difference! \n\nMeetings on Zoom \nPlease visit the Fayette County Family Council’s Facebook Group for Meeting Login Information. Meetings are generally held on the Second Tuesday of the month at 1:00 PM and the Fourth Tuesday of the Month at 5:00 PM
URL:https://www.mhafayette.org/event/fcfrc-0920-2/
LOCATION:PA
CATEGORIES:Advocacy Calendar
END:VEVENT
BEGIN:VEVENT
DTSTART;TZID=Asia/Karachi:20200911T130000
DTEND;TZID=Asia/Karachi:20200911T140000
DTSTAMP:20260419T130958
CREATED:20200817T135547Z
LAST-MODIFIED:20200817T135547Z
UID:2136-1599829200-1599832800@www.mhafayette.org
SUMMARY:Beacon Health Options Presents: Human Trafficking
DESCRIPTION:2020-Member-Virtual-Trainings-Sept-11
URL:https://www.mhafayette.org/event/beacon-20200911/
LOCATION:PA
CATEGORIES:Community Events
END:VEVENT
BEGIN:VEVENT
DTSTART;TZID=UTC:20200908T130000
DTEND;TZID=UTC:20200908T140000
DTSTAMP:20260419T130958
CREATED:20200828T142523Z
LAST-MODIFIED:20200828T142523Z
UID:2159-1599570000-1599573600@www.mhafayette.org
SUMMARY:Fayette County Family Council
DESCRIPTION:Who We Are \nWe are a group of parents who have children that access services through one or more of the child-serving systems (Juvenile Probation\, Drug & Alcohol\, Mental Health\, Children & Youth\, Intellectual and Developmental Disabilities) \nWhat We Do \nWe work together to build collaboration between families and professionals to achieve positive outcomes \nHow We Do This \nSupport Each Other!\nShare our stories and experiences.\nParticipate in trainings and outreach events.\nUse our voice to make a difference! \n  \nMeetings on Zoom \nPlease visit the Fayette County Family Council’s Facebook Group for Meeting Login Information. Meetings are generally held on the Second Tuesday of the month at 1:00 PM and the Fourth Tuesday of the Month at 5:00 PM
URL:https://www.mhafayette.org/event/fcfc-0920-1/
LOCATION:PA
CATEGORIES:Advocacy Calendar
END:VEVENT
BEGIN:VEVENT
DTSTART;VALUE=DATE:20200907
DTEND;VALUE=DATE:20200908
DTSTAMP:20260419T130958
CREATED:20200106T141815Z
LAST-MODIFIED:20200106T141815Z
UID:1969-1599436800-1599523199@www.mhafayette.org
SUMMARY:Office / Advocacy Center CLOSED
DESCRIPTION:The Mental Health Association\nWill be CLOSED \nOn \nMonday\, September 7\, 2020 \nIn observance of LABOR DAY
URL:https://www.mhafayette.org/event/20200907-closure/
LOCATION:Mental Health Association In Fayette County\, 680 Cherry Tree Lane\, Uniontown\, PA\, 15401\, United States
CATEGORIES:Advocacy Calendar,MHA Events
ORGANIZER;CN="Mental Health Association In Fayette County":MAILTO:info@mhafayette.org
END:VEVENT
BEGIN:VEVENT
DTSTART;TZID=UTC:20200901T130000
DTEND;TZID=UTC:20200901T140000
DTSTAMP:20260419T130958
CREATED:20200817T135159Z
LAST-MODIFIED:20200817T135159Z
UID:2132-1598965200-1598968800@www.mhafayette.org
SUMMARY:Beacon Health Options Presents: PATTAN
DESCRIPTION:2020-Member-Virtual-Training-Sept-1
URL:https://www.mhafayette.org/event/beacon-20200901/
LOCATION:PA
CATEGORIES:Community Events
END:VEVENT
END:VCALENDAR