BEGIN:VCALENDAR
VERSION:2.0
PRODID:-//Mental Health Association of Fayette County - Home of the Advocacy Network - ECPv6.15.16//NONSGML v1.0//EN
CALSCALE:GREGORIAN
METHOD:PUBLISH
X-WR-CALNAME:Mental Health Association of Fayette County - Home of the Advocacy Network
X-ORIGINAL-URL:https://www.mhafayette.org
X-WR-CALDESC:Events for Mental Health Association of Fayette County - Home of the Advocacy Network
REFRESH-INTERVAL;VALUE=DURATION:PT1H
X-Robots-Tag:noindex
X-PUBLISHED-TTL:PT1H
BEGIN:VTIMEZONE
TZID:UTC
BEGIN:STANDARD
TZOFFSETFROM:+0000
TZOFFSETTO:+0000
TZNAME:UTC
DTSTART:20230101T000000
END:STANDARD
END:VTIMEZONE
BEGIN:VEVENT
DTSTART;TZID=UTC:20250620T083000
DTEND;TZID=UTC:20250620T103000
DTSTAMP:20260420T014730
CREATED:20250429T154921Z
LAST-MODIFIED:20250429T154950Z
UID:3489-1750408200-1750415400@www.mhafayette.org
SUMMARY:Suicide Prevention Taskforce Meeting
DESCRIPTION:These meetings occur the 3rd Friday of each month beginning in January until November\, meeting in the back dining hall of the Uniontown IHOP restaurant from 8:30 a.m. to 10:30 a.m. \n\n\n\n\nSuicide Prevention Taskforce Meetings \nFacilitator:  Gina Donkers \n(Third Wednesday of every month staring in January) \n\n\n\n\nDate \n\n\nStart Time \n\n\nEnd Time \n\n\nRoom(s) \n\n\n\n\nJanuary 17 \n\n\n8:30 a.m. \n\n\n10:30 a.m. \n\n\nIHOP + Zoom \n\n\n\n\nFebruary 21 \n\n\n8:30 a.m. \n\n\n10:30 a.m. \n\n\nIHOP + Zoom \n\n\n\n\nMarch 21 \n\n\n8:30 a.m. \n\n\n10:30 a.m. \n\n\nIHOP + Zoom \n\n\n\n\nApril 18 \n\n\n8:30 a.m. \n\n\n10:30 a.m. \n\n\nIHOP + Zoom \n\n\n\n\nMay 16 \n\n\n8:30 a.m. \n\n\n10:30 a.m. \n\n\nIHOP + Zoom \n\n\n\n\n*June 20* \n\n\n8:30 a.m. \n\n\n10:30 a.m. \n\n\nIHOP + Zoom \n\n\n\n\nJuly 18 \n\n\n8:30 a.m. \n\n\n10:30 a.m. \n\n\nIHOP + Zoom \n\n\n\n\nAugust 15 \n\n\n8:30 a.m. \n\n\n10:30 a.m. \n\n\nIHOP + Zoom \n\n\n\n\nSeptember 19 \n\n\n8:30 a.m. \n\n\n10:30 a.m. \n\n\nIHOP + Zoom \n\n\n\n\nOctober 17 \n\n\n8:30 a.m. \n\n\n10:30 a.m. \n\n\nIHOP + Zoom \n\n\n\n\nNovember 21 \n\n\n8:30 a.m. \n\n\n10:30 a.m. \n\n\nIHOP + Zoom
URL:https://www.mhafayette.org/event/sptf-2025-06/
LOCATION:iHOP\, 702 Walmart Drive\, Uniontown\, PA\, 15401\, United States
CATEGORIES:Advocacy Calendar
END:VEVENT
BEGIN:VEVENT
DTSTART;TZID=UTC:20250619T180000
DTEND;TZID=UTC:20250619T193000
DTSTAMP:20260420T014730
CREATED:20250117T173404Z
LAST-MODIFIED:20250117T173917Z
UID:3435-1750356000-1750361400@www.mhafayette.org
SUMMARY:Healing Connections
DESCRIPTION:
URL:https://www.mhafayette.org/event/healing-connections-2025-06/
LOCATION:iHOP\, 702 Walmart Drive\, Uniontown\, PA\, 15401\, United States
CATEGORIES:Advocacy Calendar
END:VEVENT
BEGIN:VEVENT
DTSTART;TZID=UTC:20250617T170000
DTEND;TZID=UTC:20250617T193000
DTSTAMP:20260420T014730
CREATED:20250520T165453Z
LAST-MODIFIED:20250520T171811Z
UID:3532-1750179600-1750188600@www.mhafayette.org
SUMMARY:Veteran Game Night (Uniontown)
DESCRIPTION:
URL:https://www.mhafayette.org/event/veteran-game-night-uniontown-2025/
LOCATION:Fayette County Drug & Alcohol Commission\, Inc.\, 100 New Salem Road\, Uniontown\, PA\, 15401\, United States
CATEGORIES:Advocacy Calendar,Community Events
END:VEVENT
BEGIN:VEVENT
DTSTART;TZID=UTC:20250617T103000
DTEND;TZID=UTC:20250617T113000
DTSTAMP:20260420T014730
CREATED:20241217T175844Z
LAST-MODIFIED:20241217T175858Z
UID:3374-1750156200-1750159800@www.mhafayette.org
SUMMARY:Fayette County Partners For Recovery
DESCRIPTION:Partners is a community support program to help improve services\, systems of care\, and supports for those being treated for substance use and mental health issues. Meetings are open to anyone with an interest in mental health issues and advancing the quality of life for members and people with mental health conditions. \nSome points about PARTNERS FOR RECOVERY: \nAt Partners for Recovery Meetings\, you can have fellowship with others in a place where everyone can share their stories and experiences in recovery.\nAs a member of this group\, you can have a voice in how money for mental health services is spent and how services can serve people better.\nYou can help the group make a difference in the community and alleviate the stigma of mental illness in society.\nWe welcome visitors who would like to take part in meetings and help us see more clearly what is working and what is not working in the local Mental Health Community.\nWe believe that “By promoting the principles of recovery and making relationships in the community\, the Fayette County Partners for Recovery is educating and providing public awareness of mental health”. \nFor More Information about our group\, please call (724) 320-3165.
URL:https://www.mhafayette.org/event/partners-2025-06/
LOCATION:Mental Health Association In Fayette County\, 680 Cherry Tree Lane\, Uniontown\, PA\, 15401\, United States
CATEGORIES:Advocacy Calendar
ORGANIZER;CN="Partners For Recovery":MAILTO:dmurray@mhafayette.org
END:VEVENT
BEGIN:VEVENT
DTSTART;TZID=UTC:20250607T120000
DTEND;TZID=UTC:20250607T170000
DTSTAMP:20260420T014730
CREATED:20250509T144408Z
LAST-MODIFIED:20250509T144408Z
UID:3513-1749297600-1749315600@www.mhafayette.org
SUMMARY:Pride In the Park 25'
DESCRIPTION:Connellsville Diversity & Inclusion Board’s fourth annual Pride in the Park event on Saturday\, June 7 from 12-5 PM at the Yough River Park.
URL:https://www.mhafayette.org/event/pride-in-the-park-25/
LOCATION:Yough River Park\, 369 North Third Street\, Connellsville\, PA\, 15425\, United States
CATEGORIES:Advocacy Calendar,Community Events
END:VEVENT
BEGIN:VEVENT
DTSTART;TZID=UTC:20250522T160000
DTEND;TZID=UTC:20250522T190000
DTSTAMP:20260420T014730
CREATED:20250509T143553Z
LAST-MODIFIED:20250509T143553Z
UID:3507-1747929600-1747940400@www.mhafayette.org
SUMMARY:Summer Kick Off & Wellness Event
DESCRIPTION:
URL:https://www.mhafayette.org/event/fcbhamhsummerkickoff2025/
LOCATION:Yough River Park\, 369 North Third Street\, Connellsville\, PA\, 15425\, United States
CATEGORIES:Advocacy Calendar,Community Events
END:VEVENT
BEGIN:VEVENT
DTSTART;TZID=UTC:20250520T180000
DTEND;TZID=UTC:20250520T193000
DTSTAMP:20260420T014730
CREATED:20250429T153621Z
LAST-MODIFIED:20250509T143725Z
UID:3483-1747764000-1747769400@www.mhafayette.org
SUMMARY:Conversations on Access to Lethal Means (CALM)
DESCRIPTION:
URL:https://www.mhafayette.org/event/calm-lethalmeans2025/
LOCATION:Fayette County Behavioral Health Administration\, 215 Jacob Murphy Lane\, Uniontown\, PA\, 15401\, United States
CATEGORIES:Advocacy Calendar
END:VEVENT
BEGIN:VEVENT
DTSTART;TZID=UTC:20250520T103000
DTEND;TZID=UTC:20250520T113000
DTSTAMP:20260420T014730
CREATED:20241217T175653Z
LAST-MODIFIED:20241217T175653Z
UID:3372-1747737000-1747740600@www.mhafayette.org
SUMMARY:Fayette County Partners For Recovery
DESCRIPTION:Partners is a community support program to help improve services\, systems of care\, and supports for those being treated for substance use and mental health issues. Meetings are open to anyone with an interest in mental health issues and advancing the quality of life for members and people with mental health conditions. \nSome points about PARTNERS FOR RECOVERY: \n\nAt Partners for Recovery Meetings\, you can have fellowship with others in a place where everyone can share their stories and experiences in recovery.\nAs a member of this group\, you can have a voice in how money for mental health services is spent and how services can serve people better.\nYou can help the group make a difference in the community and alleviate the stigma of mental illness in society.\nWe welcome visitors who would like to take part in meetings and help us see more clearly what is working and what is not working in the local Mental Health Community.\n\nWe believe that “By promoting the principles of recovery and making relationships in the community\, the Fayette County Partners for Recovery is educating and providing public awareness of mental health”. \nFor More Information about our group\, please call (724) 320-3165.
URL:https://www.mhafayette.org/event/partners-2025-05/
LOCATION:Mental Health Association In Fayette County\, 680 Cherry Tree Lane\, Uniontown\, PA\, 15401\, United States
CATEGORIES:Advocacy Calendar
ORGANIZER;CN="Partners For Recovery":MAILTO:dmurray@mhafayette.org
END:VEVENT
BEGIN:VEVENT
DTSTART;TZID=UTC:20250516T083000
DTEND;TZID=UTC:20250516T103000
DTSTAMP:20260420T014730
CREATED:20250429T154207Z
LAST-MODIFIED:20250429T154616Z
UID:3486-1747384200-1747391400@www.mhafayette.org
SUMMARY:Suicide Prevention Taskforce Meeting
DESCRIPTION:These meetings occur the 3rd Friday of each month beginning in January until November\, meeting in the back dining hall of the Uniontown IHOP restaurant from 8:30 a.m. to 10:30 a.m. \n\n\n\n\nSuicide Prevention Taskforce Meetings \nFacilitator:  Gina Donkers \n(Third Wednesday of every month staring in January) \n\n\n\n\nDate \n\n\nStart Time \n\n\nEnd Time \n\n\nRoom(s) \n\n\n\n\nJanuary 17 \n\n\n8:30 a.m. \n\n\n10:30 a.m. \n\n\nIHOP + Zoom \n\n\n\n\nFebruary 21 \n\n\n8:30 a.m. \n\n\n10:30 a.m. \n\n\nIHOP + Zoom \n\n\n\n\nMarch 21 \n\n\n8:30 a.m. \n\n\n10:30 a.m. \n\n\nIHOP + Zoom \n\n\n\n\nApril 18 \n\n\n8:30 a.m. \n\n\n10:30 a.m. \n\n\nIHOP + Zoom \n\n\n\n\nMay 16 \n\n\n8:30 a.m. \n\n\n10:30 a.m. \n\n\nIHOP + Zoom \n\n\n\n\n*June 20* \n\n\n8:30 a.m. \n\n\n10:30 a.m. \n\n\nIHOP + Zoom \n\n\n\n\nJuly 18 \n\n\n8:30 a.m. \n\n\n10:30 a.m. \n\n\nIHOP + Zoom \n\n\n\n\nAugust 15 \n\n\n8:30 a.m. \n\n\n10:30 a.m. \n\n\nIHOP + Zoom \n\n\n\n\nSeptember 19 \n\n\n8:30 a.m. \n\n\n10:30 a.m. \n\n\nIHOP + Zoom \n\n\n\n\nOctober 17 \n\n\n8:30 a.m. \n\n\n10:30 a.m. \n\n\nIHOP + Zoom \n\n\n\n\nNovember 21 \n\n\n8:30 a.m. \n\n\n10:30 a.m. \n\n\nIHOP + Zoom
URL:https://www.mhafayette.org/event/sptf-2025-05/
LOCATION:iHOP\, 702 Walmart Drive\, Uniontown\, PA\, 15401\, United States
CATEGORIES:Advocacy Calendar
END:VEVENT
BEGIN:VEVENT
DTSTART;TZID=UTC:20250515T180000
DTEND;TZID=UTC:20250515T193000
DTSTAMP:20260420T014730
CREATED:20250117T173159Z
LAST-MODIFIED:20250117T173159Z
UID:3433-1747332000-1747337400@www.mhafayette.org
SUMMARY:Healing Connections
DESCRIPTION:
URL:https://www.mhafayette.org/event/healing-connections-2025-05/
LOCATION:iHOP\, 702 Walmart Drive\, Uniontown\, PA\, 15401\, United States
CATEGORIES:Advocacy Calendar
END:VEVENT
BEGIN:VEVENT
DTSTART;TZID=UTC:20250513T170000
DTEND;TZID=UTC:20250513T180000
DTSTAMP:20260420T014730
CREATED:20250429T152920Z
LAST-MODIFIED:20250429T152920Z
UID:3479-1747155600-1747159200@www.mhafayette.org
SUMMARY:Fayette County Family Council Meeting
DESCRIPTION:Join our Zoom meeting every 2nd Tuesday of the month for information and sharing to empower families. Learn about services and education available for your family. Join Zoom Meeting\nMeeting ID: 834 5108 5047 Passcode: 062145.
URL:https://www.mhafayette.org/event/fcfc202505/
LOCATION:Zoom (Family Council)
CATEGORIES:Advocacy Calendar
END:VEVENT
BEGIN:VEVENT
DTSTART;TZID=UTC:20250417T180000
DTEND;TZID=UTC:20250417T193000
DTSTAMP:20260420T014730
CREATED:20250117T172939Z
LAST-MODIFIED:20250117T172955Z
UID:3431-1744912800-1744918200@www.mhafayette.org
SUMMARY:Healing Connections
DESCRIPTION:
URL:https://www.mhafayette.org/event/healing-connections-2025-04/
LOCATION:iHOP\, 702 Walmart Drive\, Uniontown\, PA\, 15401\, United States
CATEGORIES:Advocacy Calendar
END:VEVENT
BEGIN:VEVENT
DTSTART;TZID=UTC:20250415T170000
DTEND;TZID=UTC:20250415T180000
DTSTAMP:20260420T014730
CREATED:20250411T131653Z
LAST-MODIFIED:20250411T131653Z
UID:3475-1744736400-1744740000@www.mhafayette.org
SUMMARY:Fayette County Family Council Meeting
DESCRIPTION:Join us for our Family Council Meeting on Monday and see what we’re all about!\nClick Here to Join the Meeting\n\n\nMeeting ID: 834 5108 5047\nPasscode: 062145\n\n\nOne tap mobile\n+13126266799
URL:https://www.mhafayette.org/event/fcfc/
LOCATION:Zoom (Family Council)
CATEGORIES:Advocacy Calendar
END:VEVENT
BEGIN:VEVENT
DTSTART;TZID=UTC:20250415T103000
DTEND;TZID=UTC:20250415T113000
DTSTAMP:20260420T014730
CREATED:20241217T175411Z
LAST-MODIFIED:20241217T175411Z
UID:3370-1744713000-1744716600@www.mhafayette.org
SUMMARY:Fayette County Partners For Recovery
DESCRIPTION:Partners is a community support program to help improve services\, systems of care\, and supports for those being treated for substance use and mental health issues. Meetings are open to anyone with an interest in mental health issues and advancing the quality of life for members and people with mental health conditions. \nSome points about PARTNERS FOR RECOVERY: \n\nAt Partners for Recovery Meetings\, you can have fellowship with others in a place where everyone can share their stories and experiences in recovery.\nAs a member of this group\, you can have a voice in how money for mental health services is spent and how services can serve people better.\nYou can help the group make a difference in the community and alleviate the stigma of mental illness in society.\nWe welcome visitors who would like to take part in meetings and help us see more clearly what is working and what is not working in the local Mental Health Community.\n\nWe believe that “By promoting the principles of recovery and making relationships in the community\, the Fayette County Partners for Recovery is educating and providing public awareness of mental health”. \nFor More Information about our group\, please call (724) 320-3165.
URL:https://www.mhafayette.org/event/partners-2025-04/
LOCATION:Mental Health Association In Fayette County\, 680 Cherry Tree Lane\, Uniontown\, PA\, 15401\, United States
CATEGORIES:Advocacy Calendar
ORGANIZER;CN="Partners For Recovery":MAILTO:dmurray@mhafayette.org
END:VEVENT
BEGIN:VEVENT
DTSTART;TZID=UTC:20250320T180000
DTEND;TZID=UTC:20250320T193000
DTSTAMP:20260420T014730
CREATED:20250117T172751Z
LAST-MODIFIED:20250117T172751Z
UID:3429-1742493600-1742499000@www.mhafayette.org
SUMMARY:Healing Connections
DESCRIPTION:supp
URL:https://www.mhafayette.org/event/healing-connections-2025-03/
LOCATION:iHOP\, 702 Walmart Drive\, Uniontown\, PA\, 15401\, United States
CATEGORIES:Advocacy Calendar
END:VEVENT
BEGIN:VEVENT
DTSTART;TZID=UTC:20250318T103000
DTEND;TZID=UTC:20250318T113000
DTSTAMP:20260420T014730
CREATED:20241217T173853Z
LAST-MODIFIED:20241217T173853Z
UID:3368-1742293800-1742297400@www.mhafayette.org
SUMMARY:Fayette County Partners for Recovery
DESCRIPTION:Partners is a community support program to help improve services\, systems of care\, and supports for those being treated for substance use and mental health issues. Meetings are open to anyone with an interest in mental health issues and advancing the quality of life for members and people with mental health conditions. \nSome points about PARTNERS FOR RECOVERY: \nAt Partners for Recovery Meetings\, you can have fellowship with others in a place where everyone can share their stories and experiences in recovery.\nAs a member of this group\, you can have a voice in how money for mental health services is spent and how services can serve people better.\nYou can help the group make a difference in the community and alleviate the stigma of mental illness in society.\nWe welcome visitors who would like to take part in meetings and help us see more clearly what is working and what is not working in the local Mental Health Community.\nWe believe that “By promoting the principles of recovery and making relationships in the community\, the Fayette County Partners for Recovery is educating and providing public awareness of mental health”. \nFor More Information about our group\, please call (724) 320-3165.
URL:https://www.mhafayette.org/event/partners-2025-03/
LOCATION:Mental Health Association In Fayette County\, 680 Cherry Tree Lane\, Uniontown\, PA\, 15401\, United States
CATEGORIES:Advocacy Calendar
ORGANIZER;CN="Partners For Recovery":MAILTO:dmurray@mhafayette.org
END:VEVENT
BEGIN:VEVENT
DTSTART;TZID=UTC:20250220T180000
DTEND;TZID=UTC:20250220T190000
DTSTAMP:20260420T014730
CREATED:20250117T171955Z
LAST-MODIFIED:20250117T172125Z
UID:3427-1740074400-1740078000@www.mhafayette.org
SUMMARY:Healing Connections
DESCRIPTION:cide imning
URL:https://www.mhafayette.org/event/healing-connections-2025-02/
LOCATION:iHOP\, 702 Walmart Drive\, Uniontown\, PA\, 15401\, United States
CATEGORIES:Advocacy Calendar
END:VEVENT
BEGIN:VEVENT
DTSTART;TZID=UTC:20250218T103000
DTEND;TZID=UTC:20250218T113000
DTSTAMP:20260420T014730
CREATED:20241217T173302Z
LAST-MODIFIED:20241217T173302Z
UID:3366-1739874600-1739878200@www.mhafayette.org
SUMMARY:Fayette County Partners for Recovery
DESCRIPTION:Partners is a community support program to help improve services\, systems of care\, and supports for those being treated for substance use and mental health issues. Meetings are open to anyone with an interest in mental health issues and advancing the quality of life for members and people with mental health conditions. \nSome points about PARTNERS FOR RECOVERY: \n\nAt Partners for Recovery Meetings\, you can have fellowship with others in a place where everyone can share their stories and experiences in recovery.\nAs a member of this group\, you can have a voice in how money for mental health services is spent and how services can serve people better.\nYou can help the group make a difference in the community and alleviate the stigma of mental illness in society.\nWe welcome visitors who would like to take part in meetings and help us see more clearly what is working and what is not working in the local Mental Health Community.\n\nWe believe that “By promoting the principles of recovery and making relationships in the community\, the Fayette County Partners for Recovery is educating and providing public awareness of mental health”. \nFor More Information about our group\, please call (724) 320-3165.
URL:https://www.mhafayette.org/event/partners-2025-02/
LOCATION:Mental Health Association In Fayette County\, 680 Cherry Tree Lane\, Uniontown\, PA\, 15401\, United States
CATEGORIES:Advocacy Calendar
ORGANIZER;CN="Partners For Recovery":MAILTO:dmurray@mhafayette.org
END:VEVENT
BEGIN:VEVENT
DTSTART;TZID=UTC:20250121T103000
DTEND;TZID=UTC:20250121T113000
DTSTAMP:20260420T014730
CREATED:20241217T172949Z
LAST-MODIFIED:20241217T172949Z
UID:3364-1737455400-1737459000@www.mhafayette.org
SUMMARY:Fayette County Partners for Recovery
DESCRIPTION:Partners is a community support program to help improve services\, systems of care\, and supports for those being treated for substance use and mental health issues. Meetings are open to anyone with an interest in mental health issues and advancing the quality of life for members and people with mental health conditions. \nSome points about PARTNERS FOR RECOVERY: \nAt Partners for Recovery Meetings\, you can have fellowship with others in a place where everyone can share their stories and experiences in recovery.\nAs a member of this group\, you can have a voice in how money for mental health services is spent and how services can serve people better.\nYou can help the group make a difference in the community and alleviate the stigma of mental illness in society.\nWe welcome visitors who would like to take part in meetings and help us see more clearly what is working and what is not working in the local Mental Health Community.\nWe believe that “By promoting the principles of recovery and making relationships in the community\, the Fayette County Partners for Recovery is educating and providing public awareness of mental health”. \nFor More Information about our group\, please call (724) 320-3165.
URL:https://www.mhafayette.org/event/partners-2025-01/
LOCATION:Mental Health Association In Fayette County\, 680 Cherry Tree Lane\, Uniontown\, PA\, 15401\, United States
CATEGORIES:Advocacy Calendar
ORGANIZER;CN="Partners For Recovery":MAILTO:dmurray@mhafayette.org
END:VEVENT
BEGIN:VEVENT
DTSTART;TZID=UTC:20241119T103000
DTEND;TZID=UTC:20241119T113000
DTSTAMP:20260420T014730
CREATED:20240802T163626Z
LAST-MODIFIED:20240802T163626Z
UID:3242-1732012200-1732015800@www.mhafayette.org
SUMMARY:Partners For Recovery (CSP) Meeting
DESCRIPTION:Partners is a community support program to help improve services\, systems of care\, and supports for those being treated for substance use and mental health issues. Meetings are open to anyone with an interest in mental health issues and advancing the quality of life for members and people with mental health conditions. \nThe Community Support Program (CSP) of Pennsylvania is a coalition of mental health consumers\, family members and professionals working to help adults with serious mental illnesses and co-occurring disorders live successfully in the community. This statewide coalition links CSP nationally with regional and local CSPs throughout the State.
URL:https://www.mhafayette.org/event/partners11192024/
LOCATION:Mental Health Association In Fayette County\, 680 Cherry Tree Lane\, Uniontown\, PA\, 15401\, United States
CATEGORIES:Advocacy Calendar
ORGANIZER;CN="Partners For Recovery":MAILTO:dmurray@mhafayette.org
END:VEVENT
BEGIN:VEVENT
DTSTART;TZID=UTC:20241115T080000
DTEND;TZID=UTC:20241115T170000
DTSTAMP:20260420T014730
CREATED:20240621T184110Z
LAST-MODIFIED:20240621T184201Z
UID:3120-1731657600-1731690000@www.mhafayette.org
SUMMARY:Healing Connections
DESCRIPTION:c
URL:https://www.mhafayette.org/event/healing-connections-2/
LOCATION:iHOP\, 702 Walmart Drive\, Uniontown\, PA\, 15401\, United States
CATEGORIES:Advocacy Calendar
END:VEVENT
BEGIN:VEVENT
DTSTART;TZID=UTC:20241017T180000
DTEND;TZID=UTC:20241017T193000
DTSTAMP:20260420T014730
CREATED:20240621T183835Z
LAST-MODIFIED:20240621T183857Z
UID:3118-1729188000-1729193400@www.mhafayette.org
SUMMARY:Healing Connections
DESCRIPTION:c
URL:https://www.mhafayette.org/event/healing-connections-1024/
LOCATION:iHOP\, 702 Walmart Drive\, Uniontown\, PA\, 15401\, United States
CATEGORIES:Advocacy Calendar
END:VEVENT
BEGIN:VEVENT
DTSTART;TZID=UTC:20241015T103000
DTEND;TZID=UTC:20241015T113000
DTSTAMP:20260420T014730
CREATED:20240802T163135Z
LAST-MODIFIED:20240802T163135Z
UID:3240-1728988200-1728991800@www.mhafayette.org
SUMMARY:Partners For Recovery (CSP) Meeting
DESCRIPTION:Partners is a community support program to help improve services\, systems of care\, and supports for those being treated for substance use and mental health issues. Meetings are open to anyone with an interest in mental health issues and advancing the quality of life for members and people with mental health conditions. \nThe Community Support Program (CSP) of Pennsylvania is a coalition of mental health consumers\, family members and professionals working to help adults with serious mental illnesses and co-occurring disorders live successfully in the community. This statewide coalition links CSP nationally with regional and local CSPs throughout the State. \n 
URL:https://www.mhafayette.org/event/partners10152024/
LOCATION:Mental Health Association In Fayette County\, 680 Cherry Tree Lane\, Uniontown\, PA\, 15401\, United States
CATEGORIES:Advocacy Calendar
ORGANIZER;CN="Partners For Recovery":MAILTO:dmurray@mhafayette.org
END:VEVENT
BEGIN:VEVENT
DTSTART;TZID=UTC:20240923T120000
DTEND;TZID=UTC:20240923T130000
DTSTAMP:20260420T014730
CREATED:20240813T165215Z
LAST-MODIFIED:20240830T175241Z
UID:3264-1727092800-1727096400@www.mhafayette.org
SUMMARY:Q.P.R. (Question\, Persuade and Refer) Training (Hybrid)
DESCRIPTION:
URL:https://www.mhafayette.org/event/q-p-r-question-persuade-and-refer-training-hybrid-2024/
LOCATION:Fayette County Behavioral Health Administration\, 215 Jacob Murphy Lane\, Uniontown\, PA\, 15401\, United States
CATEGORIES:Advocacy Calendar,Community Events
END:VEVENT
BEGIN:VEVENT
DTSTART;VALUE=DATE:20240920
DTEND;VALUE=DATE:20240921
DTSTAMP:20260420T014730
CREATED:20240830T181128Z
LAST-MODIFIED:20240830T181634Z
UID:3293-1726790400-1726876799@www.mhafayette.org
SUMMARY:Suicide Awareness Tie-Die Day
DESCRIPTION:
URL:https://www.mhafayette.org/event/suicide-awareness-tie-die-day/
LOCATION:Fayette County\, Fayette County PA\, PA\, United States
CATEGORIES:Advocacy Calendar,Community Events
END:VEVENT
BEGIN:VEVENT
DTSTART;TZID=UTC:20240919T180000
DTEND;TZID=UTC:20240919T193000
DTSTAMP:20260420T014730
CREATED:20240621T183643Z
LAST-MODIFIED:20240621T184304Z
UID:3116-1726768800-1726774200@www.mhafayette.org
SUMMARY:Healing Connections
DESCRIPTION:
URL:https://www.mhafayette.org/event/healing-connections-0919/
LOCATION:iHOP\, 702 Walmart Drive\, Uniontown\, PA\, 15401\, United States
CATEGORIES:Advocacy Calendar
END:VEVENT
BEGIN:VEVENT
DTSTART;TZID=UTC:20240917T103000
DTEND;TZID=UTC:20240917T113000
DTSTAMP:20260420T014730
CREATED:20240802T162704Z
LAST-MODIFIED:20240802T162704Z
UID:3238-1726569000-1726572600@www.mhafayette.org
SUMMARY:Partners For Recovery (CSP) Meeting
DESCRIPTION:Partners is a community support program to help improve services\, systems of care\, and supports for those being treated for substance use and mental health issues. Meetings are open to anyone with an interest in mental health issues and advancing the quality of life for members and people with mental health conditions. \n\n\n\n\n\nThe Community Support Program (CSP) of Pennsylvania is a coalition of mental health consumers\, family members and professionals working to help adults with serious mental illnesses and co-occurring disorders live successfully in the community. This statewide coalition links CSP nationally with regional and local CSPs throughout the State.
URL:https://www.mhafayette.org/event/partners09172024/
LOCATION:Mental Health Association In Fayette County\, 680 Cherry Tree Lane\, Uniontown\, PA\, 15401\, United States
CATEGORIES:Advocacy Calendar
ORGANIZER;CN="Partners For Recovery":MAILTO:dmurray@mhafayette.org
END:VEVENT
BEGIN:VEVENT
DTSTART;TZID=UTC:20240910T180000
DTEND;TZID=UTC:20240910T200000
DTSTAMP:20260420T014730
CREATED:20240813T164434Z
LAST-MODIFIED:20240830T150050Z
UID:3260-1725991200-1725998400@www.mhafayette.org
SUMMARY:World Suicide Prevention Day Vigil
DESCRIPTION:
URL:https://www.mhafayette.org/event/world-suicide-prevention-day-vigil-2024/
LOCATION:Fayette County Courthouse\, 61 East Main Street\, Uniontown\, PA\, 15401\, United States
CATEGORIES:Advocacy Calendar,Community Events
END:VEVENT
BEGIN:VEVENT
DTSTART;TZID=UTC:20240815T180000
DTEND;TZID=UTC:20240815T193000
DTSTAMP:20260420T014730
CREATED:20240621T183500Z
LAST-MODIFIED:20240621T183500Z
UID:3114-1723744800-1723750200@www.mhafayette.org
SUMMARY:Healing Connections
DESCRIPTION:
URL:https://www.mhafayette.org/event/healing-connections-0824/
LOCATION:iHOP\, 702 Walmart Drive\, Uniontown\, PA\, 15401\, United States
CATEGORIES:Advocacy Calendar
END:VEVENT
BEGIN:VEVENT
DTSTART;TZID=UTC:20240718T180000
DTEND;TZID=UTC:20240718T193000
DTSTAMP:20260420T014730
CREATED:20240621T183149Z
LAST-MODIFIED:20240621T183149Z
UID:3112-1721325600-1721331000@www.mhafayette.org
SUMMARY:Healing Connections
DESCRIPTION:
URL:https://www.mhafayette.org/event/healing-connections/
LOCATION:iHOP\, 702 Walmart Drive\, Uniontown\, PA\, 15401\, United States
CATEGORIES:Advocacy Calendar
END:VEVENT
END:VCALENDAR