BEGIN:VCALENDAR
VERSION:2.0
PRODID:-//Mental Health Association of Fayette County - Home of the Advocacy Network - ECPv6.15.16//NONSGML v1.0//EN
CALSCALE:GREGORIAN
METHOD:PUBLISH
X-WR-CALNAME:Mental Health Association of Fayette County - Home of the Advocacy Network
X-ORIGINAL-URL:https://www.mhafayette.org
X-WR-CALDESC:Events for Mental Health Association of Fayette County - Home of the Advocacy Network
REFRESH-INTERVAL;VALUE=DURATION:PT1H
X-Robots-Tag:noindex
X-PUBLISHED-TTL:PT1H
BEGIN:VTIMEZONE
TZID:UTC
BEGIN:STANDARD
TZOFFSETFROM:+0000
TZOFFSETTO:+0000
TZNAME:UTC
DTSTART:20240101T000000
END:STANDARD
END:VTIMEZONE
BEGIN:VEVENT
DTSTART;TZID=UTC:20251121T083000
DTEND;TZID=UTC:20251121T223000
DTSTAMP:20260420T032659
CREATED:20250429T155946Z
LAST-MODIFIED:20250429T155946Z
UID:3501-1763713800-1763764200@www.mhafayette.org
SUMMARY:Suicide Prevention Taskforce Meeting
DESCRIPTION:These meetings occur the 3rd Friday of each month beginning in January until November\, meeting in the back dining hall of the Uniontown IHOP restaurant from 8:30 a.m. to 10:30 a.m. \n\n\n\n\n\nSuicide Prevention Taskforce Meetings \nFacilitator:  Gina Donkers \n(Third Wednesday of every month staring in January) \n\n\n\n\nDate \n\n\nStart Time \n\n\nEnd Time \n\n\nRoom(s) \n\n\n\n\nJanuary 17 \n\n\n8:30 a.m. \n\n\n10:30 a.m. \n\n\nIHOP + Zoom \n\n\n\n\nFebruary 21 \n\n\n8:30 a.m. \n\n\n10:30 a.m. \n\n\nIHOP + Zoom \n\n\n\n\nMarch 21 \n\n\n8:30 a.m. \n\n\n10:30 a.m. \n\n\nIHOP + Zoom \n\n\n\n\nApril 18 \n\n\n8:30 a.m. \n\n\n10:30 a.m. \n\n\nIHOP + Zoom \n\n\n\n\nMay 16 \n\n\n8:30 a.m. \n\n\n10:30 a.m. \n\n\nIHOP + Zoom \n\n\n\n\n*June 20* \n\n\n8:30 a.m. \n\n\n10:30 a.m. \n\n\nIHOP + Zoom \n\n\n\n\nJuly 18 \n\n\n8:30 a.m. \n\n\n10:30 a.m. \n\n\nIHOP + Zoom \n\n\n\n\nAugust 15 \n\n\n8:30 a.m. \n\n\n10:30 a.m. \n\n\nIHOP + Zoom \n\n\n\n\nSeptember 19 \n\n\n8:30 a.m. \n\n\n10:30 a.m. \n\n\nIHOP + Zoom \n\n\n\n\nOctober 17 \n\n\n8:30 a.m. \n\n\n10:30 a.m. \n\n\nIHOP + Zoom \n\n\n\n\nNovember 21 \n\n\n8:30 a.m. \n\n\n10:30 a.m. \n\n\nIHOP + Zoom
URL:https://www.mhafayette.org/event/sptf-2025-11/
LOCATION:iHOP\, 702 Walmart Drive\, Uniontown\, PA\, 15401\, United States
CATEGORIES:Advocacy Calendar
END:VEVENT
BEGIN:VEVENT
DTSTART;TZID=UTC:20251121T180000
DTEND;TZID=UTC:20251121T210000
DTSTAMP:20260420T032659
CREATED:20250520T171009Z
LAST-MODIFIED:20250520T171510Z
UID:3540-1763748000-1763758800@www.mhafayette.org
SUMMARY:Veteran Game Night (Masontown)
DESCRIPTION:
URL:https://www.mhafayette.org/event/veteran-game-night-masontown-2025/
LOCATION:Masontown American Legion\, 1977 McClellandtown Road\, McClellandtown\, PA\, 15458\, United States
CATEGORIES:Advocacy Calendar,Community Events
END:VEVENT
END:VCALENDAR