BEGIN:VCALENDAR
VERSION:2.0
PRODID:-//Mental Health Association of Fayette County - Home of the Advocacy Network - ECPv6.15.16//NONSGML v1.0//EN
CALSCALE:GREGORIAN
METHOD:PUBLISH
X-WR-CALNAME:Mental Health Association of Fayette County - Home of the Advocacy Network
X-ORIGINAL-URL:https://www.mhafayette.org
X-WR-CALDESC:Events for Mental Health Association of Fayette County - Home of the Advocacy Network
REFRESH-INTERVAL;VALUE=DURATION:PT1H
X-Robots-Tag:noindex
X-PUBLISHED-TTL:PT1H
BEGIN:VTIMEZONE
TZID:UTC
BEGIN:STANDARD
TZOFFSETFROM:+0000
TZOFFSETTO:+0000
TZNAME:UTC
DTSTART:20240101T000000
END:STANDARD
END:VTIMEZONE
BEGIN:VEVENT
DTSTART;TZID=UTC:20251120T180000
DTEND;TZID=UTC:20251120T190000
DTSTAMP:20260420T032653
CREATED:20250117T175116Z
LAST-MODIFIED:20250919T133401Z
UID:3446-1763661600-1763665200@www.mhafayette.org
SUMMARY:Healing Connections
DESCRIPTION:
URL:https://www.mhafayette.org/event/healing-connections-2025-11/
LOCATION:Fayette County Behavioral Health Administration\, 215 Jacob Murphy Lane\, Uniontown\, PA\, 15401\, United States
CATEGORIES:Advocacy Calendar
END:VEVENT
END:VCALENDAR