BEGIN:VCALENDAR
VERSION:2.0
PRODID:-//Mental Health Association of Fayette County - Home of the Advocacy Network - ECPv6.15.16//NONSGML v1.0//EN
CALSCALE:GREGORIAN
METHOD:PUBLISH
X-WR-CALNAME:Mental Health Association of Fayette County - Home of the Advocacy Network
X-ORIGINAL-URL:https://www.mhafayette.org
X-WR-CALDESC:Events for Mental Health Association of Fayette County - Home of the Advocacy Network
REFRESH-INTERVAL;VALUE=DURATION:PT1H
X-Robots-Tag:noindex
X-PUBLISHED-TTL:PT1H
BEGIN:VTIMEZONE
TZID:UTC
BEGIN:STANDARD
TZOFFSETFROM:+0000
TZOFFSETTO:+0000
TZNAME:UTC
DTSTART:20240101T000000
END:STANDARD
END:VTIMEZONE
BEGIN:VEVENT
DTSTART;TZID=UTC:20250821T180000
DTEND;TZID=UTC:20250821T193000
DTSTAMP:20260420T081229
CREATED:20250117T174506Z
LAST-MODIFIED:20250117T174506Z
UID:3440-1755799200-1755804600@www.mhafayette.org
SUMMARY:Healing Connections
DESCRIPTION:
URL:https://www.mhafayette.org/event/healing-connections-2025-08/
LOCATION:iHOP\, 702 Walmart Drive\, Uniontown\, PA\, 15401\, United States
CATEGORIES:Advocacy Calendar
END:VEVENT
END:VCALENDAR