BEGIN:VCALENDAR
VERSION:2.0
PRODID:-//Mental Health Association of Fayette County - Home of the Advocacy Network - ECPv6.15.16//NONSGML v1.0//EN
CALSCALE:GREGORIAN
METHOD:PUBLISH
X-WR-CALNAME:Mental Health Association of Fayette County - Home of the Advocacy Network
X-ORIGINAL-URL:https://www.mhafayette.org
X-WR-CALDESC:Events for Mental Health Association of Fayette County - Home of the Advocacy Network
REFRESH-INTERVAL;VALUE=DURATION:PT1H
X-Robots-Tag:noindex
X-PUBLISHED-TTL:PT1H
BEGIN:VTIMEZONE
TZID:UTC
BEGIN:STANDARD
TZOFFSETFROM:+0000
TZOFFSETTO:+0000
TZNAME:UTC
DTSTART:20240101T000000
END:STANDARD
END:VTIMEZONE
BEGIN:VEVENT
DTSTART;TZID=UTC:20250913T110000
DTEND;TZID=UTC:20250913T130000
DTSTAMP:20260420T050536
CREATED:20250725T135120Z
LAST-MODIFIED:20250725T135120Z
UID:3562-1757761200-1757768400@www.mhafayette.org
SUMMARY:Rock Painting Party
DESCRIPTION:To
URL:https://www.mhafayette.org/event/rock-painting-party-09132025/
LOCATION:Memorial Rock Garden\, 623 Fallentimber Road\, Point Marion\, PA\, 15474\, United States
CATEGORIES:Advocacy Calendar,Community Events
END:VEVENT
BEGIN:VEVENT
DTSTART;TZID=UTC:20250915T120000
DTEND;TZID=UTC:20250915T130000
DTSTAMP:20260420T050536
CREATED:20250822T170138Z
LAST-MODIFIED:20250822T170138Z
UID:3592-1757937600-1757941200@www.mhafayette.org
SUMMARY:Adult QPR
DESCRIPTION:ion
URL:https://www.mhafayette.org/event/adult-qpr-2025/
LOCATION:Fayette County Behavioral Health Administration\, 215 Jacob Murphy Lane\, Uniontown\, PA\, 15401\, United States
CATEGORIES:Advocacy Calendar,Community Events
END:VEVENT
BEGIN:VEVENT
DTSTART;TZID=UTC:20250916T103000
DTEND;TZID=UTC:20250916T113000
DTSTAMP:20260420T050536
CREATED:20241217T180543Z
LAST-MODIFIED:20241217T180543Z
UID:3380-1758018600-1758022200@www.mhafayette.org
SUMMARY:Fayette County Partners for Recovery
DESCRIPTION:Partners is a community support program to help improve services\, systems of care\, and supports for those being treated for substance use and mental health issues. Meetings are open to anyone with an interest in mental health issues and advancing the quality of life for members and people with mental health conditions. \nSome points about PARTNERS FOR RECOVERY: \n\nAt Partners for Recovery Meetings\, you can have fellowship with others in a place where everyone can share their stories and experiences in recovery.\nAs a member of this group\, you can have a voice in how money for mental health services is spent and how services can serve people better.\nYou can help the group make a difference in the community and alleviate the stigma of mental illness in society.\nWe welcome visitors who would like to take part in meetings and help us see more clearly what is working and what is not working in the local Mental Health Community.\n\nWe believe that “By promoting the principles of recovery and making relationships in the community\, the Fayette County Partners for Recovery is educating and providing public awareness of mental health”. \nFor More Information about our group\, please call (724) 320-3165.
URL:https://www.mhafayette.org/event/partners-2025-09/
LOCATION:Mental Health Association In Fayette County\, 680 Cherry Tree Lane\, Uniontown\, PA\, 15401\, United States
CATEGORIES:Advocacy Calendar
ORGANIZER;CN="Partners For Recovery":MAILTO:dmurray@mhafayette.org
END:VEVENT
BEGIN:VEVENT
DTSTART;TZID=UTC:20250917T180000
DTEND;TZID=UTC:20250917T190000
DTSTAMP:20260420T050536
CREATED:20250725T135914Z
LAST-MODIFIED:20250725T135914Z
UID:3566-1758132000-1758135600@www.mhafayette.org
SUMMARY:Rememberance Vigil to those Lost By Suicide
DESCRIPTION:
URL:https://www.mhafayette.org/event/sptfvigil2025/
LOCATION:Fayette County Courthouse\, 61 East Main Street\, Uniontown\, PA\, 15401\, United States
CATEGORIES:Advocacy Calendar,Community Events
END:VEVENT
BEGIN:VEVENT
DTSTART;TZID=UTC:20250918T090000
DTEND;TZID=UTC:20250918T150000
DTSTAMP:20260420T050536
CREATED:20250117T170505Z
LAST-MODIFIED:20250812T170500Z
UID:3422-1758186000-1758207600@www.mhafayette.org
SUMMARY:Adrienne Russell Celebrate the Family Conference
DESCRIPTION:
URL:https://www.mhafayette.org/event/adrienne-russell-celebrate-the-family-conference-2025/
LOCATION:The Ivory Ballroom\, 62 West Peter Street Rear\, Uniontown\, PA\, 15425\, United States
CATEGORIES:Advocacy Calendar
END:VEVENT
BEGIN:VEVENT
DTSTART;TZID=UTC:20250918T180000
DTEND;TZID=UTC:20250918T193000
DTSTAMP:20260420T050536
CREATED:20250117T174713Z
LAST-MODIFIED:20250919T133303Z
UID:3442-1758218400-1758223800@www.mhafayette.org
SUMMARY:Healing Connections
DESCRIPTION:
URL:https://www.mhafayette.org/event/healing-connections-2025-09/
LOCATION:Fayette County Behavioral Health Administration\, 215 Jacob Murphy Lane\, Uniontown\, PA\, 15401\, United States
CATEGORIES:Advocacy Calendar
END:VEVENT
BEGIN:VEVENT
DTSTART;TZID=UTC:20250919T083000
DTEND;TZID=UTC:20250919T103000
DTSTAMP:20260420T050536
CREATED:20250429T155608Z
LAST-MODIFIED:20250429T155608Z
UID:3497-1758270600-1758277800@www.mhafayette.org
SUMMARY:Suicide Prevention Taskforce Meeting
DESCRIPTION:These meetings occur the 3rd Friday of each month beginning in January until November\, meeting in the back dining hall of the Uniontown IHOP restaurant from 8:30 a.m. to 10:30 a.m. \n\n\n\n\n\nSuicide Prevention Taskforce Meetings \nFacilitator:  Gina Donkers \n(Third Wednesday of every month staring in January) \n\n\n\n\nDate \n\n\nStart Time \n\n\nEnd Time \n\n\nRoom(s) \n\n\n\n\nJanuary 17 \n\n\n8:30 a.m. \n\n\n10:30 a.m. \n\n\nIHOP + Zoom \n\n\n\n\nFebruary 21 \n\n\n8:30 a.m. \n\n\n10:30 a.m. \n\n\nIHOP + Zoom \n\n\n\n\nMarch 21 \n\n\n8:30 a.m. \n\n\n10:30 a.m. \n\n\nIHOP + Zoom \n\n\n\n\nApril 18 \n\n\n8:30 a.m. \n\n\n10:30 a.m. \n\n\nIHOP + Zoom \n\n\n\n\nMay 16 \n\n\n8:30 a.m. \n\n\n10:30 a.m. \n\n\nIHOP + Zoom \n\n\n\n\n*June 20* \n\n\n8:30 a.m. \n\n\n10:30 a.m. \n\n\nIHOP + Zoom \n\n\n\n\nJuly 18 \n\n\n8:30 a.m. \n\n\n10:30 a.m. \n\n\nIHOP + Zoom \n\n\n\n\nAugust 15 \n\n\n8:30 a.m. \n\n\n10:30 a.m. \n\n\nIHOP + Zoom \n\n\n\n\nSeptember 19 \n\n\n8:30 a.m. \n\n\n10:30 a.m. \n\n\nIHOP + Zoom \n\n\n\n\nOctober 17 \n\n\n8:30 a.m. \n\n\n10:30 a.m. \n\n\nIHOP + Zoom \n\n\n\n\nNovember 21 \n\n\n8:30 a.m. \n\n\n10:30 a.m. \n\n\nIHOP + Zoom
URL:https://www.mhafayette.org/event/sptf-2025-09/
LOCATION:iHOP\, 702 Walmart Drive\, Uniontown\, PA\, 15401\, United States
CATEGORIES:Advocacy Calendar
END:VEVENT
BEGIN:VEVENT
DTSTART;TZID=UTC:20250924T180000
DTEND;TZID=UTC:20250924T190000
DTSTAMP:20260420T050536
CREATED:20250725T140203Z
LAST-MODIFIED:20250725T140203Z
UID:3571-1758736800-1758740400@www.mhafayette.org
SUMMARY:Rememberance Vigil to those Lost By Suicide (Rain Date)
DESCRIPTION:
URL:https://www.mhafayette.org/event/sptfvigil2025raindate/
LOCATION:Fayette County Courthouse\, 61 East Main Street\, Uniontown\, PA\, 15401\, United States
CATEGORIES:Advocacy Calendar,Community Events
END:VEVENT
BEGIN:VEVENT
DTSTART;VALUE=DATE:20250926
DTEND;VALUE=DATE:20250927
DTSTAMP:20260420T050536
CREATED:20250902T144017Z
LAST-MODIFIED:20250902T144017Z
UID:3600-1758844800-1758931199@www.mhafayette.org
SUMMARY:Suicide Awareness Tie-Dye Day
DESCRIPTION:
URL:https://www.mhafayette.org/event/suicide-awareness-tie-dye-day2025/
LOCATION:Fayette County\, Fayette County PA\, PA\, United States
CATEGORIES:Advocacy Calendar,Community Events
END:VEVENT
END:VCALENDAR